Workbook

Sheet 2016级学生名单
A1: 2018-2019学年第二学期船舶工程学院2016级团支部公益学时统计表
A2: 班级 | B2: 学号 | C2: 姓名 | D2: 公益学时 | E2: 班级总公益学时 | F2: 班级平均公益学时 | G2: 年级平均公益学时 | H2: 加权公益学分
A3: 20160111 | B3: 2016011101 | C3: 杜炜辰 | D3: ='20160111'!E4 -> 0 | E3: =SUM(D3:D31) -> 127.5 | F3: =E3/29 -> 4.3965517 | G3: =(F3+F32+F62+F93+F120+F151+F182+F209+F239)/9 -> 3.2012069 | H3: 0
B4: 2016011102 | C4: 付天源 | D4: ='20160111'!E5 -> 0 | H4: 0
B5: 2016011103 | C5: 高锐 | D5: ='20160111'!E6 -> 0 | H5: 0
B6: 2016011104 | C6: 高翔 | D6: ='20160111'!E7 -> 0 | H6: 0
B7: 2016011105 | C7: 高小彤 | D7: ='20160111'!E8 -> 0 | H7: 0
B8: 2016011106 | C8: 何景楠 | D8: ='20160111'!E9 -> 0 | H8: 0
B9: 2016011107 | C9: 贾金鹏 | D9: ='20160111'!E10 -> 0 | H9: 0
B10: 2016011109 | C10: 梁龙龙 | D10: ='20160111'!E11 -> 18 | H10: 68.1471
B11: 2016011110 | C11: 林育望 | D11: ='20160111'!E12 -> 0 | H11: 0
B12: 2016011112 | C12: 刘正全 | D12: ='20160111'!E13 -> 0 | H12: 0
B13: 2016011113 | C13: 马国庆 | D13: ='20160111'!E14 -> 0 | H13: 0
B14: 2016011114 | C14: 马竑彧 | D14: ='20160111'!E15 -> 0 | H14: 0
B15: 2016011115 | C15: 孟繁禹 | D15: ='20160111'!E16 -> 48 | H15: 81.725601
... B31: 2016071226 | C31: 杨金鑫 | D31: ='20160111'!E32 -> 0 | H31: 0
A32: 20160112 | B32: 2016011201 | C32: 毕嵩钰 | D32: ='20160112'!E4 -> 0 | E32: =SUM(D32:D61) -> 44 | F32: =E32/30 -> 1.4666667 | H32: 0
B33: 2016011202 | C33: 曹禹 | D33: ='20160112'!E5 -> 0 | H33: 0
B34: 2016011203 | C34: 单一航 | D34: ='20160112'!E6 -> 0 | H34: 0
B35: 2016011204 | C35: 樊杰 | D35: ='20160112'!E7 -> 0 | H35: 0
B36: 2016011205 | C36: 高建林 | D36: ='20160112'!E8 -> 0 | H36: 0
B37: 2016011206 | C37: 谷绪峰 | D37: ='20160112'!E9 -> 0 | H37: 0
B38: 2016011207 | C38: 姜涛 | D38: ='20160112'!E10 -> 0 | H38: 0
B39: 2016011208 | C39: 井学斌 | D39: ='20160112'!E11 -> 0 | H39: 0
B40: 2016011209 | C40: 景重阳 | D40: ='20160112'!E12 -> 0 | H40: 0
B41: 2016011210 | C41: 李德玉 | D41: ='20160112'!E13 -> 44 | H41: 79.915134
B42: 2016011211 | C42: 李相杰 | D42: ='20160112'!E14 -> 0 | H42: 0
B43: 2016011212 | C43: 李鑫禹 | D43: ='20160112'!E15 -> 0 | H43: 0
B44: 2016011213 | C44: 刘靖 | D44: ='20160112'!E16 -> 0 | H44: 0
... B61: 2016071630 | C61: 钟景聿 | D61: ='20160112'!E33 -> 0 | H61: 0
A62: 20160113 | B62: 2016011301 | C62: 陈阔 | D62: ='20160113'!E4 -> 6 | E62: =SUM(D62:D92) -> 22.5 | F62: =E62/31 -> 0.72580645 | H62: 62.7157
B63: 2016011302 | C63: 陈卓 | D63: ='20160113'!E5 -> 3 | H63: 61.35785
B64: 2016011303 | C64: 程天琥 | D64: ='20160113'!E6 -> 0 | H64: 0
B65: 2016011304 | C65: 范吉豪 | D65: ='20160113'!E7 -> 0 | H65: 0
B66: 2016011305 | C66: 盖康雨 | D66: ='20160113'!E8 -> 1.5 | H66: 60.678925
B67: 2016011306 | C67: 高永强 | D67: ='20160113'!E9 -> 3 | H67: 61.35785
B68: 2016011307 | C68: 郭磊 | D68: ='20160113'!E10 -> 0 | H68: 0
B69: 2016011308 | C69: 韩定坤 | D69: ='20160113'!E11 -> 0 | H69: 0
B70: 2016011309 | C70: 蒋佳鑫 | D70: ='20160113'!E12 -> 0 | H70: 0
B71: 2016011310 | C71: 李家园 | D71: ='20160113'!E13 -> 0 | H71: 0
...

Sheet 2017级学生名单
A1: 2018-2019学年第二学期船舶工程学院2017级团支部公益学时统计表
A2: 班级 | B2: 学号 | C2: 姓名 | D2: 公益学时 | E2: 班级总公益学时 | F2: 班级平均公益学时 | G2: 年级平均公益学时 | H2: 加权公益学分
A3: 20170111 | B3: 2017011102 | C3: 陈启航 | D3: ='20170111'!E4 -> 46 | E3: =SUM(D3:D26) -> 528 | F3: =E3/24 -> 22 | G3: =(F3+F27+F49+F72+F95+F119+F141+F164+F190+F216+F243+F272)/12 -> 14.83293 | H3: 77.595869
B4: 2017011104 | C4: 杜德昕 | D4: ='20170111'!E5 -> 9 | H4: 63.44267
B5: 2017011105 | C5: 樊其祥 | D5: ='20170111'!E6 -> 57 | H5: 81.803577
B6: 2017011106 | C6: 高锐 | D6: ='20170111'!E7 -> 3 | H6: 61.147557
B7: 2017011107 | C7: 高适 | D7: ='20170111'!E8 -> 3 | H7: 61.147557
B8: 2017011108 | C8: 谷俊林 | D8: ='20170111'!E9 -> 104 | H8: 99.781964
B9: 2017011109 | C9: 管明阳 | D9: ='20170111'!E10 -> 97 | H9: 97.104332
B10: 2017011110 | C10: 韩爱琪 | D10: ='20170111'!E11 -> 3 | H10: 61.147557
B11: 2017011111 | C11: 郝昊 | D11: ='20170111'!E12 -> 3 | H11: 61.147557
B12: 2017011112 | C12: 洪岩 | D12: ='20170111'!E13 -> 3 | H12: 61.147557
B13: 2017011113 | C13: 霍帅文 | D13: ='20170111'!E14 -> 3 | H13: 61.147557
B14: 2017011114 | C14: 李家雨 | D14: ='20170111'!E15 -> 25 | H14: 69.562972
B15: 2017011115 | C15: 刘明亮 | D15: ='20170111'!E16 -> 17 | H15: 66.502821
... B26: 2017011130 | C26: 赵清扬 | D26: ='20170111'!E27 -> 7 | H26: 62.677632
A27: 20170112 | B27: 2017011201 | C27: 白国侠 | D27: ='20170112'!E4 -> 4 | E27: =SUM(D27:D48) -> 386.5 | F27: =E27/22 -> 17.568182 | H27: 61.530076
B28: 2017011202 | C28: 薄浩溢 | D28: ='20170112'!E5 -> 0 | H28: 0
B29: 2017011203 | C29: 陈俊鹏 | D29: ='20170112'!E6 -> 0 | H29: 0
B30: 2017011204 | C30: 崔军杰 | D30: ='20170112'!E7 -> 0 | H30: 0
B31: 2017011205 | C31: 邓小丁 | D31: ='20170112'!E8 -> 4 | H31: 61.530076
B32: 2017011206 | C32: 高港 | D32: ='20170112'!E9 -> 128.5 | H32: 100
B33: 2017011207 | C33: 郭忠宝 | D33: ='20170112'!E10 -> 4.5 | H33: 61.721335
B34: 2017011209 | C34: 黄振华 | D34: ='20170112'!E11 -> 24.5 | H34: 69.371713
B35: 2017011210 | C35: 姜晶祎 | D35: ='20170112'!E12 -> 0 | H35: 0
B36: 2017011211 | C36: 金磊 | D36: ='20170112'!E13 -> 15 | H36: 65.737783
B37: 2017011212 | C37: 刘佳琦 | D37: ='20170112'!E14 -> 0 | H37: 0
B38: 2017011213 | C38: 刘贤 | D38: ='20170112'!E15 -> 10 | H38: 63.825189
B39: 2017011215 | C39: 路昊儒 | D39: ='20170112'!E16 -> 54 | H39: 80.65602
... B48: 2017011228 | C48: 张云驰 | D48: ='20170112'!E25 -> 40 | H48: 75.300755
A49: 20170113 | B49: 2017011303 | C49: 郭继祯 | D49: ='20170113'!E4 -> 9.5 | E49: =SUM(D49:D71) -> 399 | F49: =E49/23 -> 17.347826 | H49: 63.633929
B50: 2017011304 | C50: 国瑀 | D50: ='20170113'!E5 -> 12.5 | H50: 64.781486
B51: 2017011305 | C51: 韩晓剑 | D51: ='20170113'!E6 -> 69.5 | H51: 86.585063
B52: 2017011306 | C52: 韩鑫悦 | D52: ='20170113'!E7 -> 20 | H52: 67.650378
B53: 2017011307 | C53: 和康健 | D53: ='20170113'!E8 -> 62 | H53: 83.716171
B54: 2017011309 | C54: 刘德浩 | D54: ='20170113'!E9 -> 5.5 | H54: 62.103854
B55: 2017011310 | C55: 刘山川 | D55: ='20170113'!E10 -> 0 | H55: 0
B56: 2017011311 | C56: 刘裕琪 | D56: ='20170113'!E11 -> 0 | H56: 0
B57: 2017011312 | C57: 闵锴瑞 | D57: ='20170113'!E12 -> 20.5 | H57: 67.841637
B58: 2017011313 | C58: 漆宝文 | D58: ='20170113'!E13 -> 0 | H58: 0
...

Sheet 2018级学生名单
A1: 2018-2019学年第二学期船舶工程学院2018级团支部公益学时统计表
A2: 班级 | B2: 学号 | C2: 姓名 | D2: 公益学时 | E2: 班级总公益学时 | F2: 班级平均公益学时 | G2: 年级平均公益学时 | H2: 加权公益学分
A3: 20180100 | B3: 2018010118 | C3: 陶春晖 | D3: ='20180100'!E4 -> 48 | E3: =SUM(D3:D31) -> 214.5 | F3: =E3/29 -> 7.3965517 | G3: =(F3+F32+F59+F87+F114+F140+F166+F191+F219+F247+F274+F297+F323)/13 -> 21.623849 | H3: 75.584416
B4: 2018010121 | C4: 王宁 | D4: ='20180100'!E5 -> 15 | H4: 64.87013
B5: 2018010224 | C5: 杨轩宇 | D5: ='20180100'!E6 -> 0 | H5: 60
B6: 2018010228 | C6: 朱军鹏 | D6: ='20180100'!E7 -> 4 | H6: 61.298701
B7: 2018010302 | C7: 范新升 | D7: ='20180100'!E8 -> 29 | H7: 69.415584
B8: 2018010401 | C8: 陈柏廷 | D8: ='20180100'!E9 -> 2 | H8: 60.649351
B9: 2018010415 | C9: 缪帅 | D9: ='20180100'!E10 -> 9 | H9: 62.922078
B10: 2018010422 | C10: 王海霄 | D10: ='20180100'!E11 -> 19 | H10: 66.168831
B11: 2018010503 | C11: 陈龙宇 | D11: ='20180100'!E12 -> 3 | H11: 60.974026
B12: 2018010505 | C12: 崔宗宽 | D12: ='20180100'!E13 -> 0 | H12: 60
B13: 2018010602 | C13: 邓琪 | D13: ='20180100'!E14 -> 2 | H13: 60.649351
B14: 2018010616 | C14: 闫纪冰 | D14: ='20180100'!E15 -> 0 | H14: 60
B15: 2018010627 | C15: 朱世鹏 | D15: ='20180100'!E16 -> 1.5 | H15: 60.487013
... B31: 2017011429 | C31: 赵斌 | D31: ='20180100'!E32 -> 11.5 | H31: 63.733766
A32: 20180101 | B32: 2018010101 | C32: 艾之淏 | D32: ='20180101'!E4 -> 3 | E32: =SUM(D32:D58) -> 216.5 | F32: =E32/27 -> 8.0185185 | H32: 60.974026
B33: 2018010102 | C33: 陈科宇 | D33: ='20180101'!E5 -> 60 | H33: 79.480519
B34: 2018010103 | C34: 陈兴强 | D34: ='20180101'!E6 -> 3 | H34: 60.974026
B35: 2018010104 | C35: 崔曈 | D35: ='20180101'!E7 -> 8 | H35: 62.597403
B36: 2018010105 | C36: 崔昕邈 | D36: ='20180101'!E8 -> 8 | H36: 62.597403
B37: 2018010106 | C37: 杜昊翰 | D37: ='20180101'!E9 -> 15.5 | H37: 65.032468
B38: 2018010107 | C38: 郭适源 | D38: ='20180101'!E10 -> 44.5 | H38: 74.448052
B39: 2018010108 | C39: 韩莹冰 | D39: ='20180101'!E11 -> 0 | H39: 60
B40: 2018010109 | C40: 洪安东 | D40: ='20180101'!E12 -> 0 | H40: 60
B41: 2018010110 | C41: 胡佳 | D41: ='20180101'!E13 -> 9.5 | H41: 63.084416
B42: 2018010111 | C42: 兰飞翔 | D42: ='20180101'!E14 -> 2 | H42: 60.649351
B43: 2018010112 | C43: 刘付康 | D43: ='20180101'!E15 -> 0 | H43: 60
B44: 2018010113 | C44: 刘宇 | D44: ='20180101'!E16 -> 2 | H44: 60.649351
... B58: 2018010129 | C58: 张云飞 | D58: ='20180101'!E30 -> 3 | H58: 60.974026
A59: 20180102 | B59: 2018010201 | C59: 陈奕铭 | D59: ='20180102'!E4 -> 0 | E59: =SUM(D59:D86) -> 529 | F59: =E59/28 -> 18.892857 | H59: 60
B60: 2018010202 | C60: 程力 | D60: ='20180102'!E5 -> 5 | H60: 61.623377
B61: 2018010203 | C61: 董源 | D61: ='20180102'!E6 -> 16 | H61: 65.194805
B62: 2018010204 | C62: 高相阳 | D62: ='20180102'!E7 -> 4 | H62: 61.298701
B63: 2018010205 | C63: 勾鉴明 | D63: ='20180102'!E8 -> 8 | H63: 62.597403
B64: 2018010206 | C64: 郝友铨 | D64: ='20180102'!E9 -> 4.5 | H64: 61.461039
B65: 2018010207 | C65: 侯继昌 | D65: ='20180102'!E10 -> 44 | H65: 74.285714
B66: 2018010208 | C66: 康桢耀 | D66: ='20180102'!E11 -> 44 | H66: 74.285714
B67: 2018010209 | C67: 李家兴 | D67: ='20180102'!E12 -> 59 | H67: 79.155844
B68: 2018010210 | C68: 李品男 | D68: ='20180102'!E13 -> 0 | H68: 60
...

Sheet 20160111
A1: 2019年下学期 20160111班公益学时公布表
A2: 班级 | B2: 总学时 | C2: 参与人员 | E2: 个人总学时 | F2: 以院系或团委、学生会、学指为单位开展的公益活动 | G2: 以团支部为单位开展的公益活动 | H2: 小红帽组织开展的公益活动 | I2: 私人型公益活动
C3: 学号 | D3: 姓名 | H3: 杏花林学士服志愿者 | I3: 图书馆值班 | J3: 海航器志愿者 | K3: 高招会志愿者 | L3: 迎新校园秩序维护
A4: 20160111 | B4: =SUM(E4:E32) -> 127.5 | C4: 2016011101 | D4: 杜炜辰 | E4: =SUM(F4:AC4) -> 0
C5: 2016011102 | D5: 付天源 | E5: =SUM(F5:AC5) -> 0
C6: 2016011103 | D6: 高锐 | E6: =SUM(F6:AC6) -> 0
C7: 2016011104 | D7: 高翔 | E7: =SUM(F7:AC7) -> 0
C8: 2016011105 | D8: 高小彤 | E8: =SUM(F8:AC8) -> 0
C9: 2016011106 | D9: 何景楠 | E9: =SUM(F9:AC9) -> 0
C10: 2016011107 | D10: 贾金鹏 | E10: =SUM(F10:AC10) -> 0
C11: 2016011109 | D11: 梁龙龙 | E11: =SUM(F11:AC11) -> 18 | L11: 18
C12: 2016011110 | D12: 林育望 | E12: =SUM(F12:AC12) -> 0
C13: 2016011112 | D13: 刘正全 | E13: =SUM(F13:AC13) -> 0
C14: 2016011113 | D14: 马国庆 | E14: =SUM(F14:AC14) -> 0
C15: 2016011114 | D15: 马竑彧 | E15: =SUM(F15:AC15) -> 0
C16: 2016011115 | D16: 孟繁禹 | E16: =SUM(F16:AC16) -> 48 | J16: 44 | K16: 4
C17: 2016011116 | D17: 聂英钊 | E17: =SUM(F17:AC17) -> 0
C18: 2016011117 | D18: 祁彧 | E18: =SUM(F18:AC18) -> 0
C19: 2016011118 | D19: 孙柏康 | E19: =SUM(F19:AC19) -> 0
C20: 2016011119 | D20: 孙昊天 | E20: =SUM(F20:AC20) -> 0
C21: 2016011120 | D21: 吴坤罡 | E21: =SUM(F21:AC21) -> 0
C22: 2016011121 | D22: 杨子鹏 | E22: =SUM(F22:AC22) -> 0
C23: 2016011122 | D23: 以诺 | E23: =SUM(F23:AC23) -> 0
C24: 2016011123 | D24: 张璐 | E24: =SUM(F24:AC24) -> 5.5 | H24: 1.5 | K24: 4
C25: 2016011124 | D25: 张习迪 | E25: =SUM(F25:AC25) -> 12 | I25: 8 | K25: 4
C26: 2016011125 | D26: 张岩松 | E26: =SUM(F26:AC26) -> 44 | J26: 44
C27: 2016011126 | D27: 张宇 | E27: =SUM(F27:AC27) -> 0
C28: 2016011127 | D28: 张宇昂 | E28: =SUM(F28:AC28) -> 0
C29: 2016011128 | D29: 赵丹晨 | E29: =SUM(F29:AC29) -> 0
C30: 2016011129 | D30: 朱洪锋 | E30: =SUM(F30:AC30) -> 0
C31: 2015011108 | D31: 李名哲 | E31: =SUM(F31:AC31) -> 0
C32: 2016071226 | D32: 杨金鑫 | E32: =SUM(F32:AC32) -> 0

Sheet 20160112
A1: 2019下学期20160112班公益学时公布表
A2: 班级 | B2: 总学时 | C2: 参与人员 | E2: 个人总学时 | F2: 以院系或团委、学生会、学指为单位开展的公益活动 | G2: 以团支部为单位开展的公益活动 | H2: 小红帽组织开展的公益活动 | I2: 私人型公益活动
C3: 学号 | D3: 姓名 | I3: 海航器志愿者
A4: 20160112 | B4: =SUM(E4:E33) -> 44 | C4: 2016011201 | D4: 毕嵩钰 | E4: =SUM(F4:I4) -> 0
C5: 2016011202 | D5: 曹禹 | E5: =SUM(F5:I5) -> 0
C6: 2016011203 | D6: 单一航 | E6: =SUM(F6:I6) -> 0
C7: 2016011204 | D7: 樊杰 | E7: =SUM(F7:I7) -> 0
C8: 2016011205 | D8: 高建林 | E8: =SUM(F8:I8) -> 0
C9: 2016011206 | D9: 谷绪峰 | E9: =SUM(F9:I9) -> 0
C10: 2016011207 | D10: 姜涛 | E10: =SUM(F10:I10) -> 0
C11: 2016011208 | D11: 井学斌 | E11: =SUM(F11:I11) -> 0
C12: 2016011209 | D12: 景重阳 | E12: =SUM(F12:I12) -> 0
C13: 2016011210 | D13: 李德玉 | E13: =SUM(F13:I13) -> 44 | I13: 44
C14: 2016011211 | D14: 李相杰 | E14: =SUM(F14:I14) -> 0
C15: 2016011212 | D15: 李鑫禹 | E15: =SUM(F15:I15) -> 0
C16: 2016011213 | D16: 刘靖 | E16: =SUM(F16:I16) -> 0
C17: 2016011214 | D17: 刘可宁 | E17: =SUM(F17:I17) -> 0
C18: 2016011215 | D18: 罗铭 | E18: =SUM(F18:I18) -> 0
C19: 2016011216 | D19: 浦凡 | E19: =SUM(F19:I19) -> 0
C20: 2016011217 | D20: 石松江 | E20: =SUM(F20:I20) -> 0
C21: 2016011218 | D21: 孙楠荣 | E21: =SUM(F21:I21) -> 0
C22: 2016011219 | D22: 孙松元 | E22: =SUM(F22:I22) -> 0
C23: 2016011220 | D23: 田雨 | E23: =SUM(F23:I23) -> 0
C24: 2016011221 | D24: 王培龙 | E24: =SUM(F24:I24) -> 0
C25: 2016011222 | D25: 徐双胤 | E25: =SUM(F25:I25) -> 0
... C32: 2016011229 | D32: 周巧眉 | E32: =SUM(F32:I32) -> 0
C33: 2016071630 | D33: 钟景聿 | E33: =SUM(F33:I33) -> 0

Sheet 20160113
A1: 2019年下学期 20160113班公益学时公布表
A2: 班级 | B2: 总学时 | C2: 参与人员 | E2: 个人总学时 | F2: 以院系或团委、学生会、学指为单位开展的公益活动 | G2: 以团支部为单位开展的公益活动 | I2: 小红帽组织开展的公益活动 | L2: 私人型公益活动
C3: 学号 | D3: 姓名 | G3: 6.8班助一 | H3: 6.6七彩课堂 | I3: 3.14七彩课堂 | J3: 3.21七彩课堂 | K3: 杏花林学士服志愿者
A4: 20160113 | B4: =SUM(E4:E34) -> 22.5 | C4: 2016011301 | D4: 陈阔 | E4: =SUM(F4:L4) -> 6 | J4: 3 | K4: 3
C5: 2016011302 | D5: 陈卓 | E5: =SUM(F5:L5) -> 3 | I5: 3
C6: 2016011303 | D6: 程天琥 | E6: =SUM(F6:L6) -> 0
C7: 2016011304 | D7: 范吉豪 | E7: =SUM(F7:L7) -> 0
C8: 2016011305 | D8: 盖康雨 | E8: =SUM(F8:L8) -> 1.5 | K8: 1.5
C9: 2016011306 | D9: 高永强 | E9: =SUM(F9:L9) -> 3 | G9: 3
C10: 2016011307 | D10: 郭磊 | E10: =SUM(F10:L10) -> 0
C11: 2016011308 | D11: 韩定坤 | E11: =SUM(F11:L11) -> 0
C12: 2016011309 | D12: 蒋佳鑫 | E12: =SUM(F12:L12) -> 0
C13: 2016011310 | D13: 李家园 | E13: =SUM(F13:L13) -> 0
C14: 2016011311 | D14: 李宗霖 | E14: =SUM(F14:L14) -> 0
C15: 2016011312 | D15: 林志远 | E15: =SUM(F15:L15) -> 0
C16: 2016011313 | D16: 刘浩宇 | E16: =SUM(F16:L16) -> 0
C17: 2016011314 | D17: 刘恺 | E17: =SUM(F17:L17) -> 3 | I17: 3
C18: 2016011315 | D18: 刘石 | E18: =SUM(F18:L18) -> 0
C19: 2016011316 | D19: 刘伊鹏 | E19: =SUM(F19:L19) -> 3 | I19: 3
C20: 2016011317 | D20: 龙嘉敏 | E20: =SUM(F20:L20) -> 0
C21: 2016011318 | D21: 孟帅 | E21: =SUM(F21:L21) -> 0
C22: 2016011319 | D22: 南春 | E22: =SUM(F22:L22) -> 0
C23: 2016011320 | D23: 任维哲 | E23: =SUM(F23:L23) -> 0
C24: 2016011321 | D24: 宋雨宸 | E24: =SUM(F24:L24) -> 0
C25: 2016011322 | D25: 王嘉麟 | E25: =SUM(F25:L25) -> 0
C26: 2016011323 | D26: 王鑫源 | E26: =SUM(F26:L26) -> 0
C27: 2016011324 | D27: 文安松 | E27: =SUM(F27:L27) -> 0
C28: 2016011325 | D28: 杨磊 | E28: =SUM(F28:L28) -> 0
C29: 2016011326 | D29: 杨毅 | E29: =SUM(F29:L29) -> 0
C30: 2016011327 | D30: 翟子正 | E30: =SUM(F30:L30) -> 0
C31: 2016011328 | D31: 张博 | E31: =SUM(F31:L31) -> 3 | H31: 3
C32: 2016011329 | D32: 张硕 | E32: =SUM(F32:L32) -> 0
C33: 2016011330 | D33: 张晓茜 | E33: =SUM(F33:L33) -> 0
C34: 2016071814 | D34: 沙亚锋 | E34: =SUM(F34:L34) -> 0

Sheet 20160114
A1: 2019年下学期 20160114班公益学时公布表
A2: 班级 | B2: 总学时 | C2: 参与人员 | E2: 个人总学时 | F2: 以院系或团委、学生会、学指为单位开展的公益活动 | G2: 以团支部为单位开展的公益活动 | H2: 小红帽组织开展的公益活动 | J2: 私人型公益活动
C3: 学号 | D3: 姓名 | H3: 4.25七彩课堂 | I3: 6.8海洋公益慢跑 | J3: 花园街道垃圾分类 | K3: 海航器志愿者 | L3: 研究生足球赛志愿者 | M3: 船舶博物馆志愿者
A4: 20160114 | B4: =SUM(E4:E30) -> 180.5 | C4: 2016011401 | D4: 卞鑫宇 | E4: =SUM(F4:M4) -> 12 | L4: 12
C5: 2016011402 | D5: 陈俊北 | E5: =SUM(F5:M5) -> 0
C6: 2016011403 | D6: 冯杰熹 | E6: =SUM(F6:M6) -> 0
C7: 2016011404 | D7: 葛晓威 | E7: =SUM(F7:M7) -> 0
C8: 2016011405 | D8: 龚方玉 | E8: =SUM(F8:M8) -> 64.5 | K8: 44 | M8: 20.5
C9: 2016011406 | D9: 韩松杰 | E9: =SUM(F9:M9) -> 3 | H9: 3
C10: 2016011407 | D10: 亢文辉 | E10: =SUM(F10:M10) -> 3 | H10: 3
C11: 2016011408 | D11: 雷伟程 | E11: =SUM(F11:M11) -> 2 | I11: 2
C12: 2016011409 | D12: 李铭昊 | E12: =SUM(F12:M12) -> 0
C13: 2016011410 | D13: 刘恩慧 | E13: =SUM(F13:M13) -> 0
C14: 2016011411 | D14: 刘浩东 | E14: =SUM(F14:M14) -> 44 | K14: 44
C15: 2016011412 | D15: 刘继骁 | E15: =SUM(F15:M15) -> 0
C16: 2016011414 | D16: 刘骁锋 | E16: =SUM(F16:M16) -> 0
C17: 2016011415 | D17: 栾昌福 | E17: =SUM(F17:M17) -> 0
C18: 2016011416 | D18: 马东 | E18: =SUM(F18:M18) -> 44 | K18: 44
C19: 2016011418 | D19: 唐登高 | E19: =SUM(F19:M19) -> 0
C20: 2016011419 | D20: 万明超 | E20: =SUM(F20:M20) -> 2 | J20: 2
C21: 2016011420 | D21: 万泽臣 | E21: =SUM(F21:M21) -> 4 | I21: 4
C22: 2016011421 | D22: 王蔚 | E22: =SUM(F22:M22) -> 0
C23: 2016011422 | D23: 武裕鑫 | E23: =SUM(F23:M23) -> 2 | J23: 2
C24: 2016011424 | D24: 张恩华 | E24: =SUM(F24:M24) -> 0
C25: 2016011425 | D25: 张家利 | E25: =SUM(F25:M25) -> 0
C26: 2016011426 | D26: 张旭阳 | E26: =SUM(F26:M26) -> 0
C27: 2016011428 | D27: 赵羽扬 | E27: =SUM(F27:M27) -> 0
C28: 2016011429 | D28: 朱雪源 | E28: =SUM(F28:M28) -> 0
C29: 2016011430 | D29: 祝港 | E29: =SUM(F29:M29) -> 0
C30: 2016071818 | D30: 王忠平 | E30: =SUM(F30:M30) -> 0

Sheet 20160115
A1: 2019下学期 20160115班公益学时公布表
A2: 班级 | B2: 总学时 | C2: 参与人员 | E2: 个人总学时 | F2: 以院系或团委、学生会、学指为单位开展的公益活动 | G2: 以团支部为单位开展的公益活动 | H2: 小红帽组织开展的公益活动 | I2: 私人型公益活动
C3: 学号 | D3: 姓名 | I3: 高招会志愿者
A4: 20160115 | B4: =SUM(E4:E34) -> 4 | C4: 2016011501 | D4: 郭广宇 | E4: =SUM(F4:N4) -> 0
C5: 2016011502 | D5: 郭腾 | E5: =SUM(F5:N5) -> 0
C6: 2016011503 | D6: 侯思宇 | E6: =SUM(F6:N6) -> 0
C7: 2016011504 | D7: 胡潇佳 | E7: =SUM(F7:N7) -> 0
C8: 2016011505 | D8: 景锐洁 | E8: =SUM(F8:N8) -> 0
C9: 2016011506 | D9: 李鸿远 | E9: =SUM(F9:N9) -> 0
C10: 2016011507 | D10: 李家辉 | E10: =SUM(F10:N10) -> 0
C11: 2016011508 | D11: 李立豪 | E11: =SUM(F11:N11) -> 0
C12: 2016011509 | D12: 李政谋 | E12: =SUM(F12:N12) -> 0
C13: 2016011510 | D13: 刘广 | E13: =SUM(F13:N13) -> 0
C14: 2016011511 | D14: 罗春苗 | E14: =SUM(F14:N14) -> 0
C15: 2016011512 | D15: 彭芷昕 | E15: =SUM(F15:N15) -> 4 | I15: 4
C16: 2016011513 | D16: 任经红 | E16: =SUM(F16:N16) -> 0
C17: 2016011514 | D17: 邵宇航 | E17: =SUM(F17:N17) -> 0
C18: 2016011515 | D18: 舒江政 | E18: =SUM(F18:N18) -> 0
C19: 2016011516 | D19: 王佳奇 | E19: =SUM(F19:N19) -> 0
C20: 2016011517 | D20: 王嘉欣 | E20: =SUM(F20:N20) -> 0
C21: 2016011518 | D21: 王焱 | E21: =SUM(F21:N21) -> 0
C22: 2016011519 | D22: 王哲 | E22: =SUM(F22:N22) -> 0
C23: 2016011520 | D23: 吴其远 | E23: =SUM(F23:N23) -> 0
C24: 2016011521 | D24: 吴晓涵 | E24: =SUM(F24:N24) -> 0
C25: 2016011522 | D25: 向希 | E25: =SUM(F25:N25) -> 0
C26: 2016011523 | D26: 谢逸鸣 | E26: =SUM(F26:N26) -> 0
C27: 2016011524 | D27: 徐培鸿 | E27: =SUM(F27:N27) -> 0
... C33: 2016011530 | D33: 钟贻 | E33: =SUM(F33:N33) -> 0
C34: 2016101218 | D34: 王嘉捷 | E34: =SUM(F34:N34) -> 0

Sheet 20160116
A1: 2019年下学期 20160116班公益学时公布表
A2: 班级 | B2: 总学时 | C2: 参与人员 | E2: 个人总学时 | F2: 以院系或团委、学生会、学指为单位开展的公益活动 | G2: 以团支部为单位开展的公益活动 | H2: 小红帽组织开展的公益活动 | I2: 私人型公益活动
C3: 学号 | D3: 姓名 | H3: 6.8海洋公益慢跑
A4: 20160116 | B4: =SUM(E4:E34) -> 2 | C4: 2016011601 | D4: 曹远 | E4: =SUM(F4:I4) -> 2 | H4: 2
C5: 2016011602 | D5: 陈诚 | E5: =SUM(F5:I5) -> 0
C6: 2016011603 | D6: 陈维欣 | E6: =SUM(F6:I6) -> 0
C7: 2016011604 | D7: 陈哲 | E7: =SUM(F7:I7) -> 0
C8: 2016011605 | D8: 迟子涵 | E8: =SUM(F8:I8) -> 0
C9: 2016011606 | D9: 龚民江 | E9: =SUM(F9:I9) -> 0
C10: 2016011607 | D10: 郭啸寒 | E10: =SUM(F10:I10) -> 0
C11: 2016011608 | D11: 鞠欣洋 | E11: =SUM(F11:I11) -> 0
C12: 2016011609 | D12: 黎梦坤 | E12: =SUM(F12:I12) -> 0
C13: 2016011610 | D13: 李福庚 | E13: =SUM(F13:I13) -> 0
C14: 2016011611 | D14: 李宏涛 | E14: =SUM(F14:I14) -> 0
C15: 2016011612 | D15: 李江昊 | E15: =SUM(F15:I15) -> 0
C16: 2016011613 | D16: 刘港慧 | E16: =SUM(F16:I16) -> 0
... C33: 2016011630 | D33: 邹通达 | E33: =SUM(F33:I33) -> 0
C34: 2015011630 | D34: 安帅 | E34: =SUM(F34:I34) -> 0

Sheet 20160117
A1: 2019年下学期 20160117班公益学时公布表
A2: 班级 | B2: 总学时 | C2: 参与人员 | E2: 个人总学时 | F2: 以院系或团委、学生会、学指为单位开展的公益活动 | G2: 以团支部为单位开展的公益活动 | H2: 小红帽组织开展的公益活动 | K2: 私人型公益活动
C3: 学号 | D3: 姓名 | G3: 4.15古梨园清扫 | H3: 杏花林学士服志愿者 | I3: 爱心长跑 | J3: 6.8海洋公益慢跑 | K3: 5.11船海楼志愿者 | L3: 杏花节志愿活动 | M3: 海洋文化馆志愿者 | N3: 虹桥中学参观活动 | O3: 海航器志愿者 | P3: 6.4船海楼整理档案 | Q3: 高招会志愿者
A4: 20160117 | B4: =SUM(E4:E30) -> 184.5 | C4: 2016011701 | D4: 安欣然 | E4: =SUM(F4:AG4) -> 0
C5: 2016011702 | D5: 毕鸢博 | E5: =SUM(F5:AG5) -> 15 | G5: 2 | I5: 3 | J5: 2 | K5: 4 | Q5: 4
C6: 2016011703 | D6: 蔡乔蒙 | E6: =SUM(F6:AG6) -> 0
C7: 2016011704 | D7: 陈航宇 | E7: =SUM(F7:AG7) -> 7 | P7: 3 | Q7: 4
C8: 2016011705 | D8: 迟厚新 | E8: =SUM(F8:AG8) -> 0
C9: 2016011706 | D9: 费英杰 | E9: =SUM(F9:AG9) -> 0
C10: 2016011707 | D10: 简帆 | E10: =SUM(F10:AG10) -> 0
C11: 2016011708 | D11: 蒋振宇 | E11: =SUM(F11:AG11) -> 0
C12: 2016011709 | D12: 康子雄 | E12: =SUM(F12:AG12) -> 0
C13: 2016011710 | D13: 李林杰 | E13: =SUM(F13:AG13) -> 0
C14: 2016011712 | D14: 刘润男 | E14: =SUM(F14:AG14) -> 2 | G14: 2
C15: 2016011713 | D15: 陆嘉炜 | E15: =SUM(F15:AG15) -> 0
C16: 2016011714 | D16: 曲悦含 | E16: =SUM(F16:AG16) -> 2 | G16: 2
C17: 2016011715 | D17: 田寓侨 | E17: =SUM(F17:AG17) -> 0
C18: 2016011716 | D18: 涂宇 | E18: =SUM(F18:AG18) -> 0
C19: 2016011717 | D19: 汪磊 | E19: =SUM(F19:AG19) -> 0
C20: 2016011718 | D20: 王乾 | E20: =SUM(F20:AG20) -> 0
C21: 2016011719 | D21: 王赢旋 | E21: =SUM(F21:AG21) -> 2 | G21: 2
C22: 2016011720 | D22: 王震 | E22: =SUM(F22:AG22) -> 0
C23: 2016011721 | D23: 吴树功 | E23: =SUM(F23:AG23) -> 0
C24: 2016011722 | D24: 谢盼 | E24: =SUM(F24:AG24) -> 3.5 | G24: 2 | H24: 1.5
C25: 2016011723 | D25: 许海威 | E25: =SUM(F25:AG25) -> 0
C26: 2016011725 | D26: 闫瑞丰 | E26: =SUM(F26:AG26) -> 0
C27: 2016011726 | D27: 彦祥宇 | E27: =SUM(F27:AG27) -> 22 | M27: 22
C28: 2016011727 | D28: 张文杰 | E28: =SUM(F28:AG28) -> 124 | G28: 2 | L28: 30 | M28: 42 | N28: 6 | O28: 44
C29: 2016011728 | D29: 张志洋 | E29: =SUM(F29:AG29) -> 7 | G29: 2 | I29: 3 | J29: 2
C30: 2016011729 | D30: 钟维格 | E30: =SUM(F30:AG30) -> 0

Sheet 20160121
A1: 2019年下学期 20160121班公益学时公布表
A2: 班级 | B2: 总学时 | C2: 参与人员 | E2: 个人总学时 | F2: 以院系或团委、学生会、学指为单位开展的公益活动 | G2: 以团支部为单位开展的公益活动 | H2: 小红帽组织开展的公益活动 | I2: 私人型公益活动
C3: 学号 | D3: 姓名 | H3: 杏花林学士服志愿者 | I3: 校医院志愿者 | J3: 海航器志愿者 | K3: 6.4船海楼整理档案
A4: 20160121 | B4: =SUM(E4:E33) -> 96.5 | C4: 2016012101 | D4: 蔡默耕 | E4: =SUM(F4:K4) -> 0
C5: 2016012102 | D5: 陈文越 | E5: =SUM(F5:K5) -> 0
C6: 2016012103 | D6: 笪贤楠 | E6: =SUM(F6:K6) -> 0
C7: 2016012104 | D7: 丁海鑫 | E7: =SUM(F7:K7) -> 0
C8: 2016012105 | D8: 董士宇 | E8: =SUM(F8:K8) -> 0
C9: 2016012106 | D9: 郭雪卿 | E9: =SUM(F9:K9) -> 96.5 | H9: 1.5 | I9: 48 | J9: 44 | K9: 3
C10: 2016012107 | D10: 侯建彬 | E10: =SUM(F10:K10) -> 0
C11: 2016012108 | D11: 黄启阳 | E11: =SUM(F11:K11) -> 0
C12: 2016012109 | D12: 贾延铄 | E12: =SUM(F12:K12) -> 0
C13: 2016012110 | D13: 卢坤坤 | E13: =SUM(F13:K13) -> 0
C14: 2016012111 | D14: 聂凡 | E14: =SUM(F14:K14) -> 0
C15: 2016012112 | D15: 牛昱翔 | E15: =SUM(F15:K15) -> 0
C16: 2016012113 | D16: 曲锦轩 | E16: =SUM(F16:K16) -> 0
C17: 2016012114 | D17: 沈媛 | E17: =SUM(F17:K17) -> 0
C18: 2016012115 | D18: 谭宇坤 | E18: =SUM(F18:K18) -> 0
C19: 2016012116 | D19: 王腾峰 | E19: =SUM(F19:K19) -> 0
C20: 2016012117 | D20: 王羽钧 | E20: =SUM(F20:K20) -> 0
C21: 2016012118 | D21: 吴中寅 | E21: =SUM(F21:K21) -> 0
... C33: 2014012124 | D33: 张兆宇 | E33: =SUM(F33:K33) -> 0

Sheet 20160122
A1: 2019年下学期 20160122班公益学时公布表
A2: 班级 | B2: 总学时 | C2: 参与人员 | E2: 个人总学时 | F2: 以院系或团委、学生会、学指为单位开展的公益活动 | G2: 以团支部为单位开展的公益活动 | I2: 小红帽组织开展的公益活动 | K2: 私人型公益活动
C3: 学号 | D3: 姓名 | G3: 6.23慰问活动 | H3: 6.23清理小广告 | I3: 杏花林学士服志愿者 | J3: 6.8海洋公益慢跑 | K3: 2019年迎新工作人员 | L3: 校青协迎新 | M3: 兴海论坛 | N3: 爱心长跑 | O3: 海航器志愿者 | P3: 高招会志愿者
A4: 20160122 | B4: =SUM(E4:E32) -> 153.5 | C4: 2016012201 | D4: 陈博耀 | E4: =SUM(F4:AD4) -> 0
C5: 2016012202 | D5: 戴晨曦 | E5: =SUM(F5:AD5) -> 0
C6: 2016012203 | D6: 顾茜婷 | E6: =SUM(F6:AD6) -> 15.5 | G6: 3 | H6: 3 | I6: 1.5 | M6: 4 | P6: 4
C7: 2016012204 | D7: 郝伟 | E7: =SUM(F7:AD7) -> 17 | J7: 2 | L7: 11 | P7: 4
C8: 2016012205 | D8: 何鑫 | E8: =SUM(F8:AD8) -> 0
C9: 2016012206 | D9: 黄孙娅 | E9: =SUM(F9:AD9) -> 12 | G9: 3 | H9: 3 | I9: 3 | N9: 3
C10: 2016012207 | D10: 蒋旭 | E10: =SUM(F10:AD10) -> 6 | G10: 3 | H10: 3
C11: 2016012208 | D11: 景一鸣 | E11: =SUM(F11:AD11) -> 0
C12: 2016012209 | D12: 李京辉 | E12: =SUM(F12:AD12) -> 6 | G12: 3 | H12: 3
C13: 2016012210 | D13: 刘浩南 | E13: =SUM(F13:AD13) -> 6 | G13: 3 | H13: 3
C14: 2016012211 | D14: 刘明秋 | E14: =SUM(F14:AD14) -> 0
C15: 2016012212 | D15: 刘铭飞 | E15: =SUM(F15:AD15) -> 0
C16: 2016012213 | D16: 刘振坤 | E16: =SUM(F16:AD16) -> 6 | G16: 3 | H16: 3
C17: 2016012214 | D17: 罗航 | E17: =SUM(F17:AD17) -> 0
C18: 2016012215 | D18: 冒刘鹏 | E18: =SUM(F18:AD18) -> 9 | G18: 3 | H18: 3 | I18: 3
C19: 2016012216 | D19: 彭钟湖 | E19: =SUM(F19:AD19) -> 0
C20: 2016012217 | D20: 唐毓鑫 | E20: =SUM(F20:AD20) -> 0
C21: 2016012218 | D21: 田子锐 | E21: =SUM(F21:AD21) -> 0
C22: 2016012219 | D22: 王佳雯 | E22: =SUM(F22:AD22) -> 7.5 | G22: 3 | H22: 3 | I22: 1.5
C23: 2016012220 | D23: 王洁 | E23: =SUM(F23:AD23) -> 68.5 | G23: 3 | H23: 3 | I23: 1.5 | K23: 6 | M23: 4 | N23: 3 | O23: 44 | P23: 4
C24: 2016012221 | D24: 王旭晨 | E24: =SUM(F24:AD24) -> 0
C25: 2016012222 | D25: 王一鸣 | E25: =SUM(F25:AD25) -> 0
C26: 2016012223 | D26: 王一平 | E26: =SUM(F26:AD26) -> 0
C27: 2016012224 | D27: 王志杰 | E27: =SUM(F27:AD27) -> 0
C28: 2016012225 | D28: 魏晓志 | E28: =SUM(F28:AD28) -> 0
C29: 2016012226 | D29: 吴桐 | E29: =SUM(F29:AD29) -> 0
C30: 2016012227 | D30: 谢申波 | E30: =SUM(F30:AD30) -> 0
C31: 2016012228 | D31: 薛方俊 | E31: =SUM(F31:AD31) -> 0
C32: 2016012229 | D32: 周昭民 | E32: =SUM(F32:AD32) -> 0

Sheet 20170111
A1: 2019年下学期20170111班公益学时公布表
A2: 班级 | B2: 总学时 | C2: 参与人员 | E2: 个人总学时 | F2: 以院系或团委、学生会、学指为单位开展的公益活动 | G2: 以团支部为单位开展的公益活动 | H2: 小红帽组织开展的公益活动 | J2: 私人型公益活动
C3: 学号 | D3: 姓名 | G3: 暑期社会实践三下乡 | H3: 捐书 | I3: 杏花林学士服志愿者 | J3: 点亮蓝灯志愿活动 | K3: 市医院志愿者 | L3: 船舶馆志愿者 | M3: 2019年新生导航员 | N3: 海航器志愿者 | O3: 高招会志愿者 | P3: 开心宝贝 | Q3: 守护星星 | R3: 书法比赛志愿者 | S3: 迎新校园秩序维护 | T3: 五四表彰大会志愿者 | U3: 教代会志愿者
A4: 20170111 | B4: =SUM(E4:E27) -> 528 | C4: 2017011102 | D4: 陈启航 | E4: =SUM(F4:Z4) -> 46 | G4: 10 | H4: 2 | J4: 3 | L4: 31
C5: 2017011104 | D5: 杜德昕 | E5: =SUM(F5:Z5) -> 9 | H5: 2 | J5: 3 | P5: 4
C6: 2017011105 | D6: 樊其祥 | E6: =SUM(F6:Z6) -> 57 | J6: 3 | M6: 6 | N6: 44 | P6: 4
C7: 2017011106 | D7: 高锐 | E7: =SUM(F7:Z7) -> 3 | J7: 3
C8: 2017011107 | D8: 高适 | E8: =SUM(F8:Z8) -> 3 | J8: 3
C9: 2017011108 | D9: 谷俊林 | E9: =SUM(F9:Z9) -> 104 | J9: 3 | K9: 12 | P9: 32 | Q9: 18 | R9: 4 | S9: 35
C10: 2017011109 | D10: 管明阳 | E10: =SUM(F10:Z10) -> 97 | J10: 3 | K10: 50 | N10: 44
C11: 2017011110 | D11: 韩爱琪 | E11: =SUM(F11:Z11) -> 3 | J11: 3
C12: 2017011111 | D12: 郝昊 | E12: =SUM(F12:Z12) -> 3 | J12: 3
C13: 2017011112 | D13: 洪岩 | E13: =SUM(F13:Z13) -> 3 | J13: 3
C14: 2017011113 | D14: 霍帅文 | E14: =SUM(F14:Z14) -> 3 | J14: 3
C15: 2017011114 | D15: 李家雨 | E15: =SUM(F15:Z15) -> 25 | G15: 10 | J15: 3 | O15: 4 | P15: 4 | S15: 4
C16: 2017011115 | D16: 刘明亮 | E16: =SUM(F16:Z16) -> 17 | G16: 10 | J16: 3 | P16: 4
C17: 2017011116 | D17: 刘鹏 | E17: =SUM(F17:Z17) -> 21 | G17: 10 | J17: 3 | O17: 4 | P17: 4
C18: 2017011118 | D18: 龙镜冰 | E18: =SUM(F18:Z18) -> 17 | G18: 10 | J18: 3 | P18: 4
C19: 2017011120 | D19: 毛家圆 | E19: =SUM(F19:Z19) -> 64 | G19: 10 | J19: 3 | P19: 4 | S19: 35 | T19: 4 | U19: 8
C20: 2017011121 | D20: 孟令晗 | E20: =SUM(F20:Z20) -> 7 | J20: 3 | P20: 4
C21: 2017011122 | D21: 钱睿 | E21: =SUM(F21:Z21) -> 0
C22: 2017011123 | D22: 王宇洋 | E22: =SUM(F22:Z22) -> 7 | J22: 3 | P22: 4
C23: 2017011124 | D23: 王子灏 | E23: =SUM(F23:Z23) -> 7 | J23: 3 | P23: 4
C24: 2017011125 | D24: 谢千慧 | E24: =SUM(F24:Z24) -> 11 | J24: 3 | P24: 8
C25: 2017011127 | D25: 杨晨 | E25: =SUM(F25:Z25) -> 7 | J25: 3 | P25: 4
C26: 2017011128 | D26: 杨涵辰 | E26: =SUM(F26:Z26) -> 7 | J26: 3 | P26: 4
C27: 2017011130 | D27: 赵清扬 | E27: =SUM(F27:Z27) -> 7 | J27: 3 | P27: 4

Sheet 20170112
A1: 2019年下学期20170112班公益学时公布表
A2: 班级 | B2: 总学时 | C2: 参与人员 | E2: 个人总学时 | F2: 以院系或团委、学生会、学指为单位开展的公益活动 | G2: 以团支部为单位开展的公益活动 | H2: 小红帽组织开展的公益活动 | Q2: 私人型公益活动
C3: 学号 | D3: 姓名 | G3: 暑期社会实践三下乡 | H3: 3.10学雷锋敬老院 | I3: 3.9学雷锋社区 | J3: 3.12育红小学 | K3: 4.11七彩课堂 | L3: 4.18七彩课堂 | M3: 4.5烈士陵园祭扫 | N3: 5.23七彩课堂 | O3: 杏花林学士服志愿者 | P3: 档案馆查资料 | Q3: 东北五校双选会志愿者 | R3: 船舶馆值班 | S3: 校医院志愿者 | T3: 制作毕业证书志愿者 | U3: 毕业典礼志愿者 | V3: 迎新校园秩序维护 | W3: 2019年新生导航员 | X3: 2019年迎新工作人员 | Y3: 海航器志愿者 | Z3: 高招会志愿者
A4: 20170112 | B4: =SUM(E4:E25) -> 386.5 | C4: 2017011201 | D4: 白国侠 | E4: =SUM(F4:AM4) -> 4 | Z4: 4
C5: 2017011202 | D5: 薄浩溢 | E5: =SUM(F5:AM5) -> 0
C6: 2017011203 | D6: 陈俊鹏 | E6: =SUM(F6:AM6) -> 0
C7: 2017011204 | D7: 崔军杰 | E7: =SUM(F7:AM7) -> 0
C8: 2017011205 | D8: 邓小丁 | E8: =SUM(F8:AM8) -> 4 | Z8: 4
C9: 2017011206 | D9: 高港 | E9: =SUM(F9:AM9) -> 128.5 | G9: 7 | P9: 1.5 | Q9: 6 | R9: 30 | T9: 3 | U9: 6 | V9: 25 | W9: 6 | Y9: 44
C10: 2017011207 | D10: 郭忠宝 | E10: =SUM(F10:AM10) -> 4.5 | J10: 3 | O10: 1.5
C11: 2017011209 | D11: 黄振华 | E11: =SUM(F11:AM11) -> 24.5 | G11: 7 | J11: 4.5 | L11: 3 | M11: 3 | O11: 3 | Z11: 4
C12: 2017011210 | D12: 姜晶祎 | E12: =SUM(F12:AM12) -> 0
C13: 2017011211 | D13: 金磊 | E13: =SUM(F13:AM13) -> 15 | H13: 3 | K13: 3 | M13: 3 | N13: 3 | O13: 3
C14: 2017011212 | D14: 刘佳琦 | E14: =SUM(F14:AM14) -> 0
C15: 2017011213 | D15: 刘贤 | E15: =SUM(F15:AM15) -> 10 | U15: 6 | Z15: 4
C16: 2017011215 | D16: 路昊儒 | E16: =SUM(F16:AM16) -> 54 | U16: 6 | Y16: 44 | Z16: 4
C17: 2017011217 | D17: 施伟东 | E17: =SUM(F17:AM17) -> 10 | U17: 6 | Z17: 4
C18: 2017011218 | D18: 宋浩文 | E18: =SUM(F18:AM18) -> 75 | G18: 7 | S18: 8 | U18: 6 | X18: 6 | Y18: 44 | Z18: 4
C19: 2017011220 | D19: 涂潇 | E19: =SUM(F19:AM19) -> 0
C20: 2017011221 | D20: 王唯冰 | E20: =SUM(F20:AM20) -> 0
C21: 2017011222 | D21: 许明杰 | E21: =SUM(F21:AM21) -> 0
C22: 2017011223 | D22: 薛瑛杰 | E22: =SUM(F22:AM22) -> 17 | G22: 7 | U22: 6 | Z22: 4
C23: 2017011224 | D23: 杨文沛 | E23: =SUM(F23:AM23) -> 0
C24: 2017011227 | D24: 张璇 | E24: =SUM(F24:AM24) -> 0
C25: 2017011228 | D25: 张云驰 | E25: =SUM(F25:AM25) -> 40 | G25: 7 | I25: 3 | J25: 4.5 | L25: 3 | M25: 3 | N25: 3 | O25: 4.5 | Q25: 6 | U25: 6

Sheet 20170113
A1: 2019下学期20170113班公益学时公布表
A2: 班级 | B2: 总学时 | C2: 参与人员 | E2: 个人总学时 | F2: 以院系或团委、学生会、学指为单位开展的公益活动 | H2: 以团支部为单位开展的公益活动 | J2: 小红帽组织开展的公益活动 | P2: 私人型公益活动
C3: 学号 | D3: 姓名 | G3: 暑期社会实践三下乡 | H3: 3.31班助一 | I3: 3.24班助一 | J3: 3.10学雷锋敬老院 | K3: 3.28七彩课堂 | L3: 捐书 | M3: 4.5烈士陵园祭扫 | N3: 5.16七彩课堂 | O3: 杏花林学士服志愿者 | P3: 5.17.18国际会议志愿者 | Q3: 4.12船海楼文档整理 | R3: 高招会志愿者 | S3: 校史馆志愿者 | T3: 军工纪念馆志愿者 | U3: 杏花节志愿者 | V3: 海洋馆志愿者 | W3: 海航器志愿者 | X3: 2019年新生导航员 | Y3: 2019年迎新工作人员 | Z3: 高招会志愿者
A4: 20170113 | B4: =SUM(E5:E26) -> 389.5 | C4: 2017011303 | D4: 郭继祯 | E4: =SUM(F4:AH4) -> 9.5 | O4: 1.5 | R4: 4 | Z4: 4
C5: 2017011304 | D5: 国瑀 | E5: =SUM(F5:AH5) -> 12.5 | H5: 3 | J5: 3 | L5: 2 | M5: 3 | O5: 1.5
C6: 2017011305 | D6: 韩晓剑 | E6: =SUM(F6:AH6) -> 69.5 | G6: 3 | I6: 3 | L6: 2 | O6: 1.5 | Q6: 2 | R6: 4 | W6: 44 | X6: 6 | Z6: 4
C7: 2017011306 | D7: 韩鑫悦 | E7: =SUM(F7:AH7) -> 20 | G7: 3 | H7: 3 | J7: 3 | K7: 3 | L7: 2 | M7: 3 | N7: 3
C8: 2017011307 | D8: 和康健 | E8: =SUM(F8:AH8) -> 62 | R8: 4 | T8: 4 | U8: 18 | V8: 32 | Z8: 4
C9: 2017011309 | D9: 刘德浩 | E9: =SUM(F9:AH9) -> 5.5 | L9: 2 | O9: 1.5 | Q9: 2
C10: 2017011310 | D10: 刘山川 | E10: =SUM(F10:AH10) -> 0
C11: 2017011311 | D11: 刘裕琪 | E11: =SUM(F11:AH11) -> 0
C12: 2017011312 | D12: 闵锴瑞 | E12: =SUM(F12:AH12) -> 20.5 | I12: 3 | O12: 1.5 | Q12: 2 | R12: 4 | X12: 6 | Z12: 4
C13: 2017011313 | D13: 漆宝文 | E13: =SUM(F13:AH13) -> 0
C14: 2017011314 | D14: 任义 | E14: =SUM(F14:AH14) -> 0
C15: 2017011315 | D15: 申达 | E15: =SUM(F15:AH15) -> 50 | W15: 44 | Y15: 6
C16: 2017011316 | D16: 王标 | E16: =SUM(F16:AH16) -> 50 | G16: 3 | H16: 3 | V16: 44
C17: 2017011317 | D17: 王洁露 | E17: =SUM(F17:AH17) -> 21 | G17: 3 | L17: 2 | P17: 8 | R17: 4 | Z17: 4
C18: 2017011318 | D18: 王世鹏 | E18: =SUM(F18:AH18) -> 47.5 | G18: 3 | T18: 38.5 | Y18: 6
C19: 2017011319 | D19: 王首杭 | E19: =SUM(F19:AH19) -> 7.5 | H19: 3 | I19: 3 | O19: 1.5
C20: 2017011320 | D20: 王玮 | E20: =SUM(F20:AH20) -> 0
C21: 2017011321 | D21: 王欣然 | E21: =SUM(F21:AH21) -> 0
C22: 2017011325 | D22: 张冬月 | E22: =SUM(F22:AH22) -> 23.5 | L22: 2 | R22: 4 | S22: 13.5 | Z22: 4
C23: 2017011326 | D23: 张笑通 | E23: =SUM(F23:AH23) -> 0
C24: 2017011327 | D24: 张宜程 | E24: =SUM(F24:AH24) -> 0
C25: 2017011329 | D25: 周晏霈 | E25: =SUM(F25:AH25) -> 0
C26: 2017011330 | D26: 朱云涛 | E26: =SUM(F26:AH26) -> 0

Sheet 20170114
A1: 2019年下学期20170114班公益学时公布表
A2: 班级 | B2: 总学时 | C2: 参与人员 | E2: 个人总学时 | F2: 以院系或团委、学生会、学指为单位开展的公益活动 | G2: 以团支部为单位开展的公益活动 | J2: 小红帽组织开展的公益活动 | T2: 私人公益活动
C3: 学号 | D3: 姓名 | G3: 暑期社会实践三下乡 | H3: 4.3烈士陵园扫墓 | I3: 6.11儿童福利院 | J3: 3.28七彩课堂 | K3: 4.18七彩课堂 | L3: 捐书 | M3: 3.9学雷锋社区 | N3: 4.5烈士陵园祭扫活动 | O3: 5.16七彩课堂 | P3: 杏花林学士服志愿者 | Q3: 医院志愿者 | R3: 军工纪念馆志愿者 | S3: 高考咨询会志愿者 | T3: 2019年新生导航员 | U3: 对垃圾分类认识的统计 | V3: 海航器志愿者 | W3: 暑期志愿者 | X3: 高招会志愿者
A4: 20170114 | B4: =SUM(E4:E26) -> 431.5 | C4: 2017011401 | D4: 曹霜蕾 | E4: =SUM(F4:AI4) -> 9 | J4: 3 | M4: 3 | O4: 3
C5: 2017011402 | D5: 昌力 | E5: =SUM(F5:AI5) -> 20.5 | H5: 3 | I5: 2 | L5: 2 | U5: 1.5 | W5: 12
C6: 2017011403 | D6: 陈虹廷 | E6: =SUM(F6:AI6) -> 105.5 | Q6: 8 | S6: 6 | U6: 1.5 | V6: 44 | W6: 42 | X6: 4
C7: 2017011404 | D7: 陈雷 | E7: =SUM(F7:AI7) -> 21.5 | G7: 1.5 | H7: 3 | I7: 2 | K7: 3 | M7: 3 | N7: 3 | P7: 4.5 | U7: 1.5
C8: 2017011405 | D8: 陈浠 | E8: =SUM(F8:AI8) -> 14 | H8: 3 | I8: 2 | L8: 2 | P8: 1.5 | Q8: 4 | U8: 1.5
C9: 2017011406 | D9: 崔博文 | E9: =SUM(F9:AI9) -> 11.5 | G9: 1.5 | H9: 3 | I9: 2 | L9: 2 | P9: 1.5 | U9: 1.5
C10: 2017011407 | D10: 董昊 | E10: =SUM(F10:AI10) -> 8.5 | H10: 3 | I10: 2 | L10: 2 | U10: 1.5
C11: 2017011408 | D11: 高炎宁 | E11: =SUM(F11:AI11) -> 7 | H11: 3 | I11: 2 | L11: 2
C12: 2017011409 | D12: 韩兆亮 | E12: =SUM(F12:AI12) -> 63.5 | G12: 1.5 | H12: 3 | I12: 2 | P12: 1.5 | S12: 6 | U12: 1.5 | V12: 44 | X12: 4
C13: 2017011411 | D13: 李昌恩 | E13: =SUM(F13:AI13) -> 25.5 | H13: 3 | I13: 2 | P13: 3 | S13: 6 | T13: 6 | U13: 1.5 | X13: 4
C14: 2017011414 | D14: 刘逸飞 | E14: =SUM(F14:AI14) -> 8 | G14: 1.5 | H14: 3 | I14: 2 | U14: 1.5
C15: 2017011415 | D15: 刘英浩 | E15: =SUM(F15:AI15) -> 5 | H15: 3 | I15: 2
C16: 2017011416 | D16: 麻云平 | E16: =SUM(F16:AI16) -> 8 | G16: 1.5 | H16: 3 | I16: 2 | U16: 1.5
C17: 2017011417 | D17: 钱瑞文 | E17: =SUM(F17:AI17) -> 6.5 | H17: 3 | I17: 2 | U17: 1.5
C18: 2017011418 | D18: 沙兆赫 | E18: =SUM(F18:AI18) -> 4.5 | H18: 3 | U18: 1.5
C19: 2017011419 | D19: 宋志斌 | E19: =SUM(F19:AI19) -> 52.5 | H19: 3 | Q19: 4 | U19: 1.5 | V19: 44
C20: 2017011421 | D20: 王君杰 | E20: =SUM(F20:AI20) -> 30.5 | H20: 3 | R20: 27.5
C21: 2017011423 | D21: 王宇涵 | E21: =SUM(F21:AI21) -> 4.5 | H21: 3 | U21: 1.5
C22: 2017012111 | D22: 李雨馨 | E22: =SUM(F22:AI22) -> 3 | H22: 3
C23: 2017012127 | D23: 赵迪 | E23: =SUM(F23:AI23) -> 13 | H23: 3 | S23: 6 | X23: 4
C24: 2017020218 | D24: 王鹏飞 | E24: =SUM(F24:AI24) -> 6.5 | H24: 3 | I24: 2 | U24: 1.5
C25: 2017071506 | D25: 高铭辰 | E25: =SUM(F25:AI25) -> 3 | H25: 3
C26: 2017201317 | D26: 孙路程 | E26: =SUM(F26:AI26) -> 0

Sheet 20170115
A1: 2019年下学期20170115班公益学时公布表
A2: 班级 | B2: 总学时 | C2: 参与人员 | E2: 个人总学时 | F2: 以院系或团委、学生会、学指为单位开展的公益活动 | G2: 以团支部为单位开展的公益活动 | H2: 小红帽组织开展的公益活动 | P2: 私人型公益活动
C3: 学号 | D3: 姓名 | G3: 暑期社会实践三下乡 | H3: 3.10学雷锋敬老院 | I3: 5.9七彩课堂 | J3: 杏花林学士服志愿者 | K3: 船舶馆值班 | L3: 暑期志愿者活动 | M3: 扫墓 | N3: 海洋文化馆志愿者 | O3: 船海楼活动 | P3: 2019年迎新工作人员 | Q3: 海航器志愿者 | R3: 高招会志愿者
A4: 20170115 | B4: =SUM(E4:E27) -> 255.5 | C4: 2017011501 | D4: 陈泓锟 | E4: =SUM(F4:AH4) -> 0
C5: 2017011502 | D5: 陈佳宁 | E5: =SUM(F5:AH5) -> 0
C6: 2017011503 | D6: 董韬 | E6: =SUM(F6:AH6) -> 0
C7: 2017011504 | D7: 段育鹏 | E7: =SUM(F7:AH7) -> 0
C8: 2017011505 | D8: 韩艺鸣 | E8: =SUM(F8:AH8) -> 13 | H8: 3 | I8: 3 | J8: 3 | R8: 4
C9: 2017011507 | D9: 计博 | E9: =SUM(F9:AH9) -> 56 | N9: 8 | Q9: 44 | R9: 4
C10: 2017011508 | D10: 李佳麒 | E10: =SUM(F10:AH10) -> 44 | Q10: 44
C11: 2017011509 | D11: 李健滨 | E11: =SUM(F11:AH11) -> 0
C12: 2017011510 | D12: 李旭晟 | E12: =SUM(F12:AH12) -> 1.5 | J12: 1.5
C13: 2017011512 | D13: 刘海阔 | E13: =SUM(F13:AH13) -> 3 | G13: 3
C14: 2017011513 | D14: 刘明奇 | E14: =SUM(F14:AH14) -> 98 | G14: 3 | K14: 38 | M14: 3 | P14: 6 | Q14: 44 | R14: 4
C15: 2017011514 | D15: 刘启航 | E15: =SUM(F15:AH15) -> 0
C16: 2017011515 | D16: 苗全洲 | E16: =SUM(F16:AH16) -> 0
C17: 2017011516 | D17: 潘碧野 | E17: =SUM(F17:AH17) -> 0
C18: 2017011518 | D18: 秦正昊 | E18: =SUM(F18:AH18) -> 0
C19: 2017011519 | D19: 邵震 | E19: =SUM(F19:AH19) -> 3 | G19: 3
C20: 2017011520 | D20: 王昊东 | E20: =SUM(F20:AH20) -> 6 | G20: 3 | M20: 3
C21: 2017011522 | D21: 王巍凯 | E21: =SUM(F21:AH21) -> 0
C22: 2017011524 | D22: 吴秩宇 | E22: =SUM(F22:AH22) -> 0
C23: 2017011525 | D23: 杨逸飞 | E23: =SUM(F23:AH23) -> 31 | L23: 28 | O23: 3
C24: 2017011526 | D24: 易远航 | E24: =SUM(F24:AH24) -> 0
C25: 2017011527 | D25: 岳俐孛 | E25: =SUM(F25:AH25) -> 0
C26: 2017011528 | D26: 朱海 | E26: =SUM(F26:AH26) -> 0
C27: 2017011529 | D27: 朱世祺 | E27: =SUM(F27:AH27) -> 0

Sheet 20170116
A1: 2019年下学期20170116班公益学时公布表
A2: 班级 | B2: 总学时 | C2: 参与人员 | E2: 个人总学时 | F2: 以院系或团委、学生会、学指为单位开展的公益活动 | G2: 以团支部为单位开展的公益活动 | H2: 小红帽组织开展的公益活动 | K2: 私人型公益活动
C3: 学号 | D3: 姓名 | H3: 4.4七彩课堂 | I3: 5.23七彩课堂 | J3: 杏花林学士服志愿者 | K3: 6.4船海楼档案整理 | L3: 启航值班 | M3: 医院长期志愿者 | N3: 海洋文化馆志愿者 | O3: 东北五校双选会 | P3: 毕业典礼志愿者 | Q3: 2019年新生导航员 | R3: 海航器志愿者 | S3: 2019年迎新工作人员 | T3: 高招会志愿者 | U3: 海航器赛事物资回收
A4: 20170116 | B4: =SUM(E4:E25) -> 184.5 | C4: 2017011601 | D4: 陈冠昌 | E4: =SUM(F4:AE4) -> 4 | T4: 4
C5: 2017011602 | D5: 陈炎 | E5: =SUM(F5:AE5) -> 0
C6: 2017011604 | D6: 韩博宇 | E6: =SUM(F6:AE6) -> 0
C7: 2017011605 | D7: 韩阔屹 | E7: =SUM(F7:AE7) -> 0
C8: 2017011606 | D8: 姬祥 | E8: =SUM(F8:AE8) -> 16 | L8: 6 | Q8: 6 | T8: 4
C9: 2017011608 | D9: 李雲峰 | E9: =SUM(F9:AE9) -> 44 | R9: 44
C10: 2017011609 | D10: 刘洺毓 | E10: =SUM(F10:AE10) -> 0
C11: 2017011610 | D11: 刘诗璐 | E11: =SUM(F11:AE11) -> 0
C12: 2017011611 | D12: 刘涛 | E12: =SUM(F12:AE12) -> 0
C13: 2017011612 | D13: 满毅 | E13: =SUM(F13:AE13) -> 0
C14: 2017011613 | D14: 倪仁杰 | E14: =SUM(F14:AE14) -> 0
C15: 2017011614 | D15: 尚明月 | E15: =SUM(F15:AE15) -> 10 | N15: 10
C16: 2017011615 | D16: 孙伊杰 | E16: =SUM(F16:AE16) -> 0
C17: 2017011616 | D17: 谭文龙 | E17: =SUM(F17:AE17) -> 0
C18: 2017011619 | D18: 王添淇 | E18: =SUM(F18:AE18) -> 4.5 | H18: 1.5 | I18: 3
C19: 2017011621 | D19: 文俊凯 | E19: =SUM(F19:AE19) -> 10 | P19: 6 | T19: 4
C20: 2017011622 | D20: 肖望穗 | E20: =SUM(F20:AE20) -> 9 | K20: 3 | L20: 6
C21: 2017011623 | D21: 颜帅 | E21: =SUM(F21:AE21) -> 63 | K21: 3 | M21: 4 | R21: 44 | S21: 6 | U21: 6
C22: 2017011624 | D22: 杨林 | E22: =SUM(F22:AE22) -> 0
C23: 2017011625 | D23: 于佳晨 | E23: =SUM(F23:AE23) -> 13.5 | J23: 1.5 | P23: 6 | Q23: 6
C24: 2017011627 | D24: 张家典 | E24: =SUM(F24:AE24) -> 10.5 | J24: 1.5 | O24: 5 | T24: 4
C25: 2017011629 | D25: 邹馥骏 | E25: =SUM(F25:AE25) -> 0

Sheet 20170117
A1: 2019年下学期20170117班公益学时公布表
A2: 班级 | B2: 总学时 | C2: 参与人员 | E2: 个人总学时 | F2: 以院系或团委、学生会、学指为单位开展的公益活动 | G2: 以团支部为单位开展的公益活动 | H2: 小红帽组织开展的公益活动 | J2: 私人型公益活动
C3: 学号 | D3: 姓名 | G3: 暑期社会实践三下乡 | H3: 3.28七彩课堂 | I3: 杏花林学士服志愿者 | J3: 4.12船海楼文档整理 | K3: 国旗护卫队支教 | L3: 6.4船海楼整理档案 | M3: 7.3船海楼整理档案 | N3: 2019年新生导航员 | O3: 东北五校双选会志愿者 | P3: 爱心长跑 | Q3: 海航器志愿者 | R3: 高招会志愿者 | S3: 海航器赛事物资回收 | T3: 7月3日船海楼整理材料
A4: 20170117 | B4: =SUM(E4:E26) -> 187.5 | C4: 2017011701 | D4: 蔡逊 | E4: =SUM(F4:AD4) -> 58 | G4: 3 | Q4: 44 | R4: 4 | S4: 6 | T4: 1
C5: 2017011702 | D5: 曹嘉荣 | E5: =SUM(F5:AD5) -> 11 | H5: 3 | O5: 5 | P5: 3
C6: 2017011703 | D6: 车思达 | E6: =SUM(F6:AD6) -> 7 | G6: 3 | R6: 4
C7: 2017011704 | D7: 傅昱晓 | E7: =SUM(F7:AD7) -> 17 | G7: 3 | L7: 3 | M7: 1 | O7: 5 | R7: 4 | T7: 1
C8: 2017011705 | D8: 顾靖愚 | E8: =SUM(F8:AD8) -> 3 | G8: 3
C9: 2017011706 | D9: 郭明轩 | E9: =SUM(F9:AD9) -> 7 | G9: 3 | R9: 4
C10: 2017011707 | D10: 郭鑫宇 | E10: =SUM(F10:AD10) -> 4 | R10: 4
C11: 2017011708 | D11: 贺帆 | E11: =SUM(F11:AD11) -> 4 | R11: 4
C12: 2017011709 | D12: 冀珂 | E12: =SUM(F12:AD12) -> 0
C13: 2017011710 | D13: 贾宏侃 | E13: =SUM(F13:AD13) -> 52 | I13: 1.5 | K13: 2.5 | Q13: 44 | R13: 4
C14: 2017011711 | D14: 李昊辰 | E14: =SUM(F14:AD14) -> 6 | J14: 2 | R14: 4
C15: 2017011712 | D15: 刘佳宁 | E15: =SUM(F15:AD15) -> 0
C16: 2017011713 | D16: 刘鹏 | E16: =SUM(F16:AD16) -> 0
C17: 2017011714 | D17: 柳志衡 | E17: =SUM(F17:AD17) -> 0
C18: 2017011715 | D18: 马倩 | E18: =SUM(F18:AD18) -> 12.5 | I18: 1.5 | N18: 6 | O18: 5
C19: 2017011716 | D19: 彭慧文 | E19: =SUM(F19:AD19) -> 0
C20: 2017011718 | D20: 权泽旭 | E20: =SUM(F20:AD20) -> 0
C21: 2017011719 | D21: 舒国洋 | E21: =SUM(F21:AD21) -> 0
C22: 2017011720 | D22: 孙宁 | E22: =SUM(F22:AD22) -> 2 | J22: 2
C23: 2017011723 | D23: 闫子健 | E23: =SUM(F23:AD23) -> 0
C24: 2017011726 | D24: 于沛业 | E24: =SUM(F24:AD24) -> 0
C25: 2017011727 | D25: 詹光夏 | E25: =SUM(F25:AD25) -> 0
C26: 2017011729 | D26: 周朔 | E26: =SUM(F26:AD26) -> 4 | I26: 3 | T26: 1

Sheet 20170118
A1: 2019年下学期20170118班公益学时公布表
A2: 班级 | B2: 总学时 | C2: 参与人员 | E2: 个人总学时 | F2: 以院系或团委、学生会、学指为单位开展的公益活动 | G2: 以团支部为单位开展的公益活动 | H2: 小红帽组织开展的公益活动 | L2: 私人型公益活动
C3: 学号 | D3: 姓名 | H3: 杏花林学士服志愿者 | I3: 图书漂流 | J3: 杏花节志愿者 | K3: 校医院长期志愿者 | L3: 2019年迎新工作人员 | M3: 高考志愿者 | N3: 毕业典礼志愿者 | O3: 主楼志愿者 | P3: 海航器志愿者 | Q3: 高招会志愿者
A4: 20170118 | B4: =SUM(E4:E29) -> 269.5 | C4: 2017011801 | D4: 曹焕卿 | E4: =SUM(F4:AC4) -> 2 | I4: 2
C5: 2017011802 | D5: 葛桂琨 | E5: =SUM(F5:AC5) -> 6 | I5: 2 | K5: 4
C6: 2017011803 | D6: 侯开宇 | E6: =SUM(F6:AC6) -> 2 | O6: 2
C7: 2017011804 | D7: 胡家亮 | E7: =SUM(F7:AC7) -> 10 | I7: 2 | M7: 4 | Q7: 4
C8: 2017011806 | D8: 吉秦磊 | E8: =SUM(F8:AC8) -> 2 | I8: 2
C9: 2017011807 | D9: 李创 | E9: =SUM(F9:AC9) -> 2 | I9: 2
C10: 2017011808 | D10: 刘德怀 | E10: =SUM(F10:AC10) -> 2 | I10: 2
C11: 2017011809 | D11: 柳克举 | E11: =SUM(F11:AC11) -> 2 | I11: 2
C12: 2017011810 | D12: 孟祥吉 | E12: =SUM(F12:AC12) -> 2 | I12: 2
C13: 2017011811 | D13: 牛智搏 | E13: =SUM(F13:AC13) -> 66.5 | H13: 6.5 | I13: 2 | J13: 6 | M13: 4 | P13: 44 | Q13: 4
C14: 2017011812 | D14: 欧阳陵鹏 | E14: =SUM(F14:AC14) -> 2 | I14: 2
C15: 2017011813 | D15: 乔博 | E15: =SUM(F15:AC15) -> 2 | I15: 2
C16: 2017011814 | D16: 史明轩 | E16: =SUM(F16:AC16) -> 68 | H16: 2 | I16: 2 | J16: 6 | K16: 12 | O16: 2 | P16: 44
C17: 2017011815 | D17: 苏浩晨 | E17: =SUM(F17:AC17) -> 2 | I17: 2
C18: 2017011816 | D18: 孙健玮 | E18: =SUM(F18:AC18) -> 2 | I18: 2
C19: 2017011817 | D19: 唐渤洪 | E19: =SUM(F19:AC19) -> 2 | I19: 2
C20: 2017011818 | D20: 王昌豪 | E20: =SUM(F20:AC20) -> 0
C21: 2017011819 | D21: 武文骥 | E21: =SUM(F21:AC21) -> 46 | I21: 2 | P21: 44
C22: 2017011820 | D22: 徐涛明 | E22: =SUM(F22:AC22) -> 2 | I22: 2
C23: 2017011821 | D23: 许凤鼎 | E23: =SUM(F23:AC23) -> 0
C24: 2017011822 | D24: 尹玉飞 | E24: =SUM(F24:AC24) -> 0
C25: 2017011823 | D25: 于涛 | E25: =SUM(F25:AC25) -> 2 | I25: 2
C26: 2017011824 | D26: 翟方毅 | E26: =SUM(F26:AC26) -> 2 | I26: 2
C27: 2017011825 | D27: 张嘉豪 | E27: =SUM(F27:AC27) -> 2 | I27: 2
C28: 2017011827 | D28: 张拓圣 | E28: =SUM(F28:AC28) -> 35 | H28: 2 | I28: 2 | K28: 27 | N28: 4
C29: 2017011828 | D29: 赵子君 | E29: =SUM(F29:AC29) -> 6 | L29: 6

Sheet 20170119
A1: 2019年下学期20170119班公益学时公布表
A2: 班级 | B2: 总学时 | C2: 参与人员 | E2: 个人总学时 | F2: 以院系或团委、学生会、学指为单位开展的公益活动 | G2: 以团支部为单位开展的公益活动 | H2: 小红帽组织开展的公益活动 | I2: 私人型公益活动
C3: 学号 | D3: 姓名 | G3: 暑期社会实践三下乡 | H3: 捐书 | I3: 2019年新生导航员 | J3: 校医院学时 | K3: 暑期三下乡敬老院看望老人 | L3: 毕业典礼志愿者 | M3: 2019年迎新工作人员 | N3: 海航器志愿者 | O3: 高招会志愿者 | P3: 预科迎新
A4: 20170119 | B4: =SUM(E4:E29) -> 777 | C4: 2017011901 | D4: 樊家占 | E4: =SUM(F4:X4) -> 58 | H4: 2 | J4: 12 | N4: 44
C5: 2017011902 | D5: 房国振 | E5: =SUM(F5:X5) -> 66 | H5: 2 | J5: 32 | L5: 8 | O5: 4 | P5: 20
C6: 2017011903 | D6: 房煦凯 | E6: =SUM(F6:X6) -> 53 | G6: 8 | H6: 2 | J6: 28 | K6: 3 | L6: 8 | O6: 4
C7: 2017011904 | D7: 贺嘉贤 | E7: =SUM(F7:X7) -> 6 | H7: 2 | O7: 4
C8: 2017011905 | D8: 贺宇培 | E8: =SUM(F8:X8) -> 106 | H8: 2 | J8: 48 | L8: 8 | N8: 44 | O8: 4
C9: 2017011907 | D9: 李浩然 | E9: =SUM(F9:X9) -> 46 | H9: 2 | J9: 32 | L9: 8 | O9: 4
C10: 2017011909 | D10: 刘加宝 | E10: =SUM(F10:X10) -> 50 | H10: 2 | N10: 44 | O10: 4
C11: 2017011910 | D11: 刘泽宇 | E11: =SUM(F11:X11) -> 33 | G11: 8 | H11: 2 | J11: 16 | K11: 3 | O11: 4
C12: 2017011911 | D12: 刘卓研 | E12: =SUM(F12:X12) -> 14 | H12: 2 | J12: 8 | O12: 4
C13: 2017011912 | D13: 吕璐婷 | E13: =SUM(F13:X13) -> 14 | H13: 2 | L13: 8 | O13: 4
C14: 2017011913 | D14: 彭潇 | E14: =SUM(F14:X14) -> 93 | G14: 8 | H14: 2 | I14: 6 | J14: 16 | K14: 3 | L14: 8 | M14: 6 | N14: 44
C15: 2017011914 | D15: 邱广醍 | E15: =SUM(F15:X15) -> 21 | G15: 8 | H15: 2 | K15: 3 | L15: 8
C16: 2017011915 | D16: 滕立国 | E16: =SUM(F16:X16) -> 2 | H16: 2
C17: 2017011916 | D17: 王立 | E17: =SUM(F17:X17) -> 2 | H17: 2
C18: 2017011917 | D18: 王乾 | E18: =SUM(F18:X18) -> 2 | H18: 2
C19: 2017011919 | D19: 魏博 | E19: =SUM(F19:X19) -> 14 | H19: 2 | J19: 12
C20: 2017011920 | D20: 吴萌萌 | E20: =SUM(F20:X20) -> 27 | G20: 8 | H20: 2 | I20: 6 | J20: 4 | K20: 3 | O20: 4
C21: 2017011921 | D21: 武孟林 | E21: =SUM(F21:X21) -> 46 | H21: 2 | N21: 44
C22: 2017011922 | D22: 杨健峰 | E22: =SUM(F22:X22) -> 2 | H22: 2
C23: 2017011923 | D23: 姚梦涛 | E23: =SUM(F23:X23) -> 0
C24: 2017011924 | D24: 尹弘栗 | E24: =SUM(F24:X24) -> 2 | H24: 2
C25: 2017011925 | D25: 张明豪 | E25: =SUM(F25:X25) -> 19 | G25: 8 | H25: 2 | K25: 3 | M25: 6
C26: 2017011926 | D26: 张舒涵 | E26: =SUM(F26:X26) -> 14 | H26: 2 | J26: 12
C27: 2017011927 | D27: 张帅 | E27: =SUM(F27:X27) -> 66 | G27: 8 | H27: 2 | J27: 8 | N27: 44 | O27: 4
C28: 2017011928 | D28: 张宇新 | E28: =SUM(F28:X28) -> 21 | G28: 8 | H28: 2 | J28: 8 | K28: 3
C29: 2017011930 | D29: 阮文杰 | E29: =SUM(F29:X29) -> 0

Sheet 20170121
A1: 2019年下学期20170121班公益学时公布表
A2: 班级 | B2: 总学时 | C2: 参与人员 | E2: 个人总学时 | F2: 以院系或团委、学生会、学指为单位开展的公益活动 | G2: 以团支部为单位开展的公益活动 | H2: 小红帽组织开展的公益活动 | M2: 私人型公益活动
C3: 学号 | D3: 姓名 | G3: 暑期社会实践三下乡 | H3: 捐书 | I3: 杏花节志愿 | J3: 杏花林学士服志愿者 | K3: 6.8海洋公益慢跑 | L3: 海洋馆值班 | M3: 海航器志愿者 | N3: 高招会志愿者
A4: 200170121 | B4: =SUM(E4:E30) -> 157.5 | C4: 2017012102 | D4: 范宇晨 | E4: =SUM(F4:AG4) -> 0
C5: 2017012103 | D5: 黄乐亚 | E5: =SUM(F5:AG5) -> 0
C6: 2017012104 | D6: 江烁铭 | E6: =SUM(F6:AG6) -> 0
C7: 2017012105 | D7: 蒋涛涛 | E7: =SUM(F7:AG7) -> 0
C8: 2017012106 | D8: 李光辉 | E8: =SUM(F8:AG8) -> 12 | L8: 12
C9: 2017012107 | D9: 李昊 | E9: =SUM(F9:AG9) -> 0
C10: 2017012108 | D10: 李士诚 | E10: =SUM(F10:AG10) -> 0
C11: 2017012109 | D11: 李鑫龙 | E11: =SUM(F11:AG11) -> 3 | J11: 3
C12: 2017012110 | D12: 李永瑾 | E12: =SUM(F12:AG12) -> 44 | M12: 44
C13: 2017012112 | D13: 刘淳昊 | E13: =SUM(F13:AG13) -> 0
C14: 2017012113 | D14: 刘杰 | E14: =SUM(F14:AG14) -> 0
C15: 2017012114 | D15: 刘孟军 | E15: =SUM(F15:AG15) -> 0
C16: 2017012115 | D16: 栾翀沛 | E16: =SUM(F16:AG16) -> 0
C17: 2017012116 | D17: 宋佳昊 | E17: =SUM(F17:AG17) -> 0
C18: 2017012117 | D18: 田其伟 | E18: =SUM(F18:AG18) -> 0
C19: 2017012118 | D19: 田雨航 | E19: =SUM(F19:AG19) -> 0
C20: 2017012119 | D20: 王家豪 | E20: =SUM(F20:AG20) -> 9 | G20: 5 | N20: 4
C21: 2017012120 | D21: 王康宁 | E21: =SUM(F21:AG21) -> 5 | G21: 5
C22: 2017012121 | D22: 王晴 | E22: =SUM(F22:AG22) -> 0
C23: 2017012122 | D23: 肖振宇 | E23: =SUM(F23:AG23) -> 10 | G23: 10
C24: 2017012123 | D24: 杨鑫 | E24: =SUM(F24:AG24) -> 44 | M24: 44
C25: 2017012124 | D25: 易强 | E25: =SUM(F25:AG25) -> 4 | N25: 4
C26: 2017012125 | D26: 余伟聪 | E26: =SUM(F26:AG26) -> 5 | G26: 5
C27: 2017012126 | D27: 张红 | E27: =SUM(F27:AG27) -> 2 | K27: 2
C28: 2017012128 | D28: 郑杰 | E28: =SUM(F28:AG28) -> 2 | H28: 2
C29: 2017012129 | D29: 周健 | E29: =SUM(F29:AG29) -> 0
C30: 2017012130 | D30: 周晓静 | E30: =SUM(F30:AG30) -> 17.5 | I30: 12 | J30: 1.5 | N30: 4

Sheet 20170122
A1: 2019年下学期20170122班公益学时公布表
A2: 班级 | B2: 总学时 | C2: 参与人员 | E2: 个人总学时 | F2: 以院系或团委、学生会、学指为单位开展的公益活动 | G2: 以团支部为单位开展的公益活动 | H2: 小红帽组织开展的公益活动 | J2: 私人型公益活动
C3: 学号 | D3: 姓名 | H3: 捐书 | I3: 杏花林学士服志愿者 | J3: 校医院志愿者 | K3: 市医院长期志愿者 | L3: 东北五校双选会 | M3: 国旗护卫队支教活动 | N3: 2019年新生导航员 | O3: 迎新志愿者 | P3: 2019年迎新工作人员 | Q3: 海航器志愿者 | R3: 高招会志愿者
A4: 20170122 | B4: =SUM(E4:E32) -> 464.5 | C4: 2017012201 | D4: 曹施睿 | E4: =SUM(F4:W4) -> 2 | H4: 2
C5: 2017012202 | D5: 柴煜泓 | E5: =SUM(F5:W5) -> 42 | H5: 2 | Q5: 40
C6: 2017012203 | D6: 陈天宇 | E6: =SUM(F6:W6) -> 58 | H6: 2 | N6: 6 | P6: 6 | Q6: 44
C7: 2017012204 | D7: 陈子琦 | E7: =SUM(F7:W7) -> 2 | H7: 2
C8: 2017012205 | D8: 方文凯 | E8: =SUM(F8:W8) -> 0
C9: 2017012206 | D9: 郭钦 | E9: =SUM(F9:W9) -> 0
C10: 2017012207 | D10: 胡轶扬 | E10: =SUM(F10:W10) -> 0
C11: 2017012209 | D11: 姜学伟 | E11: =SUM(F11:W11) -> 0
C12: 2017012210 | D12: 蒋真 | E12: =SUM(F12:W12) -> 24 | N12: 6 | O12: 18
C13: 2017012211 | D13: 黎锐 | E13: =SUM(F13:W13) -> 0
C14: 2017012212 | D14: 李澳 | E14: =SUM(F14:W14) -> 0
C15: 2017012213 | D15: 李帆 | E15: =SUM(F15:W15) -> 0
C16: 2017012214 | D16: 李宇豪 | E16: =SUM(F16:W16) -> 0
C17: 2017012215 | D17: 刘旭彪 | E17: =SUM(F17:W17) -> 44 | Q17: 44
C18: 2017012216 | D18: 刘子琪 | E18: =SUM(F18:W18) -> 49.5 | H18: 2 | I18: 1.5 | J18: 40 | N18: 6
C19: 2017012217 | D19: 潘甫亮 | E19: =SUM(F19:W19) -> 0
C20: 2017012218 | D20: 齐昊东 | E20: =SUM(F20:W20) -> 44 | Q20: 44
C21: 2017012219 | D21: 申涛 | E21: =SUM(F21:W21) -> 2 | H21: 2
C22: 2017012220 | D22: 苏执荣 | E22: =SUM(F22:W22) -> 2 | H22: 2
C23: 2017012221 | D23: 王晨羽 | E23: =SUM(F23:W23) -> 30 | H23: 2 | O23: 24 | R23: 4
C24: 2017012222 | D24: 王远 | E24: =SUM(F24:W24) -> 3.5 | H24: 2 | I24: 1.5
C25: 2017012223 | D25: 徐俊逸 | E25: =SUM(F25:W25) -> 0
C26: 2017012224 | D26: 徐瑞喆 | E26: =SUM(F26:W26) -> 7.5 | M26: 7.5
C27: 2017012225 | D27: 杨凯 | E27: =SUM(F27:W27) -> 0
C28: 2017012226 | D28: 姚航帆 | E28: =SUM(F28:W28) -> 2 | H28: 2
C29: 2017012227 | D29: 张睿弛 | E29: =SUM(F29:W29) -> 0
C30: 2017012228 | D30: 张正霖 | E30: =SUM(F30:W30) -> 8 | K30: 8
C31: 2017012229 | D31: 赵明明 | E31: =SUM(F31:W31) -> 77 | H31: 2 | I31: 1.5 | O31: 25.5 | Q31: 44 | R31: 4
C32: 2017012230 | D32: 朱训昊 | E32: =SUM(F32:W32) -> 67 | H32: 2 | K32: 16 | L32: 5 | Q32: 44

Sheet 20170100
A1: 2019年下学期20170100班公益学时公布表
A2: 班级 | B2: 总学时 | C2: 参与人员 | E2: 个人总学时 | F2: 以院系或团委、学生会、学指为单位开展的公益活动 | G2: 以团支部为单位开展的公益活动 | H2: 小红帽组织开展的公益活动 | M2: 私人型公益活动
C3: 学号 | D3: 姓名 | H3: 捐书 | I3: 4.4七彩课堂 | J3: 4.11七彩课堂 | K3: 杏花林学士服志愿者 | L3: 6.8海洋公益慢跑 | M3: 献血 | N3: 花园街道垃圾分类 | O3: 爱心长跑 | P3: 校医院志愿者 | Q3: 图书馆查财务 | R3: 启航志愿者 | S3: 东北五校双选会志愿者 | T3: 海航器志愿者 | U3: 高招会志愿者 | V3: 星光行动 | W3: 2019新生导航员 | X3: 校史馆志愿者 | Y3: 点亮蓝灯志愿活动 | Z3: 开心宝贝
A4: 20170100 | B4: =SUM(E4:E32) -> 391 | C4: 2017011119 | D4: 吕茜 | E4: =SUM(F4:AC4) -> 3 | I4: 3
C5: 2017011129 | D5: 张晖涛 | E5: =SUM(F5:AC5) -> 7 | Y5: 3 | Z5: 4
C6: 2017011208 | D6: 韩世林 | E6: =SUM(F6:AC6) -> 44 | T6: 44
C7: 2017011216 | D7: 绳册 | E7: =SUM(F7:AC7) -> 3 | I7: 3
C8: 2017011225 | D8: 杨禹 | E8: =SUM(F8:AC8) -> 14 | X8: 14
C9: 2017011322 | D9: 王梓丞 | E9: =SUM(F9:AC9) -> 25.5 | K9: 1.5 | M9: 2 | R9: 18 | U9: 4
C10: 2017011323 | D10: 辛子豪 | E10: =SUM(F10:AC10) -> 24 | H10: 2 | M10: 2 | P10: 20
C11: 2017011328 | D11: 张益迪 | E11: =SUM(F11:AC11) -> 2 | N11: 2
C12: 2017011427 | D12: 张心雨 | E12: =SUM(F12:AC12) -> 0
C13: 2017011506 | D13: 韩宇峰 | E13: =SUM(F13:AC13) -> 0
C14: 2017011517 | D14: 彭帷杰 | E14: =SUM(F14:AC14) -> 6 | J14: 3 | O14: 3
C15: 2017011523 | D15: 王文昊 | E15: =SUM(F15:AC15) -> 19 | H15: 2 | O15: 3 | S15: 8 | W15: 6
C16: 2017011603 | D16: 单磊 | E16: =SUM(F16:AC16) -> 49.5 | K16: 1.5 | Q16: 4 | T16: 44
C17: 2017011607 | D17: 李好纯 | E17: =SUM(F17:AC17) -> 2 | H17: 2
C18: 2017011617 | D18: 王长宏 | E18: =SUM(F18:AC18) -> 0
C19: 2017011618 | D19: 王臣 | E19: =SUM(F19:AC19) -> 59 | H19: 2 | L19: 2 | O19: 3 | S19: 8 | T19: 44
C20: 2017011620 | D20: 王湛 | E20: =SUM(F20:AC20) -> 0
C21: 2017011626 | D21: 袁霆志 | E21: =SUM(F21:AC21) -> 2 | H21: 2
C22: 2017011628 | D22: 张力文 | E22: =SUM(F22:AC22) -> 0
C23: 2017011721 | D23: 王宝旭 | E23: =SUM(F23:AC23) -> 0
C24: 2017011722 | D24: 徐一帆 | E24: =SUM(F24:AC24) -> 0
C25: 2017011728 | D25: 赵春晖 | E25: =SUM(F25:AC25) -> 0
C26: 2017011805 | D26: 霍炜 | E26: =SUM(F26:AC26) -> 13 | H26: 2 | I26: 3 | V26: 8
C27: 2017011829 | D27: 郑顺鑫 | E27: =SUM(F27:AC27) -> 54 | H27: 2 | S27: 8 | T27: 44
C28: 2017011918 | D28: 王梓璇 | E28: =SUM(F28:AC28) -> 20 | P28: 20
C29: 2017011929 | D29: 祝成伟 | E29: =SUM(F29:AC29) -> 0
C30: 2017071713 | D30: 刘昊康 | E30: =SUM(F30:AC30) -> 0
C31: 2017080914 | D31: 刘晔恒 | E31: =SUM(F31:AC31) -> 0
C32: 2017071513 | D32: 郎硕 | E32: =SUM(F32:AC32) -> 44 | T32: 44

Sheet 20180100
A1: 2019年下学期20180100班公益学时公布表
A2: 班级 | B2: 总学时 | C2: 参与人员 | E2: 个人总学时 | F2: 以院系或团委、学生会、学指为单位开展的公益活动 | G2: 以团支部为单位开展的公益活动 | N2: 小红帽组织开展的公益活动 | R2: 私人型公益活动
C3: 学号 | D3: 姓名 | G3: 5.19班助一 | H3: 5.12班助一 | I3: 3.17班助一 | J3: 4.21班助一 | K3: 3.24班助一 | L3: 5.26班助一 | M3: 4.5烈士陵园祭扫活动 | N3: 3.9学雷锋社区 | O3: 杏花林学士服志愿者 | P3: 6.8海洋公益慢跑 | Q3: 市一院志愿者 | R3: 筑梦行动家教 | S3: 海航器志愿者 | T3: 2019新生导航员 | U3: 爱心长跑 | V3: 7月3日船海楼整理材料
A4: 20180100 | B4: =SUM(E4:E32) -> 214.5 | C4: 2018010118 | D4: 陶春晖 | E4: =SUM(F4:Y4) -> 48 | N4: 3 | S4: 44 | V4: 1
C5: 2018010121 | D5: 王宁 | E5: =SUM(F5:Y5) -> 15 | H5: 3 | P5: 2 | Q5: 10
C6: 2018010224 | D6: 杨轩宇 | E6: =SUM(F6:Y6) -> 0
C7: 2018010228 | D7: 朱军鹏 | E7: =SUM(F7:Y7) -> 4 | P7: 4
C8: 2018010302 | D8: 范新升 | E8: =SUM(F8:Y8) -> 29 | P8: 4 | R8: 25
C9: 2018010401 | D9: 陈柏廷 | E9: =SUM(F9:Y9) -> 2 | P9: 2
C10: 2018010415 | D10: 缪帅 | E10: =SUM(F10:Y10) -> 9 | G10: 3 | K10: 3 | U10: 3
C11: 2018010422 | D11: 王海霄 | E11: =SUM(F11:Y11) -> 19 | I11: 3 | R11: 16
C12: 2018010503 | D12: 陈龙宇 | E12: =SUM(F12:Y12) -> 3 | K12: 3
C13: 2018010505 | D13: 崔宗宽 | E13: =SUM(F13:Y13) -> 0
C14: 2018010602 | D14: 邓琪 | E14: =SUM(F14:Y14) -> 2 | P14: 2
C15: 2018010616 | D15: 闫纪冰 | E15: =SUM(F15:Y15) -> 0
C16: 2018010627 | D16: 朱世鹏 | E16: =SUM(F16:Y16) -> 1.5 | O16: 1.5
C17: 2018010926 | D17: 张照飞 | E17: =SUM(F17:Y17) -> 0
C18: 2018011001 | D18: 曹彪 | E18: =SUM(F18:Y18) -> 0
C19: 2018011014 | D19: 屈晨星 | E19: =SUM(F19:Y19) -> 0
C20: 2018011017 | D20: 唐天润 | E20: =SUM(F20:Y20) -> 1.5 | O20: 1.5
C21: 2018011025 | D21: 张江 | E21: =SUM(F21:Y21) -> 0
C22: 2018011026 | D22: 张云逸 | E22: =SUM(F22:Y22) -> 0
C23: 2018011101 | D23: 曹泽睿 | E23: =SUM(F23:Y23) -> 3 | H23: 3
C24: 2018011103 | D24: 代桐炎 | E24: =SUM(F24:Y24) -> 8 | H24: 3 | J24: 3 | P24: 2
C25: 2018011201 | D25: 李开研 | E25: =SUM(F25:Y25) -> 6 | J25: 3 | L25: 3
C26: 2018020505 | D26: 瞿毅 | E26: =SUM(F26:Y26) -> 0
C27: 2018021802 | D27: 董珏宇 | E27: =SUM(F27:Y27) -> 21 | J27: 3 | K27: 3 | L27: 3 | Q27: 12
C28: 2018041121 | D28: 张德顺 | E28: =SUM(F28:Y28) -> 0
C29: 2018041403 | D29: 郝江旭 | E29: =SUM(F29:Y29) -> 22 | I29: 3 | R29: 16 | U29: 3
C30: 2018074118 | D30: 王亦晗 | E30: =SUM(F30:Y30) -> 9 | G30: 3 | T30: 6
C31: 2018151125 | D31: 辛明非 | E31: =SUM(F31:Y31) -> 0
C32: 2017011429 | D32: 赵斌 | E32: =SUM(F32:Y32) -> 11.5 | O32: 1.5 | T32: 6 | U32: 3 | V32: 1

Sheet 20180101
A1: 2019年下学期20180101班公益学时公布表
A2: 班级 | B2: 总学时 | C2: 参与人员 | E2: 个人总学时 | F2: 以院系或团委、学生会、学指为单位开展的公益活动 | G2: 以团支部为单位开展的公益活动 | H2: 小红帽组织开展的公益活动 | L2: 私人型公益活动
C3: 学号 | D3: 姓名 | H3: 3.9学雷锋社区 | I3: 4.5烈士陵园祭扫 | J3: 杏花林学士服志愿者 | K3: 6.8海洋公益慢跑 | L3: 花园街道垃圾分类 | M3: 5.1718国际会议志愿者 | N3: 5.11船海楼志愿者 | O3: 小雨滴志愿者 | P3: 足球赛志愿者 | Q3: 图书馆志愿者 | R3: 虹桥中学参观 | S3: 筑梦行动 | T3: 爱心长跑 | U3: 宿迁市图书馆志愿者 | V3: 海航器志愿者 | W3: 2019年新生导航员 | X3: 2019年迎新工作人员
A4: 20180101 | B4: =SUM(E4:E30) -> 216.5 | C4: 2018010101 | D4: 艾之淏 | E4: =SUM(F4:AH4) -> 3 | P4: 3
C5: 2018010102 | D5: 陈科宇 | E5: =SUM(F5:AH5) -> 60 | Q5: 20 | U5: 40
C6: 2018010103 | D6: 陈兴强 | E6: =SUM(F6:AH6) -> 3 | R6: 3
C7: 2018010104 | D7: 崔曈 | E7: =SUM(F7:AH7) -> 8 | K7: 2 | W7: 6
C8: 2018010105 | D8: 崔昕邈 | E8: =SUM(F8:AH8) -> 8 | K8: 2 | X8: 6
C9: 2018010106 | D9: 杜昊翰 | E9: =SUM(F9:AH9) -> 15.5 | J9: 1.5 | M9: 8 | N9: 3 | P9: 3
C10: 2018010107 | D10: 郭适源 | E10: =SUM(F10:AH10) -> 44.5 | J10: 1.5 | N10: 3 | V10: 40
C11: 2018010108 | D11: 韩莹冰 | E11: =SUM(F11:AH11) -> 0
C12: 2018010109 | D12: 洪安东 | E12: =SUM(F12:AH12) -> 0
C13: 2018010110 | D13: 胡佳 | E13: =SUM(F13:AH13) -> 9.5 | J13: 1.5 | K13: 2 | W13: 6
C14: 2018010111 | D14: 兰飞翔 | E14: =SUM(F14:AH14) -> 2 | K14: 2
C15: 2018010112 | D15: 刘付康 | E15: =SUM(F15:AH15) -> 0
C16: 2018010113 | D16: 刘宇 | E16: =SUM(F16:AH16) -> 2 | K16: 2
C17: 2018010114 | D17: 马平川 | E17: =SUM(F17:AH17) -> 1.5 | J17: 1.5
C18: 2018010115 | D18: 蒙润 | E18: =SUM(F18:AH18) -> 0
C19: 2018010116 | D19: 孟欣欣 | E19: =SUM(F19:AH19) -> 7 | L19: 2 | O19: 2 | P19: 3
C20: 2018010117 | D20: 宋健祎 | E20: =SUM(F20:AH20) -> 16 | S20: 16
C21: 2018010119 | D21: 王宝源 | E21: =SUM(F21:AH21) -> 3.5 | J21: 1.5 | K21: 2
C22: 2018010120 | D22: 王鹤翔 | E22: =SUM(F22:AH22) -> 0
C23: 2018010122 | D23: 吴寒 | E23: =SUM(F23:AH23) -> 5 | L23: 2 | T23: 3
C24: 2018010123 | D24: 吴梦 | E24: =SUM(F24:AH24) -> 0
C25: 2018010124 | D25: 吴仲卿 | E25: =SUM(F25:AH25) -> 0
C26: 2018010125 | D26: 徐浩然 | E26: =SUM(F26:AH26) -> 3 | H26: 3
C27: 2018010126 | D27: 战禧扬 | E27: =SUM(F27:AH27) -> 0
C28: 2018010127 | D28: 张灵琦 | E28: =SUM(F28:AH28) -> 22 | H28: 3 | I28: 3 | S28: 16
C29: 2018010128 | D29: 张洧 | E29: =SUM(F29:AH29) -> 0
C30: 2018010129 | D30: 张云飞 | E30: =SUM(F30:AH30) -> 3 | P30: 3

Sheet 20180102
A1: 2019年下学期20180102班公益学时公布表
A2: 班级 | B2: 总学时 | C2: 参与人员 | E2: 个人总学时 | F2: 以院系或团委、学生会、学指为单位开展的公益活动 | G2: 以团支部为单位开展的公益活动 | L2: 小红帽组织开展的公益活动 | O2: 私人型公益活动
C3: 学号 | D3: 姓名 | G3: 4.21红平小区志愿家教 | H3: 5.15红平小区志愿家教 | I3: 6.16红平小区志愿家教 | J3: 6.23红平小区志愿家教 | K3: 7.6红平小区志愿家教 | L3: 4.5烈士陵园祭扫 | M3: 杏花林学士服志愿者 | N3: 6.8海洋公益慢跑 | O3: 5.11船海楼志愿者 | P3: 筑梦行动志愿者 | Q3: 毕胜敬老 | R3: 2019年新生导航员 | S3: 海航器志愿者 | T3: 2019年迎新工作人员 | U3: 红平小区家教 | V3: 守护星星
A4: 20180102 | B4: =SUM(E4:E31) -> 529 | C4: 2018010201 | D4: 陈奕铭 | E4: =SUM(F4:AG4) -> 0
C5: 2018010202 | D5: 程力 | E5: =SUM(F5:AG5) -> 5 | Q5: 5
C6: 2018010203 | D6: 董源 | E6: =SUM(F6:AG6) -> 16 | I6: 2 | T6: 6 | V6: 8
C7: 2018010204 | D7: 高相阳 | E7: =SUM(F7:AG7) -> 4 | I7: 2 | N7: 2
C8: 2018010205 | D8: 勾鉴明 | E8: =SUM(F8:AG8) -> 8 | V8: 8
C9: 2018010206 | D9: 郝友铨 | E9: =SUM(F9:AG9) -> 4.5 | H9: 2 | U9: 2.5
C10: 2018010207 | D10: 侯继昌 | E10: =SUM(F10:AG10) -> 44 | S10: 44
C11: 2018010208 | D11: 康桢耀 | E11: =SUM(F11:AG11) -> 44 | S11: 44
C12: 2018010209 | D12: 李家兴 | E12: =SUM(F12:AG12) -> 59 | H12: 2 | K12: 2 | S12: 44 | T12: 6 | U12: 5
C13: 2018010210 | D13: 李品男 | E13: =SUM(F13:AG13) -> 0
C14: 2018010211 | D14: 李宪毅 | E14: =SUM(F14:AG14) -> 4 | V14: 4
C15: 2018010212 | D15: 刘若彤 | E15: =SUM(F15:AG15) -> 47.5 | M15: 1.5 | N15: 2 | S15: 44
C16: 2018010213 | D16: 刘世杰 | E16: =SUM(F16:AG16) -> 11 | G16: 3 | V16: 8
C17: 2018010214 | D17: 刘文泽 | E17: =SUM(F17:AG17) -> 12.5 | J17: 2 | U17: 2.5 | V17: 8
C18: 2018010215 | D18: 刘雨昂 | E18: =SUM(F18:AG18) -> 0
C19: 2018010216 | D19: 刘章 | E19: =SUM(F19:AG19) -> 12 | V19: 12
C20: 2018010217 | D20: 吕萌 | E20: =SUM(F20:AG20) -> 16.5 | J20: 2 | U20: 2.5 | V20: 12
C21: 2018010218 | D21: 潘高乐 | E21: =SUM(F21:AG21) -> 4 | V21: 4
C22: 2018010219 | D22: 庞帅 | E22: =SUM(F22:AG22) -> 56 | S22: 44 | V22: 12
C23: 2018010220 | D23: 裴少聪 | E23: =SUM(F23:AG23) -> 20 | V23: 20
C24: 2018010221 | D24: 石浩辰 | E24: =SUM(F24:AG24) -> 20 | P24: 16 | V24: 4
C25: 2018010222 | D25: 王文婷 | E25: =SUM(F25:AG25) -> 27 | N25: 2 | O25: 3 | P25: 16 | R25: 6
C26: 2018010223 | D26: 王岩 | E26: =SUM(F26:AG26) -> 37.5 | G26: 3 | K26: 2 | Q26: 30 | U26: 2.5
C27: 2018010225 | D27: 尹家乐 | E27: =SUM(F27:AG27) -> 3 | L27: 3
C28: 2018010226 | D28: 于逍 | E28: =SUM(F28:AG28) -> 20.5 | M28: 1.5 | N28: 2 | P28: 17
C29: 2018010227 | D29: 张桐 | E29: =SUM(F29:AG29) -> 0
C30: 2018010229 | D30: 张宗羽 | E30: =SUM(F30:AG30) -> 3 | L30: 3
C31: 2017011226 | D31: 张国桢 | E31: =SUM(F31:AG31) -> 50 | N31: 2 | S31: 44 | V31: 4

Sheet 20180103
A1: 2019年下学期20180103班公益学时公布表
A2: 班级 | B2: 总学时 | C2: 参与人员 | E2: 个人总学时 | F2: 以院系或团委、学生会、学指为单位开展的公益活动 | G2: 以团支部为单位开展的公益活动 | J2: 小红帽组织开展的公益活动 | O2: 私人型公益活动
C3: 学号 | D3: 姓名 | G3: 汇流班助一 | H3: 6.23帮扶高中生 | I3: 6.23敬老院 | J3: 3.9学雷锋社区 | K3: 3.10学雷锋敬老院 | L3: 4.5烈士陵园祭扫 | M3: 杏花林学士服志愿者 | N3: 6.8海洋公益慢跑 | O3: 高招会志愿者 | P3: 筑梦行动 | Q3: 2019年新生导航员 | R3: 2019年迎新工作人员 | S3: 迎新接站 | T3: 海航器志愿者 | U3: 高招会志愿者 | V3: 支教高中生 | W3: 7月3日船海楼整理材料
A4: 20180103 | B4: =SUM(E4:E30) -> 572.5 | C4: 2018010301 | D4: 安炎炯 | E4: =SUM(F4:AE4) -> 10 | G4: 4 | I4: 3 | V4: 3
C5: 2018010303 | D5: 高兵兵 | E5: =SUM(F5:AE5) -> 9 | G5: 4 | I5: 3 | N5: 2
C6: 2018010304 | D6: 高源 | E6: =SUM(F6:AE6) -> 87 | G6: 8 | N6: 2 | O6: 4 | S6: 25 | T6: 44 | U6: 4
C7: 2018010305 | D7: 谷慧群 | E7: =SUM(F7:AE7) -> 64 | G7: 8 | Q7: 6 | R7: 6 | T7: 44
C8: 2018010306 | D8: 黄博远 | E8: =SUM(F8:AE8) -> 53 | G8: 4 | I8: 3 | N8: 2 | T8: 44
C9: 2018010307 | D9: 康若森 | E9: =SUM(F9:AE9) -> 2 | N9: 2
C10: 2018010308 | D10: 李东海 | E10: =SUM(F10:AE10) -> 5 | I10: 3 | N10: 2
C11: 2018010309 | D11: 刘顺 | E11: =SUM(F11:AE11) -> 6 | G11: 4 | N11: 2
C12: 2018010310 | D12: 马静雯 | E12: =SUM(F12:AE12) -> 46 | N12: 2 | T12: 44
C13: 2018010311 | D13: 王关宁 | E13: =SUM(F13:AE13) -> 0
C14: 2018010312 | D14: 王冠翔 | E14: =SUM(F14:AE14) -> 8 | G14: 8
C15: 2018010313 | D15: 王帅行 | E15: =SUM(F15:AE15) -> 7.5 | J15: 3 | L15: 3 | M15: 1.5
C16: 2018010314 | D16: 王锡源 | E16: =SUM(F16:AE16) -> 5.5 | K16: 3 | M16: 1.5 | W16: 1
C17: 2018010315 | D17: 文奇鑫 | E17: =SUM(F17:AE17) -> 9 | G17: 4 | I17: 3 | N17: 2
C18: 2018010316 | D18: 徐润泽 | E18: =SUM(F18:AE18) -> 12 | H18: 3 | I18: 3 | R18: 6
C19: 2018010317 | D19: 杨景淇 | E19: =SUM(F19:AE19) -> 2 | N19: 2
C20: 2018010318 | D20: 杨桐奇 | E20: =SUM(F20:AE20) -> 44 | T20: 44
C21: 2018010319 | D21: 杨雪松 | E21: =SUM(F21:AE21) -> 9 | I21: 3 | R21: 6
C22: 2018010320 | D22: 杨艳艳 | E22: =SUM(F22:AE22) -> 74 | I22: 3 | L22: 3 | N22: 2 | P22: 16 | R22: 6 | T22: 44
C23: 2018010321 | D23: 杨泽宇 | E23: =SUM(F23:AE23) -> 53.5 | H23: 3 | I23: 3 | M23: 1.5 | N23: 2 | T23: 44
C24: 2018010322 | D24: 于沐源 | E24: =SUM(F24:AE24) -> 0
C25: 2018010323 | D25: 曾嘉濠 | E25: =SUM(F25:AE25) -> 0
C26: 2018010324 | D26: 曾鹏 | E26: =SUM(F26:AE26) -> 0
C27: 2018010325 | D27: 张浩然 | E27: =SUM(F27:AE27) -> 19 | G27: 8 | I27: 3 | N27: 2 | Q27: 6
C28: 2018010326 | D28: 张开源 | E28: =SUM(F28:AE28) -> 0
C29: 2018010327 | D29: 周鑫 | E29: =SUM(F29:AE29) -> 47 | I29: 3 | T29: 44
C30: 2018010328 | D30: 朱子健 | E30: =SUM(F30:AE30) -> 0

Sheet 20180104
A1: 2019年下学期20180104班公益学时公布表
A2: 班级 | B2: 总学时 | C2: 参与人员 | E2: 个人总学时 | F2: 以院系或团委、学生会、学指为单位开展的公益活动 | G2: 以团支部为单位开展的公益活动 | P2: 小红帽组织开展的公益活动 | U2: 私人型公益活动
