Workbook

Sheet 2016级学生名单
A1: 2018-2019学年第二学期船舶工程学院2016级团支部公益学时统计表
A2: 班级 | B2: 学号 | C2: 姓名 | D2: 公益学时 | E2: 班级总公益学时 | F2: 班级平均公益学时 | G2: 年级平均公益学时 | H2: 加权公益学分
A3: 20160111 | B3: 2016011101 | C3: 杜炜辰 | D3: ='20160111'!E4 -> 0 | E3: =SUM(D3:D31) -> 127.5 | F3: =E3/29 -> 4.3965517 | G3: =(F3+F32+F62+F93+F120+F151+F182+F209+F239)/9 -> 3.2012069 | H3: 0
B4: 2016011102 | C4: 付天源 | D4: ='20160111'!E5 -> 0 | H4: 0
B5: 2016011103 | C5: 高锐 | D5: ='20160111'!E6 -> 0 | H5: 0
B6: 2016011104 | C6: 高翔 | D6: ='20160111'!E7 -> 0 | H6: 0
B7: 2016011105 | C7: 高小彤 | D7: ='20160111'!E8 -> 0 | H7: 0
B8: 2016011106 | C8: 何景楠 | D8: ='20160111'!E9 -> 0 | H8: 0
B9: 2016011107 | C9: 贾金鹏 | D9: ='20160111'!E10 -> 0 | H9: 0
B10: 2016011109 | C10: 梁龙龙 | D10: ='20160111'!E11 -> 18 | H10: 68.1471
B11: 2016011110 | C11: 林育望 | D11: ='20160111'!E12 -> 0 | H11: 0
B12: 2016011112 | C12: 刘正全 | D12: ='20160111'!E13 -> 0 | H12: 0
B13: 2016011113 | C13: 马国庆 | D13: ='20160111'!E14 -> 0 | H13: 0
B14: 2016011114 | C14: 马竑彧 | D14: ='20160111'!E15 -> 0 | H14: 0
B15: 2016011115 | C15: 孟繁禹 | D15: ='20160111'!E16 -> 48 | H15: 81.725601
... B31: 2016071226 | C31: 杨金鑫 | D31: ='20160111'!E32 -> 0 | H31: 0
A32: 20160112 | B32: 2016011201 | C32: 毕嵩钰 | D32: ='20160112'!E4 -> 0 | E32: =SUM(D32:D61) -> 44 | F32: =E32/30 -> 1.4666667 | H32: 0
B33: 2016011202 | C33: 曹禹 | D33: ='20160112'!E5 -> 0 | H33: 0
B34: 2016011203 | C34: 单一航 | D34: ='20160112'!E6 -> 0 | H34: 0
B35: 2016011204 | C35: 樊杰 | D35: ='20160112'!E7 -> 0 | H35: 0
B36: 2016011205 | C36: 高建林 | D36: ='20160112'!E8 -> 0 | H36: 0
B37: 2016011206 | C37: 谷绪峰 | D37: ='20160112'!E9 -> 0 | H37: 0
B38: 2016011207 | C38: 姜涛 | D38: ='20160112'!E10 -> 0 | H38: 0
B39: 2016011208 | C39: 井学斌 | D39: ='20160112'!E11 -> 0 | H39: 0
B40: 2016011209 | C40: 景重阳 | D40: ='20160112'!E12 -> 0 | H40: 0
B41: 2016011210 | C41: 李德玉 | D41: ='20160112'!E13 -> 44 | H41: 79.915134
B42: 2016011211 | C42: 李相杰 | D42: ='20160112'!E14 -> 0 | H42: 0
B43: 2016011212 | C43: 李鑫禹 | D43: ='20160112'!E15 -> 0 | H43: 0
B44: 2016011213 | C44: 刘靖 | D44: ='20160112'!E16 -> 0 | H44: 0
... B61: 2016071630 | C61: 钟景聿 | D61: ='20160112'!E33 -> 0 | H61: 0
A62: 20160113 | B62: 2016011301 | C62: 陈阔 | D62: ='20160113'!E4 -> 6 | E62: =SUM(D62:D92) -> 22.5 | F62: =E62/31 -> 0.72580645 | H62: 62.7157
B63: 2016011302 | C63: 陈卓 | D63: ='20160113'!E5 -> 3 | H63: 61.35785
B64: 2016011303 | C64: 程天琥 | D64: ='20160113'!E6 -> 0 | H64: 0
B65: 2016011304 | C65: 范吉豪 | D65: ='20160113'!E7 -> 0 | H65: 0
B66: 2016011305 | C66: 盖康雨 | D66: ='20160113'!E8 -> 1.5 | H66: 60.678925
B67: 2016011306 | C67: 高永强 | D67: ='20160113'!E9 -> 3 | H67: 61.35785
B68: 2016011307 | C68: 郭磊 | D68: ='20160113'!E10 -> 0 | H68: 0
B69: 2016011308 | C69: 韩定坤 | D69: ='20160113'!E11 -> 0 | H69: 0
B70: 2016011309 | C70: 蒋佳鑫 | D70: ='20160113'!E12 -> 0 | H70: 0
B71: 2016011310 | C71: 李家园 | D71: ='20160113'!E13 -> 0 | H71: 0
B72: 2016011311 | C72: 李宗霖 | D72: ='20160113'!E14 -> 0 | H72: 0
B73: 2016011312 | C73: 林志远 | D73: ='20160113'!E15 -> 0 | H73: 0
B74: 2016011313 | C74: 刘浩宇 | D74: ='20160113'!E16 -> 0 | H74: 0
... B92: 2016071814 | C92: 沙亚锋 | D92: ='20160113'!E34 -> 0 | H92: 0
A93: 20160114 | B93: 2016011401 | C93: 卞鑫宇 | D93: ='20160114'!E4 -> 12 | E93: =SUM(D93:D119) -> 180.5 | F93: =E93/27 -> 6.6851852 | H93: 65.4314
B94: 2016011402 | C94: 陈俊北 | D94: ='20160114'!E5 -> 0 | H94: 0
B95: 2016011403 | C95: 冯杰熹 | D95: ='20160114'!E6 -> 0 | H95: 0
B96: 2016011404 | C96: 葛晓威 | D96: ='20160114'!E7 -> 0 | H96: 0
B97: 2016011405 | C97: 龚方玉 | D97: ='20160114'!E8 -> 64.5 | H97: 89.193777
B98: 2016011406 | C98: 韩松杰 | D98: ='20160114'!E9 -> 3 | H98: 61.35785
B99: 2016011407 | C99: 亢文辉 | D99: ='20160114'!E10 -> 3 | H99: 61.35785
B100: 2016011408 | C100: 雷伟程 | D100: ='20160114'!E11 -> 2 | H100: 60.905233
B101: 2016011409 | C101: 李铭昊 | D101: ='20160114'!E12 -> 0 | H101: 0
B102: 2016011410 | C102: 刘恩慧 | D102: ='20160114'!E13 -> 0 | H102: 0
B103: 2016011411 | C103: 刘浩东 | D103: ='20160114'!E14 -> 44 | H103: 79.915134
B104: 2016011412 | C104: 刘继骁 | D104: ='20160114'!E15 -> 0 | H104: 0
B105: 2016011414 | C105: 刘骁锋 | D105: ='20160114'!E16 -> 0 | H105: 0
... B119: 2016071818 | C119: 王忠平 | D119: ='20160114'!E30 -> 0 | H119: 0
A120: 20160115 | B120: 2016011501 | C120: 郭广宇 | D120: ='20160115'!E4 -> 0 | E120: =SUM(D120:D150) -> 4 | F120: =E120/31 -> 0.12903226 | H120: 0
B121: 2016011502 | C121: 郭腾 | D121: ='20160115'!E5 -> 0 | H121: 0
B122: 2016011503 | C122: 侯思宇 | D122: ='20160115'!E6 -> 0 | H122: 0
B123: 2016011504 | C123: 胡潇佳 | D123: ='20160115'!E7 -> 0 | H123: 0
B124: 2016011505 | C124: 景锐洁 | D124: ='20160115'!E8 -> 0 | H124: 0
B125: 2016011506 | C125: 李鸿远 | D125: ='20160115'!E9 -> 0 | H125: 0
B126: 2016011507 | C126: 李家辉 | D126: ='20160115'!E10 -> 0 | H126: 0
B127: 2016011508 | C127: 李立豪 | D127: ='20160115'!E11 -> 0 | H127: 0
B128: 2016011509 | C128: 李政谋 | D128: ='20160115'!E12 -> 0 | H128: 0
B129: 2016011510 | C129: 刘广 | D129: ='20160115'!E13 -> 0 | H129: 0
B130: 2016011511 | C130: 罗春苗 | D130: ='20160115'!E14 -> 0 | H130: 0
B131: 2016011512 | C131: 彭芷昕 | D131: ='20160115'!E15 -> 4 | H131: 61.810467
B132: 2016011513 | C132: 任经红 | D132: ='20160115'!E16 -> 0 | H132: 0
... B150: 2016101218 | C150: 王嘉捷 | D150: ='20160115'!E34 -> 0 | H150: 0
A151: 20160116 | B151: 2016011601 | C151: 曹远 | D151: ='20160116'!E4 -> 2 | E151: =SUM(D151:D181) -> 2 | F151: =E151/31 -> 0.064516129 | H151: 60.905233
B152: 2016011602 | C152: 陈诚 | D152: ='20160116'!E5 -> 0 | H152: 0
B153: 2016011603 | C153: 陈维欣 | D153: ='20160116'!E6 -> 0 | H153: 0
B154: 2016011604 | C154: 陈哲 | D154: ='20160116'!E7 -> 0 | H154: 0
B155: 2016011605 | C155: 迟子涵 | D155: ='20160116'!E8 -> 0 | H155: 0
B156: 2016011606 | C156: 龚民江 | D156: ='20160116'!E9 -> 0 | H156: 0
B157: 2016011607 | C157: 郭啸寒 | D157: ='20160116'!E10 -> 0 | H157: 0
B158: 2016011608 | C158: 鞠欣洋 | D158: ='20160116'!E11 -> 0 | H158: 0
B159: 2016011609 | C159: 黎梦坤 | D159: ='20160116'!E12 -> 0 | H159: 0
B160: 2016011610 | C160: 李福庚 | D160: ='20160116'!E13 -> 0 | H160: 0
B161: 2016011611 | C161: 李宏涛 | D161: ='20160116'!E14 -> 0 | H161: 0
B162: 2016011612 | C162: 李江昊 | D162: ='20160116'!E15 -> 0 | H162: 0
B163: 2016011613 | C163: 刘港慧 | D163: ='20160116'!E16 -> 0 | H163: 0
... B181: 2015011630 | C181: 安帅 | D181: ='20160116'!E34 -> 0 | H181: 0
A182: 20160117 | B182: 2016011701 | C182: 安欣然 | D182: ='20160117'!E4 -> 0 | E182: =SUM(D182:D208) -> 184.5 | F182: =E182/27 -> 6.8333333 | H182: 0
B183: 2016011702 | C183: 毕鸢博 | D183: ='20160117'!E5 -> 15 | H183: 66.78925
B184: 2016011703 | C184: 蔡乔蒙 | D184: ='20160117'!E6 -> 0 | H184: 0
B185: 2016011704 | C185: 陈航宇 | D185: ='20160117'!E7 -> 7 | H185: 63.168317
B186: 2016011705 | C186: 迟厚新 | D186: ='20160117'!E8 -> 0 | H186: 0
B187: 2016011706 | C187: 费英杰 | D187: ='20160117'!E9 -> 0 | H187: 0
B188: 2016011707 | C188: 简帆 | D188: ='20160117'!E10 -> 0 | H188: 0
B189: 2016011708 | C189: 蒋振宇 | D189: ='20160117'!E11 -> 0 | H189: 0
B190: 2016011709 | C190: 康子雄 | D190: ='20160117'!E12 -> 0 | H190: 0
B191: 2016011710 | C191: 李林杰 | D191: ='20160117'!E13 -> 0 | H191: 0
B192: 2016011712 | C192: 刘润男 | D192: ='20160117'!E14 -> 2 | H192: 60.905233
B193: 2016011713 | C193: 陆嘉炜 | D193: ='20160117'!E15 -> 0 | H193: 0
B194: 2016011714 | C194: 曲悦含 | D194: ='20160117'!E16 -> 2 | H194: 60.905233
... B208: 2016011729 | C208: 钟维格 | D208: ='20160117'!E30 -> 0 | H208: 0
...

Sheet 2017级学生名单
A1: 2018-2019学年第二学期船舶工程学院2017级团支部公益学时统计表
A2: 班级 | B2: 学号 | C2: 姓名 | D2: 公益学时 | E2: 班级总公益学时 | F2: 班级平均公益学时 | G2: 年级平均公益学时 | H2: 加权公益学分
A3: 20170111 | B3: 2017011102 | C3: 陈启航 | D3: ='20170111'!E4 -> 46 | E3: =SUM(D3:D26) -> 528 | F3: =E3/24 -> 22 | G3: =(F3+F27+F49+F72+F95+F119+F141+F164+F190+F216+F243+F272)/12 -> 14.83293 | H3: 77.595869
B4: 2017011104 | C4: 杜德昕 | D4: ='20170111'!E5 -> 9 | H4: 63.44267
B5: 2017011105 | C5: 樊其祥 | D5: ='20170111'!E6 -> 57 | H5: 81.803577
B6: 2017011106 | C6: 高锐 | D6: ='20170111'!E7 -> 3 | H6: 61.147557
B7: 2017011107 | C7: 高适 | D7: ='20170111'!E8 -> 3 | H7: 61.147557
B8: 2017011108 | C8: 谷俊林 | D8: ='20170111'!E9 -> 104 | H8: 99.781964
B9: 2017011109 | C9: 管明阳 | D9: ='20170111'!E10 -> 97 | H9: 97.104332
B10: 2017011110 | C10: 韩爱琪 | D10: ='20170111'!E11 -> 3 | H10: 61.147557
B11: 2017011111 | C11: 郝昊 | D11: ='20170111'!E12 -> 3 | H11: 61.147557
B12: 2017011112 | C12: 洪岩 | D12: ='20170111'!E13 -> 3 | H12: 61.147557
B13: 2017011113 | C13: 霍帅文 | D13: ='20170111'!E14 -> 3 | H13: 61.147557
B14: 2017011114 | C14: 李家雨 | D14: ='20170111'!E15 -> 25 | H14: 69.562972
B15: 2017011115 | C15: 刘明亮 | D15: ='20170111'!E16 -> 17 | H15: 66.502821
... B26: 2017011130 | C26: 赵清扬 | D26: ='20170111'!E27 -> 7 | H26: 62.677632
A27: 20170112 | B27: 2017011201 | C27: 白国侠 | D27: ='20170112'!E4 -> 4 | E27: =SUM(D27:D48) -> 386.5 | F27: =E27/22 -> 17.568182 | H27: 61.530076
B28: 2017011202 | C28: 薄浩溢 | D28: ='20170112'!E5 -> 0 | H28: 0
B29: 2017011203 | C29: 陈俊鹏 | D29: ='20170112'!E6 -> 0 | H29: 0
B30: 2017011204 | C30: 崔军杰 | D30: ='20170112'!E7 -> 0 | H30: 0
B31: 2017011205 | C31: 邓小丁 | D31: ='20170112'!E8 -> 4 | H31: 61.530076
B32: 2017011206 | C32: 高港 | D32: ='20170112'!E9 -> 128.5 | H32: 100
B33: 2017011207 | C33: 郭忠宝 | D33: ='20170112'!E10 -> 4.5 | H33: 61.721335
B34: 2017011209 | C34: 黄振华 | D34: ='20170112'!E11 -> 24.5 | H34: 69.371713
B35: 2017011210 | C35: 姜晶祎 | D35: ='20170112'!E12 -> 0 | H35: 0
B36: 2017011211 | C36: 金磊 | D36: ='20170112'!E13 -> 15 | H36: 65.737783
B37: 2017011212 | C37: 刘佳琦 | D37: ='20170112'!E14 -> 0 | H37: 0
B38: 2017011213 | C38: 刘贤 | D38: ='20170112'!E15 -> 10 | H38: 63.825189
B39: 2017011215 | C39: 路昊儒 | D39: ='20170112'!E16 -> 54 | H39: 80.65602
... B48: 2017011228 | C48: 张云驰 | D48: ='20170112'!E25 -> 40 | H48: 75.300755
A49: 20170113 | B49: 2017011303 | C49: 郭继祯 | D49: ='20170113'!E4 -> 9.5 | E49: =SUM(D49:D71) -> 399 | F49: =E49/23 -> 17.347826 | H49: 63.633929
B50: 2017011304 | C50: 国瑀 | D50: ='20170113'!E5 -> 12.5 | H50: 64.781486
B51: 2017011305 | C51: 韩晓剑 | D51: ='20170113'!E6 -> 69.5 | H51: 86.585063
B52: 2017011306 | C52: 韩鑫悦 | D52: ='20170113'!E7 -> 20 | H52: 67.650378
B53: 2017011307 | C53: 和康健 | D53: ='20170113'!E8 -> 62 | H53: 83.716171
B54: 2017011309 | C54: 刘德浩 | D54: ='20170113'!E9 -> 5.5 | H54: 62.103854
B55: 2017011310 | C55: 刘山川 | D55: ='20170113'!E10 -> 0 | H55: 0
B56: 2017011311 | C56: 刘裕琪 | D56: ='20170113'!E11 -> 0 | H56: 0
B57: 2017011312 | C57: 闵锴瑞 | D57: ='20170113'!E12 -> 20.5 | H57: 67.841637
B58: 2017011313 | C58: 漆宝文 | D58: ='20170113'!E13 -> 0 | H58: 0
B59: 2017011314 | C59: 任义 | D59: ='20170113'!E14 -> 0 | H59: 0
B60: 2017011315 | C60: 申达 | D60: ='20170113'!E15 -> 50 | H60: 79.125944
B61: 2017011316 | C61: 王标 | D61: ='20170113'!E16 -> 50 | H61: 79.125944
... B71: 2017011330 | C71: 朱云涛 | D71: ='20170113'!E26 -> 0 | H71: 0
A72: 20170114 | B72: 2017011401 | C72: 曹霜蕾 | D72: ='20170114'!E4 -> 9 | E72: =SUM(D72:D94) -> 431.5 | F72: =E72/23 -> 18.76087 | H72: 63.44267
B73: 2017011402 | C73: 昌力 | D73: ='20170114'!E5 -> 20.5 | H73: 67.841637
B74: 2017011403 | C74: 陈虹廷 | D74: ='20170114'!E6 -> 105.5 | H74: 100
B75: 2017011404 | C75: 陈雷 | D75: ='20170114'!E7 -> 21.5 | H75: 68.224156
B76: 2017011405 | C76: 陈浠 | D76: ='20170114'!E8 -> 14 | H76: 65.355264
B77: 2017011406 | C77: 崔博文 | D77: ='20170114'!E9 -> 11.5 | H77: 64.398967
B78: 2017011407 | C78: 董昊 | D78: ='20170114'!E10 -> 8.5 | H78: 63.251411
B79: 2017011408 | C79: 高炎宁 | D79: ='20170114'!E11 -> 7 | H79: 62.677632
B80: 2017011409 | C80: 韩兆亮 | D80: ='20170114'!E12 -> 63.5 | H80: 84.289949
B81: 2017011411 | C81: 李昌恩 | D81: ='20170114'!E13 -> 25.5 | H81: 69.754232
B82: 2017011414 | C82: 刘逸飞 | D82: ='20170114'!E14 -> 8 | H82: 63.060151
B83: 2017011415 | C83: 刘英浩 | D83: ='20170114'!E15 -> 5 | H83: 61.912594
B84: 2017011416 | C84: 麻云平 | D84: ='20170114'!E16 -> 8 | H84: 63.060151
... B89: 2017011423 | C89: 王宇涵 | D89: ='20170114'!E21 -> 4.5 | H89: 61.721335
B90: 2017012111 | C90: 李雨馨 | D90: ='20170114'!E22 -> 3 | H90: 61.147557
B91: 2017012127 | C91: 赵迪 | D91: ='20170114'!E23 -> 13 | H91: 64.972746
B92: 2017020218 | C92: 王鹏飞 | D92: ='20170114'!E24 -> 6.5 | H92: 62.486373
B93: 2017071506 | C93: 高铭辰 | D93: ='20170114'!E25 -> 3 | H93: 61.147557
B94: 2017201317 | C94: 孙路程 | D94: ='20170114'!E26 -> 0 | H94: 0
A95: 20170115 | B95: 2017011501 | C95: 陈泓锟 | D95: ='20170115'!E4 -> 0 | E95: =SUM(D95:D118) -> 255.5 | F95: =E95/24 -> 10.645833 | H95: 0
B96: 2017011502 | C96: 陈佳宁 | D96: ='20170115'!E5 -> 0 | H96: 0
B97: 2017011503 | C97: 董韬 | D97: ='20170115'!E6 -> 0 | H97: 0
B98: 2017011504 | C98: 段育鹏 | D98: ='20170115'!E7 -> 0 | H98: 0
B99: 2017011505 | C99: 韩艺鸣 | D99: ='20170115'!E8 -> 13 | H99: 64.972746
B100: 2017011507 | C100: 计博 | D100: ='20170115'!E9 -> 56 | H100: 81.421058
B101: 2017011508 | C101: 李佳麒 | D101: ='20170115'!E10 -> 44 | H101: 76.830831
B102: 2017011509 | C102: 李健滨 | D102: ='20170115'!E11 -> 0 | H102: 0
B103: 2017011510 | C103: 李旭晟 | D103: ='20170115'!E12 -> 1.5 | H103: 60.573778
B104: 2017011512 | C104: 刘海阔 | D104: ='20170115'!E13 -> 3 | H104: 61.147557
B105: 2017011513 | C105: 刘明奇 | D105: ='20170115'!E14 -> 98 | H105: 97.486851
B106: 2017011514 | C106: 刘启航 | D106: ='20170115'!E15 -> 0 | H106: 0
B107: 2017011515 | C107: 苗全洲 | D107: ='20170115'!E16 -> 0 | H107: 0
... B118: 2017011529 | C118: 朱世祺 | D118: ='20170115'!E27 -> 0 | H118: 0
A119: 20170116 | B119: 2017011601 | C119: 陈冠昌 | D119: ='20170116'!E4 -> 4 | E119: =SUM(D119:D140) -> 184.5 | F119: =E119/22 -> 8.3863636 | H119: 61.530076
B120: 2017011602 | C120: 陈炎 | D120: ='20170116'!E5 -> 0 | H120: 0
B121: 2017011604 | C121: 韩博宇 | D121: ='20170116'!E6 -> 0 | H121: 0
B122: 2017011605 | C122: 韩阔屹 | D122: ='20170116'!E7 -> 0 | H122: 0
B123: 2017011606 | C123: 姬祥 | D123: ='20170116'!E8 -> 16 | H123: 66.120302
B124: 2017011608 | C124: 李雲峰 | D124: ='20170116'!E9 -> 44 | H124: 76.830831
B125: 2017011609 | C125: 刘洺毓 | D125: ='20170116'!E10 -> 0 | H125: 0
B126: 2017011610 | C126: 刘诗璐 | D126: ='20170116'!E11 -> 0 | H126: 0
B127: 2017011611 | C127: 刘涛 | D127: ='20170116'!E12 -> 0 | H127: 0
B128: 2017011612 | C128: 满毅 | D128: ='20170116'!E13 -> 0 | H128: 0
B129: 2017011613 | C129: 倪仁杰 | D129: ='20170116'!E14 -> 0 | H129: 0
B130: 2017011614 | C130: 尚明月 | D130: ='20170116'!E15 -> 10 | H130: 63.825189
B131: 2017011615 | C131: 孙伊杰 | D131: ='20170116'!E16 -> 0 | H131: 0
... B140: 2017011629 | C140: 邹馥骏 | D140: ='20170116'!E25 -> 0 | H140: 0
A141: 20170117 | B141: 2017011701 | C141: 蔡逊 | D141: ='20170117'!E4 -> 58 | E141: =SUM(D141:D163) -> 187.5 | F141: =E141/23 -> 8.1521739 | H141: 82.186095
B142: 2017011702 | C142: 曹嘉荣 | D142: ='20170117'!E5 -> 11 | H142: 64.207708
B143: 2017011703 | C143: 车思达 | D143: ='20170117'!E6 -> 7 | H143: 62.677632
B144: 2017011704 | C144: 傅昱晓 | D144: ='20170117'!E7 -> 17 | H144: 66.502821
B145: 2017011705 | C145: 顾靖愚 | D145: ='20170117'!E8 -> 3 | H145: 61.147557
B146: 2017011706 | C146: 郭明轩 | D146: ='20170117'!E9 -> 7 | H146: 62.677632
B147: 2017011707 | C147: 郭鑫宇 | D147: ='20170117'!E10 -> 4 | H147: 61.530076
B148: 2017011708 | C148: 贺帆 | D148: ='20170117'!E11 -> 4 | H148: 61.530076
B149: 2017011709 | C149: 冀珂 | D149: ='20170117'!E12 -> 0 | H149: 0
...

Sheet 2018级学生名单
A1: 2018-2019学年第二学期船舶工程学院2018级团支部公益学时统计表
A2: 班级 | B2: 学号 | C2: 姓名 | D2: 公益学时 | E2: 班级总公益学时 | F2: 班级平均公益学时 | G2: 年级平均公益学时 | H2: 加权公益学分
A3: 20180100 | B3: 2018010118 | C3: 陶春晖 | D3: ='20180100'!E4 -> 48 | E3: =SUM(D3:D31) -> 214.5 | F3: =E3/29 -> 7.3965517 | G3: =(F3+F32+F59+F87+F114+F140+F166+F191+F219+F247+F274+F297+F323)/13 -> 21.623849 | H3: 75.584416
B4: 2018010121 | C4: 王宁 | D4: ='20180100'!E5 -> 15 | H4: 64.87013
B5: 2018010224 | C5: 杨轩宇 | D5: ='20180100'!E6 -> 0 | H5: 60
B6: 2018010228 | C6: 朱军鹏 | D6: ='20180100'!E7 -> 4 | H6: 61.298701
B7: 2018010302 | C7: 范新升 | D7: ='20180100'!E8 -> 29 | H7: 69.415584
B8: 2018010401 | C8: 陈柏廷 | D8: ='20180100'!E9 -> 2 | H8: 60.649351
B9: 2018010415 | C9: 缪帅 | D9: ='20180100'!E10 -> 9 | H9: 62.922078
B10: 2018010422 | C10: 王海霄 | D10: ='20180100'!E11 -> 19 | H10: 66.168831
B11: 2018010503 | C11: 陈龙宇 | D11: ='20180100'!E12 -> 3 | H11: 60.974026
B12: 2018010505 | C12: 崔宗宽 | D12: ='20180100'!E13 -> 0 | H12: 60
B13: 2018010602 | C13: 邓琪 | D13: ='20180100'!E14 -> 2 | H13: 60.649351
B14: 2018010616 | C14: 闫纪冰 | D14: ='20180100'!E15 -> 0 | H14: 60
B15: 2018010627 | C15: 朱世鹏 | D15: ='20180100'!E16 -> 1.5 | H15: 60.487013
... B31: 2017011429 | C31: 赵斌 | D31: ='20180100'!E32 -> 11.5 | H31: 63.733766
A32: 20180101 | B32: 2018010101 | C32: 艾之淏 | D32: ='20180101'!E4 -> 3 | E32: =SUM(D32:D58) -> 216.5 | F32: =E32/27 -> 8.0185185 | H32: 60.974026
B33: 2018010102 | C33: 陈科宇 | D33: ='20180101'!E5 -> 60 | H33: 79.480519
B34: 2018010103 | C34: 陈兴强 | D34: ='20180101'!E6 -> 3 | H34: 60.974026
B35: 2018010104 | C35: 崔曈 | D35: ='20180101'!E7 -> 8 | H35: 62.597403
B36: 2018010105 | C36: 崔昕邈 | D36: ='20180101'!E8 -> 8 | H36: 62.597403
B37: 2018010106 | C37: 杜昊翰 | D37: ='20180101'!E9 -> 15.5 | H37: 65.032468
B38: 2018010107 | C38: 郭适源 | D38: ='20180101'!E10 -> 44.5 | H38: 74.448052
B39: 2018010108 | C39: 韩莹冰 | D39: ='20180101'!E11 -> 0 | H39: 60
B40: 2018010109 | C40: 洪安东 | D40: ='20180101'!E12 -> 0 | H40: 60
B41: 2018010110 | C41: 胡佳 | D41: ='20180101'!E13 -> 9.5 | H41: 63.084416
B42: 2018010111 | C42: 兰飞翔 | D42: ='20180101'!E14 -> 2 | H42: 60.649351
B43: 2018010112 | C43: 刘付康 | D43: ='20180101'!E15 -> 0 | H43: 60
B44: 2018010113 | C44: 刘宇 | D44: ='20180101'!E16 -> 2 | H44: 60.649351
... B58: 2018010129 | C58: 张云飞 | D58: ='20180101'!E30 -> 3 | H58: 60.974026
A59: 20180102 | B59: 2018010201 | C59: 陈奕铭 | D59: ='20180102'!E4 -> 0 | E59: =SUM(D59:D86) -> 529 | F59: =E59/28 -> 18.892857 | H59: 60
B60: 2018010202 | C60: 程力 | D60: ='20180102'!E5 -> 5 | H60: 61.623377
B61: 2018010203 | C61: 董源 | D61: ='20180102'!E6 -> 16 | H61: 65.194805
B62: 2018010204 | C62: 高相阳 | D62: ='20180102'!E7 -> 4 | H62: 61.298701
B63: 2018010205 | C63: 勾鉴明 | D63: ='20180102'!E8 -> 8 | H63: 62.597403
B64: 2018010206 | C64: 郝友铨 | D64: ='20180102'!E9 -> 4.5 | H64: 61.461039
B65: 2018010207 | C65: 侯继昌 | D65: ='20180102'!E10 -> 44 | H65: 74.285714
B66: 2018010208 | C66: 康桢耀 | D66: ='20180102'!E11 -> 44 | H66: 74.285714
B67: 2018010209 | C67: 李家兴 | D67: ='20180102'!E12 -> 59 | H67: 79.155844
B68: 2018010210 | C68: 李品男 | D68: ='20180102'!E13 -> 0 | H68: 60
B69: 2018010211 | C69: 李宪毅 | D69: ='20180102'!E14 -> 4 | H69: 61.298701
B70: 2018010212 | C70: 刘若彤 | D70: ='20180102'!E15 -> 47.5 | H70: 75.422078
B71: 2018010213 | C71: 刘世杰 | D71: ='20180102'!E16 -> 11 | H71: 63.571429
... B86: 2017011226 | C86: 张国桢 | D86: ='20180102'!E31 -> 50 | H86: 76.233766
A87: 20180103 | B87: 2018010301 | C87: 安炎炯 | D87: ='20180103'!E4 -> 10 | E87: =SUM(D87:D113) -> 572.5 | F87: =E87/27 -> 21.203704 | H87: 63.246753
B88: 2018010303 | C88: 高兵兵 | D88: ='20180103'!E5 -> 9 | H88: 62.922078
B89: 2018010304 | C89: 高源 | D89: ='20180103'!E6 -> 87 | H89: 88.246753
B90: 2018010305 | C90: 谷慧群 | D90: ='20180103'!E7 -> 64 | H90: 80.779221
B91: 2018010306 | C91: 黄博远 | D91: ='20180103'!E8 -> 53 | H91: 77.207792
B92: 2018010307 | C92: 康若森 | D92: ='20180103'!E9 -> 2 | H92: 60.649351
B93: 2018010308 | C93: 李东海 | D93: ='20180103'!E10 -> 5 | H93: 61.623377
B94: 2018010309 | C94: 刘顺 | D94: ='20180103'!E11 -> 6 | H94: 61.948052
B95: 2018010310 | C95: 马静雯 | D95: ='20180103'!E12 -> 46 | H95: 74.935065
B96: 2018010311 | C96: 王关宁 | D96: ='20180103'!E13 -> 0 | H96: 60
B97: 2018010312 | C97: 王冠翔 | D97: ='20180103'!E14 -> 8 | H97: 62.597403
B98: 2018010313 | C98: 王帅行 | D98: ='20180103'!E15 -> 7.5 | H98: 62.435065
B99: 2018010314 | C99: 王锡源 | D99: ='20180103'!E16 -> 5.5 | H99: 61.785714
... B113: 2018010328 | C113: 朱子健 | D113: ='20180103'!E30 -> 0 | H113: 60
A114: 20180104 | B114: 2018010402 | C114: 豆利军 | D114: ='20180104'!E4 -> 3 | E114: =SUM(D114:D139) -> 524 | F114: =E114/26 -> 20.153846 | H114: 60.974026
B115: 2018010403 | C115: 段雲木 | D115: ='20180104'!E5 -> 49 | H115: 75.909091
B116: 2018010404 | C116: 冯硕 | D116: ='20180104'!E6 -> 3 | H116: 60.974026
B117: 2018010405 | C117: 高进 | D117: ='20180104'!E7 -> 3 | H117: 60.974026
B118: 2018010406 | C118: 弓梦蕊 | D118: ='20180104'!E8 -> 64 | H118: 80.779221
B119: 2018010407 | C119: 荆宝迪 | D119: ='20180104'!E9 -> 3 | H119: 60.974026
B120: 2018010408 | C120: 李勃含 | D120: ='20180104'!E10 -> 5 | H120: 61.623377
B121: 2018010409 | C121: 李舒畅 | D121: ='20180104'!E11 -> 71 | H121: 83.051948
B122: 2018010410 | C122: 李岩洲 | D122: ='20180104'!E12 -> 3 | H122: 60.974026
B123: 2018010411 | C123: 梁立思 | D123: ='20180104'!E13 -> 3 | H123: 60.974026
B124: 2018010412 | C124: 刘思源 | D124: ='20180104'!E14 -> 3 | H124: 60.974026
B125: 2018010413 | C125: 刘琰 | D125: ='20180104'!E15 -> 3 | H125: 60.974026
B126: 2018010414 | C126: 刘悦多 | D126: ='20180104'!E16 -> 11 | H126: 63.571429
... B139: 2017011430 | C139: 赵轶男 | D139: ='20180104'!E29 -> 15.5 | H139: 65.032468
A140: 20180105 | B140: 2018010501 | C140: 安洺萱 | D140: ='20180105'!E4 -> 8 | E140: =SUM(D140:D165) -> 307 | F140: =E140/26 -> 11.807692 | H140: 62.597403
B141: 2018010502 | C141: 陈付龙 | D141: ='20180105'!E5 -> 0 | H141: 60
B142: 2018010504 | C142: 陈彦存 | D142: ='20180105'!E6 -> 3 | H142: 60.974026
B143: 2018010506 | C143: 何星 | D143: ='20180105'!E7 -> 0 | H143: 60
B144: 2018010507 | C144: 胡碧千 | D144: ='20180105'!E8 -> 0 | H144: 60
B145: 2018010508 | C145: 姜云鹏 | D145: ='20180105'!E9 -> 49 | H145: 75.909091
B146: 2018010509 | C146: 李琦 | D146: ='20180105'!E10 -> 2 | H146: 60.649351
B147: 2018010510 | C147: 刘宇航 | D147: ='20180105'!E11 -> 44 | H147: 74.285714
B148: 2018010511 | C148: 刘湛 | D148: ='20180105'!E12 -> 0 | H148: 60
B149: 2018010512 | C149: 刘镇维 | D149: ='20180105'!E13 -> 2 | H149: 60.649351
B150: 2018010513 | C150: 罗兆鹏 | D150: ='20180105'!E14 -> 44 | H150: 74.285714
B151: 2018010514 | C151: 彭啶一 | D151: ='20180105'!E15 -> 6 | H151: 61.948052
B152: 2018010515 | C152: 朴相坤 | D152: ='20180105'!E16 -> 3 | H152: 60.974026
... B165: 2018010528 | C165: 朱沛瀚 | D165: ='20180105'!E29 -> 8 | H165: 62.597403
A166: 20180106 | B166: 2018010601 | C166: 代昕伯 | D166: 2 | E166: =SUM(D166:D190) -> 891 | F166: =E166/25 -> 35.64 | H166: 60.649351
B167: 2018010603 | C167: 郭璐能 | D167: ='20180106'!E5 -> 10 | H167: 63.246753
B168: 2018010604 | C168: 郝祥森 | D168: ='20180106'!E6 -> 0 | H168: 60
B169: 2018010605 | C169: 胡世 | D169: ='20180106'!E7 -> 0 | H169: 60
B170: 2018010606 | C170: 胡守军 | D170: ='20180106'!E8 -> 2 | H170: 60.649351
B171: 2018010607 | C171: 李貌 | D171: ='20180106'!E9 -> 57 | H171: 78.506494
B172: 2018010608 | C172: 刘威 | D172: ='20180106'!E10 -> 12 | H172: 63.896104
B173: 2018010609 | C173: 马致遥 | D173: ='20180106'!E11 -> 9 | H173: 62.922078
B174: 2018010610 | C174: 沈令泽 | D174: ='20180106'!E12 -> 0 | H174: 60
B175: 2018010611 | C175: 孙浩迪 | D175: ='20180106'!E13 -> 54 | H175: 77.532468
B176: 2018010612 | C176: 童巨辉 | D176: ='20180106'!E14 -> 6 | H176: 61.948052
B177: 2018010613 | C177: 王向鲁 | D177: ='20180106'!E15 -> 108.5 | H177: 95.227273
B178: 2018010614 | C178: 王兴家 | D178: ='20180106'!E16 -> 18 | H178: 65.844156
... B190: 2018010628 | C190: 朱奕蘅 | D190: ='20180106'!E28 -> 52 | H190: 76.883117
...

Sheet 20160111
A1: 2019年下学期 20160111班公益学时公布表
A2: 班级 | B2: 总学时 | C2: 参与人员 | E2: 个人总学时 | F2: 以院系或团委、学生会、学指为单位开展的公益活动 | G2: 以团支部为单位开展的公益活动 | H2: 小红帽组织开展的公益活动 | I2: 私人型公益活动
C3: 学号 | D3: 姓名 | H3: 杏花林学士服志愿者 | I3: 图书馆值班 | J3: 海航器志愿者 | K3: 高招会志愿者 | L3: 迎新校园秩序维护
A4: 20160111 | B4: =SUM(E4:E32) -> 127.5 | C4: 2016011101 | D4: 杜炜辰 | E4: =SUM(F4:AC4) -> 0
C5: 2016011102 | D5: 付天源 | E5: =SUM(F5:AC5) -> 0
C6: 2016011103 | D6: 高锐 | E6: =SUM(F6:AC6) -> 0
C7: 2016011104 | D7: 高翔 | E7: =SUM(F7:AC7) -> 0
C8: 2016011105 | D8: 高小彤 | E8: =SUM(F8:AC8) -> 0
C9: 2016011106 | D9: 何景楠 | E9: =SUM(F9:AC9) -> 0
C10: 2016011107 | D10: 贾金鹏 | E10: =SUM(F10:AC10) -> 0
C11: 2016011109 | D11: 梁龙龙 | E11: =SUM(F11:AC11) -> 18 | L11: 18
C12: 2016011110 | D12: 林育望 | E12: =SUM(F12:AC12) -> 0
C13: 2016011112 | D13: 刘正全 | E13: =SUM(F13:AC13) -> 0
C14: 2016011113 | D14: 马国庆 | E14: =SUM(F14:AC14) -> 0
C15: 2016011114 | D15: 马竑彧 | E15: =SUM(F15:AC15) -> 0
C16: 2016011115 | D16: 孟繁禹 | E16: =SUM(F16:AC16) -> 48 | J16: 44 | K16: 4
C17: 2016011116 | D17: 聂英钊 | E17: =SUM(F17:AC17) -> 0
C18: 2016011117 | D18: 祁彧 | E18: =SUM(F18:AC18) -> 0
C19: 2016011118 | D19: 孙柏康 | E19: =SUM(F19:AC19) -> 0
C20: 2016011119 | D20: 孙昊天 | E20: =SUM(F20:AC20) -> 0
C21: 2016011120 | D21: 吴坤罡 | E21: =SUM(F21:AC21) -> 0
C22: 2016011121 | D22: 杨子鹏 | E22: =SUM(F22:AC22) -> 0
C23: 2016011122 | D23: 以诺 | E23: =SUM(F23:AC23) -> 0
C24: 2016011123 | D24: 张璐 | E24: =SUM(F24:AC24) -> 5.5 | H24: 1.5 | K24: 4
C25: 2016011124 | D25: 张习迪 | E25: =SUM(F25:AC25) -> 12 | I25: 8 | K25: 4
C26: 2016011125 | D26: 张岩松 | E26: =SUM(F26:AC26) -> 44 | J26: 44
C27: 2016011126 | D27: 张宇 | E27: =SUM(F27:AC27) -> 0
C28: 2016011127 | D28: 张宇昂 | E28: =SUM(F28:AC28) -> 0
C29: 2016011128 | D29: 赵丹晨 | E29: =SUM(F29:AC29) -> 0
C30: 2016011129 | D30: 朱洪锋 | E30: =SUM(F30:AC30) -> 0
C31: 2015011108 | D31: 李名哲 | E31: =SUM(F31:AC31) -> 0
C32: 2016071226 | D32: 杨金鑫 | E32: =SUM(F32:AC32) -> 0

Sheet 20160112
A1: 2019下学期20160112班公益学时公布表
A2: 班级 | B2: 总学时 | C2: 参与人员 | E2: 个人总学时 | F2: 以院系或团委、学生会、学指为单位开展的公益活动 | G2: 以团支部为单位开展的公益活动 | H2: 小红帽组织开展的公益活动 | I2: 私人型公益活动
C3: 学号 | D3: 姓名 | I3: 海航器志愿者
A4: 20160112 | B4: =SUM(E4:E33) -> 44 | C4: 2016011201 | D4: 毕嵩钰 | E4: =SUM(F4:I4) -> 0
C5: 2016011202 | D5: 曹禹 | E5: =SUM(F5:I5) -> 0
C6: 2016011203 | D6: 单一航 | E6: =SUM(F6:I6) -> 0
C7: 2016011204 | D7: 樊杰 | E7: =SUM(F7:I7) -> 0
C8: 2016011205 | D8: 高建林 | E8: =SUM(F8:I8) -> 0
C9: 2016011206 | D9: 谷绪峰 | E9: =SUM(F9:I9) -> 0
C10: 2016011207 | D10: 姜涛 | E10: =SUM(F10:I10) -> 0
C11: 2016011208 | D11: 井学斌 | E11: =SUM(F11:I11) -> 0
C12: 2016011209 | D12: 景重阳 | E12: =SUM(F12:I12) -> 0
C13: 2016011210 | D13: 李德玉 | E13: =SUM(F13:I13) -> 44 | I13: 44
C14: 2016011211 | D14: 李相杰 | E14: =SUM(F14:I14) -> 0
C15: 2016011212 | D15: 李鑫禹 | E15: =SUM(F15:I15) -> 0
C16: 2016011213 | D16: 刘靖 | E16: =SUM(F16:I16) -> 0
C17: 2016011214 | D17: 刘可宁 | E17: =SUM(F17:I17) -> 0
C18: 2016011215 | D18: 罗铭 | E18: =SUM(F18:I18) -> 0
C19: 2016011216 | D19: 浦凡 | E19: =SUM(F19:I19) -> 0
C20: 2016011217 | D20: 石松江 | E20: =SUM(F20:I20) -> 0
C21: 2016011218 | D21: 孙楠荣 | E21: =SUM(F21:I21) -> 0
C22: 2016011219 | D22: 孙松元 | E22: =SUM(F22:I22) -> 0
C23: 2016011220 | D23: 田雨 | E23: =SUM(F23:I23) -> 0
C24: 2016011221 | D24: 王培龙 | E24: =SUM(F24:I24) -> 0
C25: 2016011222 | D25: 徐双胤 | E25: =SUM(F25:I25) -> 0
... C32: 2016011229 | D32: 周巧眉 | E32: =SUM(F32:I32) -> 0
C33: 2016071630 | D33: 钟景聿 | E33: =SUM(F33:I33) -> 0

Sheet 20160113
A1: 2019年下学期 20160113班公益学时公布表
A2: 班级 | B2: 总学时 | C2: 参与人员 | E2: 个人总学时 | F2: 以院系或团委、学生会、学指为单位开展的公益活动 | G2: 以团支部为单位开展的公益活动 | I2: 小红帽组织开展的公益活动 | L2: 私人型公益活动
C3: 学号 | D3: 姓名 | G3: 6.8班助一 | H3: 6.6七彩课堂 | I3: 3.14七彩课堂 | J3: 3.21七彩课堂 | K3: 杏花林学士服志愿者
A4: 20160113 | B4: =SUM(E4:E34) -> 22.5 | C4: 2016011301 | D4: 陈阔 | E4: =SUM(F4:L4) -> 6 | J4: 3 | K4: 3
C5: 2016011302 | D5: 陈卓 | E5: =SUM(F5:L5) -> 3 | I5: 3
C6: 2016011303 | D6: 程天琥 | E6: =SUM(F6:L6) -> 0
C7: 2016011304 | D7: 范吉豪 | E7: =SUM(F7:L7) -> 0
C8: 2016011305 | D8: 盖康雨 | E8: =SUM(F8:L8) -> 1.5 | K8: 1.5
C9: 2016011306 | D9: 高永强 | E9: =SUM(F9:L9) -> 3 | G9: 3
C10: 2016011307 | D10: 郭磊 | E10: =SUM(F10:L10) -> 0
C11: 2016011308 | D11: 韩定坤 | E11: =SUM(F11:L11) -> 0
C12: 2016011309 | D12: 蒋佳鑫 | E12: =SUM(F12:L12) -> 0
C13: 2016011310 | D13: 李家园 | E13: =SUM(F13:L13) -> 0
C14: 2016011311 | D14: 李宗霖 | E14: =SUM(F14:L14) -> 0
C15: 2016011312 | D15: 林志远 | E15: =SUM(F15:L15) -> 0
C16: 2016011313 | D16: 刘浩宇 | E16: =SUM(F16:L16) -> 0
C17: 2016011314 | D17: 刘恺 | E17: =SUM(F17:L17) -> 3 | I17: 3
C18: 2016011315 | D18: 刘石 | E18: =SUM(F18:L18) -> 0
C19: 2016011316 | D19: 刘伊鹏 | E19: =SUM(F19:L19) -> 3 | I19: 3
C20: 2016011317 | D20: 龙嘉敏 | E20: =SUM(F20:L20) -> 0
C21: 2016011318 | D21: 孟帅 | E21: =SUM(F21:L21) -> 0
C22: 2016011319 | D22: 南春 | E22: =SUM(F22:L22) -> 0
C23: 2016011320 | D23: 任维哲 | E23: =SUM(F23:L23) -> 0
C24: 2016011321 | D24: 宋雨宸 | E24: =SUM(F24:L24) -> 0
C25: 2016011322 | D25: 王嘉麟 | E25: =SUM(F25:L25) -> 0
C26: 2016011323 | D26: 王鑫源 | E26: =SUM(F26:L26) -> 0
C27: 2016011324 | D27: 文安松 | E27: =SUM(F27:L27) -> 0
C28: 2016011325 | D28: 杨磊 | E28: =SUM(F28:L28) -> 0
C29: 2016011326 | D29: 杨毅 | E29: =SUM(F29:L29) -> 0
C30: 2016011327 | D30: 翟子正 | E30: =SUM(F30:L30) -> 0
C31: 2016011328 | D31: 张博 | E31: =SUM(F31:L31) -> 3 | H31: 3
C32: 2016011329 | D32: 张硕 | E32: =SUM(F32:L32) -> 0
C33: 2016011330 | D33: 张晓茜 | E33: =SUM(F33:L33) -> 0
C34: 2016071814 | D34: 沙亚锋 | E34: =SUM(F34:L34) -> 0

Sheet 20160114
A1: 2019年下学期 20160114班公益学时公布表
A2: 班级 | B2: 总学时 | C2: 参与人员 | E2: 个人总学时 | F2: 以院系或团委、学生会、学指为单位开展的公益活动 | G2: 以团支部为单位开展的公益活动 | H2: 小红帽组织开展的公益活动 | J2: 私人型公益活动
C3: 学号 | D3: 姓名 | H3: 4.25七彩课堂 | I3: 6.8海洋公益慢跑 | J3: 花园街道垃圾分类 | K3: 海航器志愿者 | L3: 研究生足球赛志愿者 | M3: 船舶博物馆志愿者
A4: 20160114 | B4: =SUM(E4:E30) -> 180.5 | C4: 2016011401 | D4: 卞鑫宇 | E4: =SUM(F4:M4) -> 12 | L4: 12
C5: 2016011402 | D5: 陈俊北 | E5: =SUM(F5:M5) -> 0
C6: 2016011403 | D6: 冯杰熹 | E6: =SUM(F6:M6) -> 0
C7: 2016011404 | D7: 葛晓威 | E7: =SUM(F7:M7) -> 0
C8: 2016011405 | D8: 龚方玉 | E8: =SUM(F8:M8) -> 64.5 | K8: 44 | M8: 20.5
C9: 2016011406 | D9: 韩松杰 | E9: =SUM(F9:M9) -> 3 | H9: 3
C10: 2016011407 | D10: 亢文辉 | E10: =SUM(F10:M10) -> 3 | H10: 3
C11: 2016011408 | D11: 雷伟程 | E11: =SUM(F11:M11) -> 2 | I11: 2
C12: 2016011409 | D12: 李铭昊 | E12: =SUM(F12:M12) -> 0
C13: 2016011410 | D13: 刘恩慧 | E13: =SUM(F13:M13) -> 0
C14: 2016011411 | D14: 刘浩东 | E14: =SUM(F14:M14) -> 44 | K14: 44
C15: 2016011412 | D15: 刘继骁 | E15: =SUM(F15:M15) -> 0
C16: 2016011414 | D16: 刘骁锋 | E16: =SUM(F16:M16) -> 0
C17: 2016011415 | D17: 栾昌福 | E17: =SUM(F17:M17) -> 0
C18: 2016011416 | D18: 马东 | E18: =SUM(F18:M18) -> 44 | K18: 44
C19: 2016011418 | D19: 唐登高 | E19: =SUM(F19:M19) -> 0
C20: 2016011419 | D20: 万明超 | E20: =SUM(F20:M20) -> 2 | J20: 2
C21: 2016011420 | D21: 万泽臣 | E21: =SUM(F21:M21) -> 4 | I21: 4
C22: 2016011421 | D22: 王蔚 | E22: =SUM(F22:M22) -> 0
C23: 2016011422 | D23: 武裕鑫 | E23: =SUM(F23:M23) -> 2 | J23: 2
C24: 2016011424 | D24: 张恩华 | E24: =SUM(F24:M24) -> 0
C25: 2016011425 | D25: 张家利 | E25: =SUM(F25:M25) -> 0
C26: 2016011426 | D26: 张旭阳 | E26: =SUM(F26:M26) -> 0
C27: 2016011428 | D27: 赵羽扬 | E27: =SUM(F27:M27) -> 0
C28: 2016011429 | D28: 朱雪源 | E28: =SUM(F28:M28) -> 0
C29: 2016011430 | D29: 祝港 | E29: =SUM(F29:M29) -> 0
C30: 2016071818 | D30: 王忠平 | E30: =SUM(F30:M30) -> 0

Sheet 20160115
A1: 2019下学期 20160115班公益学时公布表
A2: 班级 | B2: 总学时 | C2: 参与人员 | E2: 个人总学时 | F2: 以院系或团委、学生会、学指为单位开展的公益活动 | G2: 以团支部为单位开展的公益活动 | H2: 小红帽组织开展的公益活动 | I2: 私人型公益活动
C3: 学号 | D3: 姓名 | I3: 高招会志愿者
A4: 20160115 | B4: =SUM(E4:E34) -> 4 | C4: 2016011501 | D4: 郭广宇 | E4: =SUM(F4:N4) -> 0
C5: 2016011502 | D5: 郭腾 | E5: =SUM(F5:N5) -> 0
C6: 2016011503 | D6: 侯思宇 | E6: =SUM(F6:N6) -> 0
C7: 2016011504 | D7: 胡潇佳 | E7: =SUM(F7:N7) -> 0
C8: 2016011505 | D8: 景锐洁 | E8: =SUM(F8:N8) -> 0
C9: 2016011506 | D9: 李鸿远 | E9: =SUM(F9:N9) -> 0
C10: 2016011507 | D10: 李家辉 | E10: =SUM(F10:N10) -> 0
C11: 2016011508 | D11: 李立豪 | E11: =SUM(F11:N11) -> 0
C12: 2016011509 | D12: 李政谋 | E12: =SUM(F12:N12) -> 0
C13: 2016011510 | D13: 刘广 | E13: =SUM(F13:N13) -> 0
C14: 2016011511 | D14: 罗春苗 | E14: =SUM(F14:N14) -> 0
C15: 2016011512 | D15: 彭芷昕 | E15: =SUM(F15:N15) -> 4 | I15: 4
C16: 2016011513 | D16: 任经红 | E16: =SUM(F16:N16) -> 0
C17: 2016011514 | D17: 邵宇航 | E17: =SUM(F17:N17) -> 0
C18: 2016011515 | D18: 舒江政 | E18: =SUM(F18:N18) -> 0
C19: 2016011516 | D19: 王佳奇 | E19: =SUM(F19:N19) -> 0
C20: 2016011517 | D20: 王嘉欣 | E20: =SUM(F20:N20) -> 0
C21: 2016011518 | D21: 王焱 | E21: =SUM(F21:N21) -> 0
C22: 2016011519 | D22: 王哲 | E22: =SUM(F22:N22) -> 0
C23: 2016011520 | D23: 吴其远 | E23: =SUM(F23:N23) -> 0
C24: 2016011521 | D24: 吴晓涵 | E24: =SUM(F24:N24) -> 0
C25: 2016011522 | D25: 向希 | E25: =SUM(F25:N25) -> 0
C26: 2016011523 | D26: 谢逸鸣 | E26: =SUM(F26:N26) -> 0
C27: 2016011524 | D27: 徐培鸿 | E27: =SUM(F27:N27) -> 0
... C33: 2016011530 | D33: 钟贻 | E33: =SUM(F33:N33) -> 0
C34: 2016101218 | D34: 王嘉捷 | E34: =SUM(F34:N34) -> 0

Sheet 20160116
A1: 2019年下学期 20160116班公益学时公布表
A2: 班级 | B2: 总学时 | C2: 参与人员 | E2: 个人总学时 | F2: 以院系或团委、学生会、学指为单位开展的公益活动 | G2: 以团支部为单位开展的公益活动 | H2: 小红帽组织开展的公益活动 | I2: 私人型公益活动
C3: 学号 | D3: 姓名 | H3: 6.8海洋公益慢跑
A4: 20160116 | B4: =SUM(E4:E34) -> 2 | C4: 2016011601 | D4: 曹远 | E4: =SUM(F4:I4) -> 2 | H4: 2
C5: 2016011602 | D5: 陈诚 | E5: =SUM(F5:I5) -> 0
C6: 2016011603 | D6: 陈维欣 | E6: =SUM(F6:I6) -> 0
C7: 2016011604 | D7: 陈哲 | E7: =SUM(F7:I7) -> 0
C8: 2016011605 | D8: 迟子涵 | E8: =SUM(F8:I8) -> 0
C9: 2016011606 | D9: 龚民江 | E9: =SUM(F9:I9) -> 0
C10: 2016011607 | D10: 郭啸寒 | E10: =SUM(F10:I10) -> 0
C11: 2016011608 | D11: 鞠欣洋 | E11: =SUM(F11:I11) -> 0
C12: 2016011609 | D12: 黎梦坤 | E12: =SUM(F12:I12) -> 0
C13: 2016011610 | D13: 李福庚 | E13: =SUM(F13:I13) -> 0
C14: 2016011611 | D14: 李宏涛 | E14: =SUM(F14:I14) -> 0
C15: 2016011612 | D15: 李江昊 | E15: =SUM(F15:I15) -> 0
C16: 2016011613 | D16: 刘港慧 | E16: =SUM(F16:I16) -> 0
... C33: 2016011630 | D33: 邹通达 | E33: =SUM(F33:I33) -> 0
C34: 2015011630 | D34: 安帅 | E34: =SUM(F34:I34) -> 0

Sheet 20160117
A1: 2019年下学期 20160117班公益学时公布表
A2: 班级 | B2: 总学时 | C2: 参与人员 | E2: 个人总学时 | F2: 以院系或团委、学生会、学指为单位开展的公益活动 | G2: 以团支部为单位开展的公益活动 | H2: 小红帽组织开展的公益活动 | K2: 私人型公益活动
C3: 学号 | D3: 姓名 | G3: 4.15古梨园清扫 | H3: 杏花林学士服志愿者 | I3: 爱心长跑 | J3: 6.8海洋公益慢跑 | K3: 5.11船海楼志愿者 | L3: 杏花节志愿活动 | M3: 海洋文化馆志愿者 | N3: 虹桥中学参观活动 | O3: 海航器志愿者 | P3: 6.4船海楼整理档案 | Q3: 高招会志愿者
A4: 20160117 | B4: =SUM(E4:E30) -> 184.5 | C4: 2016011701 | D4: 安欣然 | E4: =SUM(F4:AG4) -> 0
C5: 2016011702 | D5: 毕鸢博 | E5: =SUM(F5:AG5) -> 15 | G5: 2 | I5: 3 | J5: 2 | K5: 4 | Q5: 4
C6: 2016011703 | D6: 蔡乔蒙 | E6: =SUM(F6:AG6) -> 0
C7: 2016011704 | D7: 陈航宇 | E7: =SUM(F7:AG7) -> 7 | P7: 3 | Q7: 4
C8: 2016011705 | D8: 迟厚新 | E8: =SUM(F8:AG8) -> 0
C9: 2016011706 | D9: 费英杰 | E9: =SUM(F9:AG9) -> 0
C10: 2016011707 | D10: 简帆 | E10: =SUM(F10:AG10) -> 0
C11: 2016011708 | D11: 蒋振宇 | E11: =SUM(F11:AG11) -> 0
C12: 2016011709 | D12: 康子雄 | E12: =SUM(F12:AG12) -> 0
C13: 2016011710 | D13: 李林杰 | E13: =SUM(F13:AG13) -> 0
C14: 2016011712 | D14: 刘润男 | E14: =SUM(F14:AG14) -> 2 | G14: 2
C15: 2016011713 | D15: 陆嘉炜 | E15: =SUM(F15:AG15) -> 0
C16: 2016011714 | D16: 曲悦含 | E16: =SUM(F16:AG16) -> 2 | G16: 2
C17: 2016011715 | D17: 田寓侨 | E17: =SUM(F17:AG17) -> 0
C18: 2016011716 | D18: 涂宇 | E18: =SUM(F18:AG18) -> 0
C19: 2016011717 | D19: 汪磊 | E19: =SUM(F19:AG19) -> 0
C20: 2016011718 | D20: 王乾 | E20: =SUM(F20:AG20) -> 0
C21: 2016011719 | D21: 王赢旋 | E21: =SUM(F21:AG21) -> 2 | G21: 2
C22: 2016011720 | D22: 王震 | E22: =SUM(F22:AG22) -> 0
C23: 2016011721 | D23: 吴树功 | E23: =SUM(F23:AG23) -> 0
C24: 2016011722 | D24: 谢盼 | E24: =SUM(F24:AG24) -> 3.5 | G24: 2 | H24: 1.5
C25: 2016011723 | D25: 许海威 | E25: =SUM(F25:AG25) -> 0
C26: 2016011725 | D26: 闫瑞丰 | E26: =SUM(F26:AG26) -> 0
C27: 2016011726 | D27: 彦祥宇 | E27: =SUM(F27:AG27) -> 22 | M27: 22
C28: 2016011727 | D28: 张文杰 | E28: =SUM(F28:AG28) -> 124 | G28: 2 | L28: 30 | M28: 42 | N28: 6 | O28: 44
C29: 2016011728 | D29: 张志洋 | E29: =SUM(F29:AG29) -> 7 | G29: 2 | I29: 3 | J29: 2
C30: 2016011729 | D30: 钟维格 | E30: =SUM(F30:AG30) -> 0

Sheet 20160121
A1: 2019年下学期 20160121班公益学时公布表
A2: 班级 | B2: 总学时 | C2: 参与人员 | E2: 个人总学时 | F2: 以院系或团委、学生会、学指为单位开展的公益活动 | G2: 以团支部为单位开展的公益活动 | H2: 小红帽组织开展的公益活动 | I2: 私人型公益活动
C3: 学号 | D3: 姓名 | H3: 杏花林学士服志愿者 | I3: 校医院志愿者 | J3: 海航器志愿者 | K3: 6.4船海楼整理档案
A4: 20160121 | B4: =SUM(E4:E33) -> 96.5 | C4: 2016012101 | D4: 蔡默耕 | E4: =SUM(F4:K4) -> 0
C5: 2016012102 | D5: 陈文越 | E5: =SUM(F5:K5) -> 0
C6: 2016012103 | D6: 笪贤楠 | E6: =SUM(F6:K6) -> 0
C7: 2016012104 | D7: 丁海鑫 | E7: =SUM(F7:K7) -> 0
C8: 2016012105 | D8: 董士宇 | E8: =SUM(F8:K8) -> 0
C9: 2016012106 | D9: 郭雪卿 | E9: =SUM(F9:K9) -> 96.5 | H9: 1.5 | I9: 48 | J9: 44 | K9: 3
C10: 2016012107 | D10: 侯建彬 | E10: =SUM(F10:K10) -> 0
C11: 2016012108 | D11: 黄启阳 | E11: =SUM(F11:K11) -> 0
C12: 2016012109 | D12: 贾延铄 | E12: =SUM(F12:K12) -> 0
C13: 2016012110 | D13: 卢坤坤 | E13: =SUM(F13:K13) -> 0
C14: 2016012111 | D14: 聂凡 | E14: =SUM(F14:K14) -> 0
C15: 2016012112 | D15: 牛昱翔 | E15: =SUM(F15:K15) -> 0
C16: 2016012113 | D16: 曲锦轩 | E16: =SUM(F16:K16) -> 0
C17: 2016012114 | D17: 沈媛 | E17: =SUM(F17:K17) -> 0
C18: 2016012115 | D18: 谭宇坤 | E18: =SUM(F18:K18) -> 0
C19: 2016012116 | D19: 王腾峰 | E19: =SUM(F19:K19) -> 0
C20: 2016012117 | D20: 王羽钧 | E20: =SUM(F20:K20) -> 0
C21: 2016012118 | D21: 吴中寅 | E21: =SUM(F21:K21) -> 0
... C33: 2014012124 | D33: 张兆宇 | E33: =SUM(F33:K33) -> 0

Sheet 20160122
A1: 2019年下学期 20160122班公益学时公布表
A2: 班级 | B2: 总学时 | C2: 参与人员 | E2: 个人总学时 | F2: 以院系或团委、学生会、学指为单位开展的公益活动 | G2: 以团支部为单位开展的公益活动 | I2: 小红帽组织开展的公益活动 | K2: 私人型公益活动
C3: 学号 | D3: 姓名 | G3: 6.23慰问活动 | H3: 6.23清理小广告 | I3: 杏花林学士服志愿者 | J3: 6.8海洋公益慢跑 | K3: 2019年迎新工作人员 | L3: 校青协迎新 | M3: 兴海论坛 | N3: 爱心长跑 | O3: 海航器志愿者 | P3: 高招会志愿者
A4: 20160122 | B4: =SUM(E4:E32) -> 153.5 | C4: 2016012201 | D4: 陈博耀 | E4: =SUM(F4:AD4) -> 0
C5: 2016012202 | D5: 戴晨曦 | E5: =SUM(F5:AD5) -> 0
C6: 2016012203 | D6: 顾茜婷 | E6: =SUM(F6:AD6) -> 15.5 | G6: 3 | H6: 3 | I6: 1.5 | M6: 4 | P6: 4
C7: 2016012204 | D7: 郝伟 | E7: =SUM(F7:AD7) -> 17 | J7: 2 | L7: 11 | P7: 4
C8: 2016012205 | D8: 何鑫 | E8: =SUM(F8:AD8) -> 0
C9: 2016012206 | D9: 黄孙娅 | E9: =SUM(F9:AD9) -> 12 | G9: 3 | H9: 3 | I9: 3 | N9: 3
C10: 2016012207 | D10: 蒋旭 | E10: =SUM(F10:AD10) -> 6 | G10: 3 | H10: 3
C11: 2016012208 | D11: 景一鸣 | E11: =SUM(F11:AD11) -> 0
C12: 2016012209 | D12: 李京辉 | E12: =SUM(F12:AD12) -> 6 | G12: 3 | H12: 3
C13: 2016012210 | D13: 刘浩南 | E13: =SUM(F13:AD13) -> 6 | G13: 3 | H13: 3
C14: 2016012211 | D14: 刘明秋 | E14: =SUM(F14:AD14) -> 0
C15: 2016012212 | D15: 刘铭飞 | E15: =SUM(F15:AD15) -> 0
C16: 2016012213 | D16: 刘振坤 | E16: =SUM(F16:AD16) -> 6 | G16: 3 | H16: 3
C17: 2016012214 | D17: 罗航 | E17: =SUM(F17:AD17) -> 0
C18: 2016012215 | D18: 冒刘鹏 | E18: =SUM(F18:AD18) -> 9 | G18: 3 | H18: 3 | I18: 3
C19: 2016012216 | D19: 彭钟湖 | E19: =SUM(F19:AD19) -> 0
C20: 2016012217 | D20: 唐毓鑫 | E20: =SUM(F20:AD20) -> 0
C21: 2016012218 | D21: 田子锐 | E21: =SUM(F21:AD21) -> 0
C22: 2016012219 | D22: 王佳雯 | E22: =SUM(F22:AD22) -> 7.5 | G22: 3 | H22: 3 | I22: 1.5
C23: 2016012220 | D23: 王洁 | E23: =SUM(F23:AD23) -> 68.5 | G23: 3 | H23: 3 | I23: 1.5 | K23: 6 | M23: 4 | N23: 3 | O23: 44 | P23: 4
C24: 2016012221 | D24: 王旭晨 | E24: =SUM(F24:AD24) -> 0
C25: 2016012222 | D25: 王一鸣 | E25: =SUM(F25:AD25) -> 0
C26: 2016012223 | D26: 王一平 | E26: =SUM(F26:AD26) -> 0
C27: 2016012224 | D27: 王志杰 | E27: =SUM(F27:AD27) -> 0
C28: 2016012225 | D28: 魏晓志 | E28: =SUM(F28:AD28) -> 0
C29: 2016012226 | D29: 吴桐 | E29: =SUM(F29:AD29) -> 0
C30: 2016012227 | D30: 谢申波 | E30: =SUM(F30:AD30) -> 0
C31: 2016012228 | D31: 薛方俊 | E31: =SUM(F31:AD31) -> 0
C32: 2016012229 | D32: 周昭民 | E32: =SUM(F32:AD32) -> 0

Sheet 20170111
A1: 2019年下学期20170111班公益学时公布表
A2: 班级 | B2: 总学时 | C2: 参与人员 | E2: 个人总学时 | F2: 以院系或团委、学生会、学指为单位开展的公益活动 | G2: 以团支部为单位开展的公益活动 | H2: 小红帽组织开展的公益活动 | J2: 私人型公益活动
C3: 学号 | D3: 姓名 | G3: 暑期社会实践三下乡 | H3: 捐书 | I3: 杏花林学士服志愿者 | J3: 点亮蓝灯志愿活动 | K3: 市医院志愿者 | L3: 船舶馆志愿者 | M3: 2019年新生导航员 | N3: 海航器志愿者 | O3: 高招会志愿者 | P3: 开心宝贝 | Q3: 守护星星 | R3: 书法比赛志愿者 | S3: 迎新校园秩序维护 | T3: 五四表彰大会志愿者 | U3: 教代会志愿者
A4: 20170111 | B4: =SUM(E4:E27) -> 528 | C4: 2017011102 | D4: 陈启航 | E4: =SUM(F4:Z4) -> 46 | G4: 10 | H4: 2 | J4: 3 | L4: 31
C5: 2017011104 | D5: 杜德昕 | E5: =SUM(F5:Z5) -> 9 | H5: 2 | J5: 3 | P5: 4
C6: 2017011105 | D6: 樊其祥 | E6: =SUM(F6:Z6) -> 57 | J6: 3 | M6: 6 | N6: 44 | P6: 4
C7: 2017011106 | D7: 高锐 | E7: =SUM(F7:Z7) -> 3 | J7: 3
C8: 2017011107 | D8: 高适 | E8: =SUM(F8:Z8) -> 3 | J8: 3
C9: 2017011108 | D9: 谷俊林 | E9: =SUM(F9:Z9) -> 104 | J9: 3 | K9: 12 | P9: 32 | Q9: 18 | R9: 4 | S9: 35
C10: 2017011109 | D10: 管明阳 | E10: =SUM(F10:Z10) -> 97 | J10: 3 | K10: 50 | N10: 44
C11: 2017011110 | D11: 韩爱琪 | E11: =SUM(F11:Z11) -> 3 | J11: 3
C12: 2017011111 | D12: 郝昊 | E12: =SUM(F12:Z12) -> 3 | J12: 3
C13: 2017011112 | D13: 洪岩 | E13: =SUM(F13:Z13) -> 3 | J13: 3
C14: 2017011113 | D14: 霍帅文 | E14: =SUM(F14:Z14) -> 3 | J14: 3
C15: 2017011114 | D15: 李家雨 | E15: =SUM(F15:Z15) -> 25 | G15: 10 | J15: 3 | O15: 4 | P15: 4 | S15: 4
C16: 2017011115 | D16: 刘明亮 | E16: =SUM(F16:Z16) -> 17 | G16: 10 | J16: 3 | P16: 4
C17: 2017011116 | D17: 刘鹏 | E17: =SUM(F17:Z17) -> 21 | G17: 10 | J17: 3 | O17: 4 | P17: 4
C18: 2017011118 | D18: 龙镜冰 | E18: =SUM(F18:Z18) -> 17 | G18: 10 | J18: 3 | P18: 4
C19: 2017011120 | D19: 毛家圆 | E19: =SUM(F19:Z19) -> 64 | G19: 10 | J19: 3 | P19: 4 | S19: 35 | T19: 4 | U19: 8
C20: 2017011121 | D20: 孟令晗 | E20: =SUM(F20:Z20) -> 7 | J20: 3 | P20: 4
C21: 2017011122 | D21: 钱睿 | E21: =SUM(F21:Z21) -> 0
C22: 2017011123 | D22: 王宇洋 | E22: =SUM(F22:Z22) -> 7 | J22: 3 | P22: 4
C23: 2017011124 | D23: 王子灏 | E23: =SUM(F23:Z23) -> 7 | J23: 3 | P23: 4
C24: 2017011125 | D24: 谢千慧 | E24: =SUM(F24:Z24) -> 11 | J24: 3 | P24: 8
C25: 2017011127 | D25: 杨晨 | E25: =SUM(F25:Z25) -> 7 | J25: 3 | P25: 4
C26: 2017011128 | D26: 杨涵辰 | E26: =SUM(F26:Z26) -> 7 | J26: 3 | P26: 4
C27: 2017011130 | D27: 赵清扬 | E27: =SUM(F27:Z27) -> 7 | J27: 3 | P27: 4

Sheet 20170112
A1: 2019年下学期20170112班公益学时公布表
A2: 班级 | B2: 总学时 | C2: 参与人员 | E2: 个人总学时 | F2: 以院系或团委、学生会、学指为单位开展的公益活动 | G2: 以团支部为单位开展的公益活动 | H2: 小红帽组织开展的公益活动 | Q2: 私人型公益活动
C3: 学号 | D3: 姓名 | G3: 暑期社会实践三下乡 | H3: 3.10学雷锋敬老院 | I3: 3.9学雷锋社区 | J3: 3.12育红小学 | K3: 4.11七彩课堂 | L3: 4.18七彩课堂 | M3: 4.5烈士陵园祭扫 | N3: 5.23七彩课堂 | O3: 杏花林学士服志愿者 | P3: 档案馆查资料 | Q3: 东北五校双选会志愿者 | R3: 船舶馆值班 | S3: 校医院志愿者 | T3: 制作毕业证书志愿者 | U3: 毕业典礼志愿者 | V3: 迎新校园秩序维护 | W3: 2019年新生导航员 | X3: 2019年迎新工作人员 | Y3: 海航器志愿者 | Z3: 高招会志愿者
A4: 20170112 | B4: =SUM(E4:E25) -> 386.5 | C4: 2017011201 | D4: 白国侠 | E4: =SUM(F4:AM4) -> 4 | Z4: 4
C5: 2017011202 | D5: 薄浩溢 | E5: =SUM(F5:AM5) -> 0
C6: 2017011203 | D6: 陈俊鹏 | E6: =SUM(F6:AM6) -> 0
C7: 2017011204 | D7: 崔军杰 | E7: =SUM(F7:AM7) -> 0
C8: 2017011205 | D8: 邓小丁 | E8: =SUM(F8:AM8) -> 4 | Z8: 4
C9: 2017011206 | D9: 高港 | E9: =SUM(F9:AM9) -> 128.5 | G9: 7 | P9: 1.5 | Q9: 6 | R9: 30 | T9: 3 | U9: 6 | V9: 25 | W9: 6 | Y9: 44
C10: 2017011207 | D10: 郭忠宝 | E10: =SUM(F10:AM10) -> 4.5 | J10: 3 | O10: 1.5
C11: 2017011209 | D11: 黄振华 | E11: =SUM(F11:AM11) -> 24.5 | G11: 7 | J11: 4.5 | L11: 3 | M11: 3 | O11: 3 | Z11: 4
C12: 2017011210 | D12: 姜晶祎 | E12: =SUM(F12:AM12) -> 0
C13: 2017011211 | D13: 金磊 | E13: =SUM(F13:AM13) -> 15 | H13: 3 | K13: 3 | M13: 3 | N13: 3 | O13: 3
C14: 2017011212 | D14: 刘佳琦 | E14: =SUM(F14:AM14) -> 0
C15: 2017011213 | D15: 刘贤 | E15: =SUM(F15:AM15) -> 10 | U15: 6 | Z15: 4
C16: 2017011215 | D16: 路昊儒 | E16: =SUM(F16:AM16) -> 54 | U16: 6 | Y16: 44 | Z16: 4
C17: 2017011217 | D17: 施伟东 | E17: =SUM(F17:AM17) -> 10 | U17: 6 | Z17: 4
C18: 2017011218 | D18: 宋浩文 | E18: =SUM(F18:AM18) -> 75 | G18: 7 | S18: 8 | U18: 6 | X18: 6 | Y18: 44 | Z18: 4
C19: 2017011220 | D19: 涂潇 | E19: =SUM(F19:AM19) -> 0
C20: 2017011221 | D20: 王唯冰 | E20: =SUM(F20:AM20) -> 0
C21: 2017011222 | D21: 许明杰 | E21: =SUM(F21:AM21) -> 0
C22: 2017011223 | D22: 薛瑛杰 | E22: =SUM(F22:AM22) -> 17 | G22: 7 | U22: 6 | Z22: 4
C23: 2017011224 | D23: 杨文沛 | E23: =SUM(F23:AM23) -> 0
C24: 2017011227 | D24: 张璇 | E24: =SUM(F24:AM24) -> 0
C25: 2017011228 | D25: 张云驰 | E25: =SUM(F25:AM25) -> 40 | G25: 7 | I25: 3 | J25: 4.5 | L25: 3 | M25: 3 | N25: 3 | O25: 4.5 | Q25: 6 | U25: 6

Sheet 20170113
A1: 2019下学期20170113班公益学时公布表
A2: 班级 | B2: 总学时 | C2: 参与人员 | E2: 个人总学时 | F2: 以院系或团委、学生会、学指为单位开展的公益活动 | H2: 以团支部为单位开展的公益活动 | J2: 小红帽组织开展的公益活动 | P2: 私人型公益活动
C3: 学号 | D3: 姓名 | G3: 暑期社会实践三下乡 | H3: 3.31班助一 | I3: 3.24班助一 | J3: 3.10学雷锋敬老院 | K3: 3.28七彩课堂 | L3: 捐书 | M3: 4.5烈士陵园祭扫 | N3: 5.16七彩课堂 | O3: 杏花林学士服志愿者 | P3: 5.17.18国际会议志愿者 | Q3: 4.12船海楼文档整理 | R3: 高招会志愿者 | S3: 校史馆志愿者 | T3: 军工纪念馆志愿者 | U3: 杏花节志愿者 | V3: 海洋馆志愿者 | W3: 海航器志愿者 | X3: 2019年新生导航员 | Y3: 2019年迎新工作人员 | Z3: 高招会志愿者
A4: 20170113 | B4: =SUM(E5:E26) -> 389.5 | C4: 2017011303 | D4: 郭继祯 | E4: =SUM(F4:AH4) -> 9.5 | O4: 1.5 | R4: 4 | Z4: 4
C5: 2017011304 | D5: 国瑀 | E5: =SUM(F5:AH5) -> 12.5 | H5: 3 | J5: 3 | L5: 2 | M5: 3 | O5: 1.5
C6: 2017011305 | D6: 韩晓剑 | E6: =SUM(F6:AH6) -> 69.5 | G6: 3 | I6: 3 | L6: 2 | O6: 1.5 | Q6: 2 | R6: 4 | W6: 44 | X6: 6 | Z6: 4
C7: 2017011306 | D7: 韩鑫悦 | E7: =SUM(F7:AH7) -> 20 | G7: 3 | H7: 3 | J7: 3 | K7: 3 | L7: 2 | M7: 3 | N7: 3
C8: 2017011307 | D8: 和康健 | E8: =SUM(F8:AH8) -> 62 | R8: 4 | T8: 4 | U8: 18 | V8: 32 | Z8: 4
C9: 2017011309 | D9: 刘德浩 | E9: =SUM(F9:AH9) -> 5.5 | L9: 2 | O9: 1.5 | Q9: 2
C10: 2017011310 | D10: 刘山川 | E10: =SUM(F10:AH10) -> 0
C11: 2017011311 | D11: 刘裕琪 | E11: =SUM(F11:AH11) -> 0
C12: 2017011312 | D12: 闵锴瑞 | E12: =SUM(F12:AH12) -> 20.5 | I12: 3 | O12: 1.5 | Q12: 2 | R12: 4 | X12: 6 | Z12: 4
C13: 2017011313 | D13: 漆宝文 | E13: =SUM(F13:AH13) -> 0
C14: 2017011314 | D14: 任义 | E14: =SUM(F14:AH14) -> 0
C15: 2017011315 | D15: 申达 | E15: =SUM(F15:AH15) -> 50 | W15: 44 | Y15: 6
C16: 2017011316 | D16: 王标 | E16: =SUM(F16:AH16) -> 50 | G16: 3 | H16: 3 | V16: 44
C17: 2017011317 | D17: 王洁露 | E17: =SUM(F17:AH17) -> 21 | G17: 3 | L17: 2 | P17: 8 | R17: 4 | Z17: 4
C18: 2017011318 | D18: 王世鹏 | E18: =SUM(F18:AH18) -> 47.5 | G18: 3 | T18: 38.5 | Y18: 6
C19: 2017011319 | D19: 王首杭 | E19: =SUM(F19:AH19) -> 7.5 | H19: 3 | I19: 3 | O19: 1.5
C20: 2017011320 | D20: 王玮 | E20: =SUM(F20:AH20) -> 0
C21: 2017011321 | D21: 王欣然 | E21: =SUM(F21:AH21) -> 0
C22: 2017011325 | D22: 张冬月 | E22: =SUM(F22:AH22) -> 23.5 | L22: 2 | R22: 4 | S22: 13.5 | Z22: 4
C23: 2017011326 | D23: 张笑通 | E23: =SUM(F23:AH23) -> 0
C24: 2017011327 | D24: 张宜程 | E24: =SUM(F24:AH24) -> 0
C25: 2017011329 | D25: 周晏霈 | E25: =SUM(F25:AH25) -> 0
C26: 2017011330 | D26: 朱云涛 | E26: =SUM(F26:AH26) -> 0

Sheet 20170114
A1: 2019年下学期20170114班公益学时公布表
A2: 班级 | B2: 总学时 | C2: 参与人员 | E2: 个人总学时 | F2: 以院系或团委、学生会、学指为单位开展的公益活动 | G2: 以团支部为单位开展的公益活动 | J2: 小红帽组织开展的公益活动 | T2: 私人公益活动
C3: 学号 | D3: 姓名 | G3: 暑期社会实践三下乡 | H3: 4.3烈士陵园扫墓 | I3: 6.11儿童福利院 | J3: 3.28七彩课堂 | K3: 4.18七彩课堂 | L3: 捐书 | M3: 3.9学雷锋社区 | N3: 4.5烈士陵园祭扫活动 | O3: 5.16七彩课堂 | P3: 杏花林学士服志愿者 | Q3: 医院志愿者 | R3: 军工纪念馆志愿者 | S3: 高考咨询会志愿者 | T3: 2019年新生导航员 | U3: 对垃圾分类认识的统计 | V3: 海航器志愿者 | W3: 暑期志愿者 | X3: 高招会志愿者
A4: 20170114 | B4: =SUM(E4:E26) -> 431.5 | C4: 2017011401 | D4: 曹霜蕾 | E4: =SUM(F4:AI4) -> 9 | J4: 3 | M4: 3 | O4: 3
C5: 2017011402 | D5: 昌力 | E5: =SUM(F5:AI5) -> 20.5 | H5: 3 | I5: 2 | L5: 2 | U5: 1.5 | W5: 12
C6: 2017011403 | D6: 陈虹廷 | E6: =SUM(F6:AI6) -> 105.5 | Q6: 8 | S6: 6 | U6: 1.5 | V6: 44 | W6: 42 | X6: 4
C7: 2017011404 | D7: 陈雷 | E7: =SUM(F7:AI7) -> 21.5 | G7: 1.5 | H7: 3 | I7: 2 | K7: 3 | M7: 3 | N7: 3 | P7: 4.5 | U7: 1.5
C8: 2017011405 | D8: 陈浠 | E8: =SUM(F8:AI8) -> 14 | H8: 3 | I8: 2 | L8: 2 | P8: 1.5 | Q8: 4 | U8: 1.5
C9: 2017011406 | D9: 崔博文 | E9: =SUM(F9:AI9) -> 11.5 | G9: 1.5 | H9: 3 | I9: 2 | L9: 2 | P9: 1.5 | U9: 1.5
C10: 2017011407 | D10: 董昊 | E10: =SUM(F10:AI10) -> 8.5 | H10: 3 | I10: 2 | L10: 2 | U10: 1.5
C11: 2017011408 | D11: 高炎宁 | E11: =SUM(F11:AI11) -> 7 | H11: 3 | I11: 2 | L11: 2
C12: 2017011409 | D12: 韩兆亮 | E12: =SUM(F12:AI12) -> 63.5 | G12: 1.5 | H12: 3 | I12: 2 | P12: 1.5 | S12: 6 | U12: 1.5 | V12: 44 | X12: 4
C13: 2017011411 | D13: 李昌恩 | E13: =SUM(F13:AI13) -> 25.5 | H13: 3 | I13: 2 | P13: 3 | S13: 6 | T13: 6 | U13: 1.5 | X13: 4
C14: 2017011414 | D14: 刘逸飞 | E14: =SUM(F14:AI14) -> 8 | G14: 1.5 | H14: 3 | I14: 2 | U14: 1.5
C15: 2017011415 | D15: 刘英浩 | E15: =SUM(F15:AI15) -> 5 | H15: 3 | I15: 2
C16: 2017011416 | D16: 麻云平 | E16: =SUM(F16:AI16) -> 8 | G16: 1.5 | H16: 3 | I16: 2 | U16: 1.5
C17: 2017011417 | D17: 钱瑞文 | E17: =SUM(F17:AI17) -> 6.5 | H17: 3 | I17: 2 | U17: 1.5
C18: 2017011418 | D18: 沙兆赫 | E18: =SUM(F18:AI18) -> 4.5 | H18: 3 | U18: 1.5
C19: 2017011419 | D19: 宋志斌 | E19: =SUM(F19:AI19) -> 52.5 | H19: 3 | Q19: 4 | U19: 1.5 | V19: 44
C20: 2017011421 | D20: 王君杰 | E20: =SUM(F20:AI20) -> 30.5 | H20: 3 | R20: 27.5
C21: 2017011423 | D21: 王宇涵 | E21: =SUM(F21:AI21) -> 4.5 | H21: 3 | U21: 1.5
C22: 2017012111 | D22: 李雨馨 | E22: =SUM(F22:AI22) -> 3 | H22: 3
C23: 2017012127 | D23: 赵迪 | E23: =SUM(F23:AI23) -> 13 | H23: 3 | S23: 6 | X23: 4
C24: 2017020218 | D24: 王鹏飞 | E24: =SUM(F24:AI24) -> 6.5 | H24: 3 | I24: 2 | U24: 1.5
C25: 2017071506 | D25: 高铭辰 | E25: =SUM(F25:AI25) -> 3 | H25: 3
C26: 2017201317 | D26: 孙路程 | E26: =SUM(F26:AI26) -> 0

Sheet 20170115
A1: 2019年下学期20170115班公益学时公布表
A2: 班级 | B2: 总学时 | C2: 参与人员 | E2: 个人总学时 | F2: 以院系或团委、学生会、学指为单位开展的公益活动 | G2: 以团支部为单位开展的公益活动 | H2: 小红帽组织开展的公益活动 | P2: 私人型公益活动
C3: 学号 | D3: 姓名 | G3: 暑期社会实践三下乡 | H3: 3.10学雷锋敬老院 | I3: 5.9七彩课堂 | J3: 杏花林学士服志愿者 | K3: 船舶馆值班 | L3: 暑期志愿者活动 | M3: 扫墓 | N3: 海洋文化馆志愿者 | O3: 船海楼活动 | P3: 2019年迎新工作人员 | Q3: 海航器志愿者 | R3: 高招会志愿者
A4: 20170115 | B4: =SUM(E4:E27) -> 255.5 | C4: 2017011501 | D4: 陈泓锟 | E4: =SUM(F4:AH4) -> 0
C5: 2017011502 | D5: 陈佳宁 | E5: =SUM(F5:AH5) -> 0
C6: 2017011503 | D6: 董韬 | E6: =SUM(F6:AH6) -> 0
C7: 2017011504 | D7: 段育鹏 | E7: =SUM(F7:AH7) -> 0
C8: 2017011505 | D8: 韩艺鸣 | E8: =SUM(F8:AH8) -> 13 | H8: 3 | I8: 3 | J8: 3 | R8: 4
C9: 2017011507 | D9: 计博 | E9: =SUM(F9:AH9) -> 56 | N9: 8 | Q9: 44 | R9: 4
C10: 2017011508 | D10: 李佳麒 | E10: =SUM(F10:AH10) -> 44 | Q10: 44
C11: 2017011509 | D11: 李健滨 | E11: =SUM(F11:AH11) -> 0
C12: 2017011510 | D12: 李旭晟 | E12: =SUM(F12:AH12) -> 1.5 | J12: 1.5
C13: 2017011512 | D13: 刘海阔 | E13: =SUM(F13:AH13) -> 3 | G13: 3
C14: 2017011513 | D14: 刘明奇 | E14: =SUM(F14:AH14) -> 98 | G14: 3 | K14: 38 | M14: 3 | P14: 6 | Q14: 44 | R14: 4
C15: 2017011514 | D15: 刘启航 | E15: =SUM(F15:AH15) -> 0
C16: 2017011515 | D16: 苗全洲 | E16: =SUM(F16:AH16) -> 0
C17: 2017011516 | D17: 潘碧野 | E17: =SUM(F17:AH17) -> 0
C18: 2017011518 | D18: 秦正昊 | E18: =SUM(F18:AH18) -> 0
C19: 2017011519 | D19: 邵震 | E19: =SUM(F19:AH19) -> 3 | G19: 3
C20: 2017011520 | D20: 王昊东 | E20: =SUM(F20:AH20) -> 6 | G20: 3 | M20: 3
C21: 2017011522 | D21: 王巍凯 | E21: =SUM(F21:AH21) -> 0
C22: 2017011524 | D22: 吴秩宇 | E22: =SUM(F22:AH22) -> 0
C23: 2017011525 | D23: 杨逸飞 | E23: =SUM(F23:AH23) -> 31 | L23: 28 | O23: 3
C24: 2017011526 | D24: 易远航 | E24: =SUM(F24:AH24) -> 0
C25: 2017011527 | D25: 岳俐孛 | E25: =SUM(F25:AH25) -> 0
C26: 2017011528 | D26: 朱海 | E26: =SUM(F26:AH26) -> 0
C27: 2017011529 | D27: 朱世祺 | E27: =SUM(F27:AH27) -> 0

Sheet 20170116
A1: 2019年下学期20170116班公益学时公布表
A2: 班级 | B2: 总学时 | C2: 参与人员 | E2: 个人总学时 | F2: 以院系或团委、学生会、学指为单位开展的公益活动 | G2: 以团支部为单位开展的公益活动 | H2: 小红帽组织开展的公益活动 | K2: 私人型公益活动
C3: 学号 | D3: 姓名 | H3: 4.4七彩课堂 | I3: 5.23七彩课堂 | J3: 杏花林学士服志愿者 | K3: 6.4船海楼档案整理 | L3: 启航值班 | M3: 医院长期志愿者 | N3: 海洋文化馆志愿者 | O3: 东北五校双选会 | P3: 毕业典礼志愿者 | Q3: 2019年新生导航员 | R3: 海航器志愿者 | S3: 2019年迎新工作人员 | T3: 高招会志愿者 | U3: 海航器赛事物资回收
A4: 20170116 | B4: =SUM(E4:E25) -> 184.5 | C4: 2017011601 | D4: 陈冠昌 | E4: =SUM(F4:AE4) -> 4 | T4: 4
C5: 2017011602 | D5: 陈炎 | E5: =SUM(F5:AE5) -> 0
C6: 2017011604 | D6: 韩博宇 | E6: =SUM(F6:AE6) -> 0
C7: 2017011605 | D7: 韩阔屹 | E7: =SUM(F7:AE7) -> 0
C8: 2017011606 | D8: 姬祥 | E8: =SUM(F8:AE8) -> 16 | L8: 6 | Q8: 6 | T8: 4
C9: 2017011608 | D9: 李雲峰 | E9: =SUM(F9:AE9) -> 44 | R9: 44
C10: 2017011609 | D10: 刘洺毓 | E10: =SUM(F10:AE10) -> 0
C11: 2017011610 | D11: 刘诗璐 | E11: =SUM(F11:AE11) -> 0
C12: 2017011611 | D12: 刘涛 | E12: =SUM(F12:AE12) -> 0
C13: 2017011612 | D13: 满毅 | E13: =SUM(F13:AE13) -> 0
C14: 2017011613 | D14: 倪仁杰 | E14: =SUM(F14:AE14) -> 0
C15: 2017011614 | D15: 尚明月 | E15: =SUM(F15:AE15) -> 10 | N15: 10
C16: 2017011615 | D16: 孙伊杰 | E16: =SUM(F16:AE16) -> 0
C17: 2017011616 | D17: 谭文龙 | E17: =SUM(F17:AE17) -> 0
C18: 2017011619 | D18: 王添淇 | E18: =SUM(F18:AE18) -> 4.5 | H18: 1.5 | I18: 3
C19: 2017011621 | D19: 文俊凯 | E19: =SUM(F19:AE19) -> 10 | P19: 6 | T19: 4
C20: 2017011622 | D20: 肖望穗 | E20: =SUM(F20:AE20) -> 9 | K20: 3 | L20: 6
C21: 2017011623 | D21: 颜帅 | E21: =SUM(F21:AE21) -> 63 | K21: 3 | M21: 4 | R21: 44 | S21: 6 | U21: 6
C22: 2017011624 | D22: 杨林 | E22: =SUM(F22:AE22) -> 0
C23: 2017011625 | D23: 于佳晨 | E23: =SUM(F23:AE23) -> 13.5 | J23: 1.5 | P23: 6 | Q23: 6
C24: 2017011627 | D24: 张家典 | E24: =SUM(F24:AE24) -> 10.5 | J24: 1.5 | O24: 5 | T24: 4
C25: 2017011629 | D25: 邹馥骏 | E25: =SUM(F25:AE25) -> 0

Sheet 20170117
A1: 2019年下学期20170117班公益学时公布表
A2: 班级 | B2: 总学时 | C2: 参与人员 | E2: 个人总学时 | F2: 以院系或团委、学生会、学指为单位开展的公益活动 | G2: 以团支部为单位开展的公益活动 | H2: 小红帽组织开展的公益活动 | J2: 私人型公益活动
C3: 学号 | D3: 姓名 | G3: 暑期社会实践三下乡 | H3: 3.28七彩课堂 | I3: 杏花林学士服志愿者 | J3: 4.12船海楼文档整理 | K3: 国旗护卫队支教 | L3: 6.4船海楼整理档案 | M3: 7.3船海楼整理档案 | N3: 2019年新生导航员 | O3: 东北五校双选会志愿者 | P3: 爱心长跑 | Q3: 海航器志愿者 | R3: 高招会志愿者 | S3: 海航器赛事物资回收 | T3: 7月3日船海楼整理材料
A4: 20170117 | B4: =SUM(E4:E26) -> 187.5 | C4: 2017011701 | D4: 蔡逊 | E4: =SUM(F4:AD4) -> 58 | G4: 3 | Q4: 44 | R4: 4 | S4: 6 | T4: 1
C5: 2017011702 | D5: 曹嘉荣 | E5: =SUM(F5:AD5) -> 11 | H5: 3 | O5: 5 | P5: 3
C6: 2017011703 | D6: 车思达 | E6: =SUM(F6:AD6) -> 7 | G6: 3 | R6: 4
C7: 2017011704 | D7: 傅昱晓 | E7: =SUM(F7:AD7) -> 17 | G7: 3 | L7: 3 | M7: 1 | O7: 5 | R7: 4 | T7: 1
C8: 2017011705 | D8: 顾靖愚 | E8: =SUM(F8:AD8) -> 3 | G8: 3
C9: 2017011706 | D9: 郭明轩 | E9: =SUM(F9:AD9) -> 7 | G9: 3 | R9: 4
C10: 2017011707 | D10: 郭鑫宇 | E10: =SUM(F10:AD10) -> 4 | R10: 4
C11: 2017011708 | D11: 贺帆 | E11: =SUM(F11:AD11) -> 4 | R11: 4
C12: 2017011709 | D12: 冀珂 | E12: =SUM(F12:AD12) -> 0
C13: 2017011710 | D13: 贾宏侃 | E13: =SUM(F13:AD13) -> 52 | I13: 1.5 | K13: 2.5 | Q13: 44 | R13: 4
C14: 2017011711 | D14: 李昊辰 | E14: =SUM(F14:AD14) -> 6 | J14: 2 | R14: 4
C15: 2017011712 | D15: 刘佳宁 | E15: =SUM(F15:AD15) -> 0
C16: 2017011713 | D16: 刘鹏 | E16: =SUM(F16:AD16) -> 0
C17: 2017011714 | D17: 柳志衡 | E17: =SUM(F17:AD17) -> 0
C18: 2017011715 | D18: 马倩 | E18: =SUM(F18:AD18) -> 12.5 | I18: 1.5 | N18: 6 | O18: 5
C19: 2017011716 | D19: 彭慧文 | E19: =SUM(F19:AD19) -> 0
C20: 2017011718 | D20: 权泽旭 | E20: =SUM(F20:AD20) -> 0
C21: 2017011719 | D21: 舒国洋 | E21: =SUM(F21:AD21) -> 0
C22: 2017011720 | D22: 孙宁 | E22: =SUM(F22:AD22) -> 2 | J22: 2
C23: 2017011723 | D23: 闫子健 | E23: =SUM(F23:AD23) -> 0
C24: 2017011726 | D24: 于沛业 | E24: =SUM(F24:AD24) -> 0
C25: 2017011727 | D25: 詹光夏 | E25: =SUM(F25:AD25) -> 0
C26: 2017011729 | D26: 周朔 | E26: =SUM(F26:AD26) -> 4 | I26: 3 | T26: 1

Sheet 20170118
A1: 2019年下学期20170118班公益学时公布表
A2: 班级 | B2: 总学时 | C2: 参与人员 | E2: 个人总学时 | F2: 以院系或团委、学生会、学指为单位开展的公益活动 | G2: 以团支部为单位开展的公益活动 | H2: 小红帽组织开展的公益活动 | L2: 私人型公益活动
C3: 学号 | D3: 姓名 | H3: 杏花林学士服志愿者 | I3: 图书漂流 | J3: 杏花节志愿者 | K3: 校医院长期志愿者 | L3: 2019年迎新工作人员 | M3: 高考志愿者 | N3: 毕业典礼志愿者 | O3: 主楼志愿者 | P3: 海航器志愿者 | Q3: 高招会志愿者
A4: 20170118 | B4: =SUM(E4:E29) -> 269.5 | C4: 2017011801 | D4: 曹焕卿 | E4: =SUM(F4:AC4) -> 2 | I4: 2
C5: 2017011802 | D5: 葛桂琨 | E5: =SUM(F5:AC5) -> 6 | I5: 2 | K5: 4
C6: 2017011803 | D6: 侯开宇 | E6: =SUM(F6:AC6) -> 2 | O6: 2
C7: 2017011804 | D7: 胡家亮 | E7: =SUM(F7:AC7) -> 10 | I7: 2 | M7: 4 | Q7: 4
C8: 2017011806 | D8: 吉秦磊 | E8: =SUM(F8:AC8) -> 2 | I8: 2
C9: 2017011807 | D9: 李创 | E9: =SUM(F9:AC9) -> 2 | I9: 2
C10: 2017011808 | D10: 刘德怀 | E10: =SUM(F10:AC10) -> 2 | I10: 2
C11: 2017011809 | D11: 柳克举 | E11: =SUM(F11:AC11) -> 2 | I11: 2
C12: 2017011810 | D12: 孟祥吉 | E12: =SUM(F12:AC12) -> 2 | I12: 2
C13: 2017011811 | D13: 牛智搏 | E13: =SUM(F13:AC13) -> 66.5 | H13: 6.5 | I13: 2 | J13: 6 | M13: 4 | P13: 44 | Q13: 4
C14: 2017011812 | D14: 欧阳陵鹏 | E14: =SUM(F14:AC14) -> 2 | I14: 2
C15: 2017011813 | D15: 乔博 | E15: =SUM(F15:AC15) -> 2 | I15: 2
C16: 2017011814 | D16: 史明轩 | E16: =SUM(F16:AC16) -> 68 | H16: 2 | I16: 2 | J16: 6 | K16: 12 | O16: 2 | P16: 44
C17: 2017011815 | D17: 苏浩晨 | E17: =SUM(F17:AC17) -> 2 | I17: 2
C18: 2017011816 | D18: 孙健玮 | E18: =SUM(F18:AC18) -> 2 | I18: 2
C19: 2017011817 | D19: 唐渤洪 | E19: =SUM(F19:AC19) -> 2 | I19: 2
C20: 2017011818 | D20: 王昌豪 | E20: =SUM(F20:AC20) -> 0
C21: 2017011819 | D21: 武文骥 | E21: =SUM(F21:AC21) -> 46 | I21: 2 | P21: 44
C22: 2017011820 | D22: 徐涛明 | E22: =SUM(F22:AC22) -> 2 | I22: 2
C23: 2017011821 | D23: 许凤鼎 | E23: =SUM(F23:AC23) -> 0
C24: 2017011822 | D24: 尹玉飞 | E24: =SUM(F24:AC24) -> 0
C25: 2017011823 | D25: 于涛 | E25: =SUM(F25:AC25) -> 2 | I25: 2
C26: 2017011824 | D26: 翟方毅 | E26: =SUM(F26:AC26) -> 2 | I26: 2
C27: 2017011825 | D27: 张嘉豪 | E27: =SUM(F27:AC27) -> 2 | I27: 2
C28: 2017011827 | D28: 张拓圣 | E28: =SUM(F28:AC28) -> 35 | H28: 2 | I28: 2 | K28: 27 | N28: 4
C29: 2017011828 | D29: 赵子君 | E29: =SUM(F29:AC29) -> 6 | L29: 6

Sheet 20170119
A1: 2019年下学期20170119班公益学时公布表
A2: 班级 | B2: 总学时 | C2: 参与人员 | E2: 个人总学时 | F2: 以院系或团委、学生会、学指为单位开展的公益活动 | G2: 以团支部为单位开展的公益活动 | H2: 小红帽组织开展的公益活动 | I2: 私人型公益活动
C3: 学号 | D3: 姓名 | G3: 暑期社会实践三下乡 | H3: 捐书 | I3: 2019年新生导航员 | J3: 校医院学时 | K3: 暑期三下乡敬老院看望老人 | L3: 毕业典礼志愿者 | M3: 2019年迎新工作人员 | N3: 海航器志愿者 | O3: 高招会志愿者 | P3: 预科迎新
A4: 20170119 | B4: =SUM(E4:E29) -> 777 | C4: 2017011901 | D4: 樊家占 | E4: =SUM(F4:X4) -> 58 | H4: 2 | J4: 12 | N4: 44
C5: 2017011902 | D5: 房国振 | E5: =SUM(F5:X5) -> 66 | H5: 2 | J5: 32 | L5: 8 | O5: 4 | P5: 20
C6: 2017011903 | D6: 房煦凯 | E6: =SUM(F6:X6) -> 53 | G6: 8 | H6: 2 | J6: 28 | K6: 3 | L6: 8 | O6: 4
C7: 2017011904 | D7: 贺嘉贤 | E7: =SUM(F7:X7) -> 6 | H7: 2 | O7: 4
C8: 2017011905 | D8: 贺宇培 | E8: =SUM(F8:X8) -> 106 | H8: 2 | J8: 48 | L8: 8 | N8: 44 | O8: 4
C9: 2017011907 | D9: 李浩然 | E9: =SUM(F9:X9) -> 46 | H9: 2 | J9: 32 | L9: 8 | O9: 4
C10: 2017011909 | D10: 刘加宝 | E10: =SUM(F10:X10) -> 50 | H10: 2 | N10: 44 | O10: 4
C11: 2017011910 | D11: 刘泽宇 | E11: =SUM(F11:X11) -> 33 | G11: 8 | H11: 2 | J11: 16 | K11: 3 | O11: 4
C12: 2017011911 | D12: 刘卓研 | E12: =SUM(F12:X12) -> 14 | H12: 2 | J12: 8 | O12: 4
C13: 2017011912 | D13: 吕璐婷 | E13: =SUM(F13:X13) -> 14 | H13: 2 | L13: 8 | O13: 4
C14: 2017011913 | D14: 彭潇 | E14: =SUM(F14:X14) -> 93 | G14: 8 | H14: 2 | I14: 6 | J14: 16 | K14: 3 | L14: 8 | M14: 6 | N14: 44
C15: 2017011914 | D15: 邱广醍 | E15: =SUM(F15:X15) -> 21 | G15: 8 | H15: 2 | K15: 3 | L15: 8
C16: 2017011915 | D16: 滕立国 | E16: =SUM(F16:X16) -> 2 | H16: 2
C17: 2017011916 | D17: 王立 | E17: =SUM(F17:X17) -> 2 | H17: 2
C18: 2017011917 | D18: 王乾 | E18: =SUM(F18:X18) -> 2 | H18: 2
C19: 2017011919 | D19: 魏博 | E19: =SUM(F19:X19) -> 14 | H19: 2 | J19: 12
C20: 2017011920 | D20: 吴萌萌 | E20: =SUM(F20:X20) -> 27 | G20: 8 | H20: 2 | I20: 6 | J20: 4 | K20: 3 | O20: 4
C21: 2017011921 | D21: 武孟林 | E21: =SUM(F21:X21) -> 46 | H21: 2 | N21: 44
C22: 2017011922 | D22: 杨健峰 | E22: =SUM(F22:X22) -> 2 | H22: 2
C23: 2017011923 | D23: 姚梦涛 | E23: =SUM(F23:X23) -> 0
C24: 2017011924 | D24: 尹弘栗 | E24: =SUM(F24:X24) -> 2 | H24: 2
C25: 2017011925 | D25: 张明豪 | E25: =SUM(F25:X25) -> 19 | G25: 8 | H25: 2 | K25: 3 | M25: 6
C26: 2017011926 | D26: 张舒涵 | E26: =SUM(F26:X26) -> 14 | H26: 2 | J26: 12
C27: 2017011927 | D27: 张帅 | E27: =SUM(F27:X27) -> 66 | G27: 8 | H27: 2 | J27: 8 | N27: 44 | O27: 4
C28: 2017011928 | D28: 张宇新 | E28: =SUM(F28:X28) -> 21 | G28: 8 | H28: 2 | J28: 8 | K28: 3
C29: 2017011930 | D29: 阮文杰 | E29: =SUM(F29:X29) -> 0

Sheet 20170121
A1: 2019年下学期20170121班公益学时公布表
A2: 班级 | B2: 总学时 | C2: 参与人员 | E2: 个人总学时 | F2: 以院系或团委、学生会、学指为单位开展的公益活动 | G2: 以团支部为单位开展的公益活动 | H2: 小红帽组织开展的公益活动 | M2: 私人型公益活动
C3: 学号 | D3: 姓名 | G3: 暑期社会实践三下乡 | H3: 捐书 | I3: 杏花节志愿 | J3: 杏花林学士服志愿者 | K3: 6.8海洋公益慢跑 | L3: 海洋馆值班 | M3: 海航器志愿者 | N3: 高招会志愿者
A4: 200170121 | B4: =SUM(E4:E30) -> 157.5 | C4: 2017012102 | D4: 范宇晨 | E4: =SUM(F4:AG4) -> 0
C5: 2017012103 | D5: 黄乐亚 | E5: =SUM(F5:AG5) -> 0
C6: 2017012104 | D6: 江烁铭 | E6: =SUM(F6:AG6) -> 0
C7: 2017012105 | D7: 蒋涛涛 | E7: =SUM(F7:AG7) -> 0
C8: 2017012106 | D8: 李光辉 | E8: =SUM(F8:AG8) -> 12 | L8: 12
C9: 2017012107 | D9: 李昊 | E9: =SUM(F9:AG9) -> 0
C10: 2017012108 | D10: 李士诚 | E10: =SUM(F10:AG10) -> 0
C11: 2017012109 | D11: 李鑫龙 | E11: =SUM(F11:AG11) -> 3 | J11: 3
C12: 2017012110 | D12: 李永瑾 | E12: =SUM(F12:AG12) -> 44 | M12: 44
C13: 2017012112 | D13: 刘淳昊 | E13: =SUM(F13:AG13) -> 0
C14: 2017012113 | D14: 刘杰 | E14: =SUM(F14:AG14) -> 0
C15: 2017012114 | D15: 刘孟军 | E15: =SUM(F15:AG15) -> 0
C16: 2017012115 | D16: 栾翀沛 | E16: =SUM(F16:AG16) -> 0
C17: 2017012116 | D17: 宋佳昊 | E17: =SUM(F17:AG17) -> 0
C18: 2017012117 | D18: 田其伟 | E18: =SUM(F18:AG18) -> 0
C19: 2017012118 | D19: 田雨航 | E19: =SUM(F19:AG19) -> 0
C20: 2017012119 | D20: 王家豪 | E20: =SUM(F20:AG20) -> 9 | G20: 5 | N20: 4
C21: 2017012120 | D21: 王康宁 | E21: =SUM(F21:AG21) -> 5 | G21: 5
C22: 2017012121 | D22: 王晴 | E22: =SUM(F22:AG22) -> 0
C23: 2017012122 | D23: 肖振宇 | E23: =SUM(F23:AG23) -> 10 | G23: 10
C24: 2017012123 | D24: 杨鑫 | E24: =SUM(F24:AG24) -> 44 | M24: 44
C25: 2017012124 | D25: 易强 | E25: =SUM(F25:AG25) -> 4 | N25: 4
C26: 2017012125 | D26: 余伟聪 | E26: =SUM(F26:AG26) -> 5 | G26: 5
C27: 2017012126 | D27: 张红 | E27: =SUM(F27:AG27) -> 2 | K27: 2
C28: 2017012128 | D28: 郑杰 | E28: =SUM(F28:AG28) -> 2 | H28: 2
C29: 2017012129 | D29: 周健 | E29: =SUM(F29:AG29) -> 0
C30: 2017012130 | D30: 周晓静 | E30: =SUM(F30:AG30) -> 17.5 | I30: 12 | J30: 1.5 | N30: 4

Sheet 20170122
A1: 2019年下学期20170122班公益学时公布表
A2: 班级 | B2: 总学时 | C2: 参与人员 | E2: 个人总学时 | F2: 以院系或团委、学生会、学指为单位开展的公益活动 | G2: 以团支部为单位开展的公益活动 | H2: 小红帽组织开展的公益活动 | J2: 私人型公益活动
C3: 学号 | D3: 姓名 | H3: 捐书 | I3: 杏花林学士服志愿者 | J3: 校医院志愿者 | K3: 市医院长期志愿者 | L3: 东北五校双选会 | M3: 国旗护卫队支教活动 | N3: 2019年新生导航员 | O3: 迎新志愿者 | P3: 2019年迎新工作人员 | Q3: 海航器志愿者 | R3: 高招会志愿者
A4: 20170122 | B4: =SUM(E4:E32) -> 464.5 | C4: 2017012201 | D4: 曹施睿 | E4: =SUM(F4:W4) -> 2 | H4: 2
C5: 2017012202 | D5: 柴煜泓 | E5: =SUM(F5:W5) -> 42 | H5: 2 | Q5: 40
C6: 2017012203 | D6: 陈天宇 | E6: =SUM(F6:W6) -> 58 | H6: 2 | N6: 6 | P6: 6 | Q6: 44
C7: 2017012204 | D7: 陈子琦 | E7: =SUM(F7:W7) -> 2 | H7: 2
C8: 2017012205 | D8: 方文凯 | E8: =SUM(F8:W8) -> 0
C9: 2017012206 | D9: 郭钦 | E9: =SUM(F9:W9) -> 0
C10: 2017012207 | D10: 胡轶扬 | E10: =SUM(F10:W10) -> 0
C11: 2017012209 | D11: 姜学伟 | E11: =SUM(F11:W11) -> 0
C12: 2017012210 | D12: 蒋真 | E12: =SUM(F12:W12) -> 24 | N12: 6 | O12: 18
C13: 2017012211 | D13: 黎锐 | E13: =SUM(F13:W13) -> 0
C14: 2017012212 | D14: 李澳 | E14: =SUM(F14:W14) -> 0
C15: 2017012213 | D15: 李帆 | E15: =SUM(F15:W15) -> 0
C16: 2017012214 | D16: 李宇豪 | E16: =SUM(F16:W16) -> 0
C17: 2017012215 | D17: 刘旭彪 | E17: =SUM(F17:W17) -> 44 | Q17: 44
C18: 2017012216 | D18: 刘子琪 | E18: =SUM(F18:W18) -> 49.5 | H18: 2 | I18: 1.5 | J18: 40 | N18: 6
C19: 2017012217 | D19: 潘甫亮 | E19: =SUM(F19:W19) -> 0
C20: 2017012218 | D20: 齐昊东 | E20: =SUM(F20:W20) -> 44 | Q20: 44
C21: 2017012219 | D21: 申涛 | E21: =SUM(F21:W21) -> 2 | H21: 2
C22: 2017012220 | D22: 苏执荣 | E22: =SUM(F22:W22) -> 2 | H22: 2
C23: 2017012221 | D23: 王晨羽 | E23: =SUM(F23:W23) -> 30 | H23: 2 | O23: 24 | R23: 4
C24: 2017012222 | D24: 王远 | E24: =SUM(F24:W24) -> 3.5 | H24: 2 | I24: 1.5
C25: 2017012223 | D25: 徐俊逸 | E25: =SUM(F25:W25) -> 0
C26: 2017012224 | D26: 徐瑞喆 | E26: =SUM(F26:W26) -> 7.5 | M26: 7.5
C27: 2017012225 | D27: 杨凯 | E27: =SUM(F27:W27) -> 0
C28: 2017012226 | D28: 姚航帆 | E28: =SUM(F28:W28) -> 2 | H28: 2
C29: 2017012227 | D29: 张睿弛 | E29: =SUM(F29:W29) -> 0
C30: 2017012228 | D30: 张正霖 | E30: =SUM(F30:W30) -> 8 | K30: 8
C31: 2017012229 | D31: 赵明明 | E31: =SUM(F31:W31) -> 77 | H31: 2 | I31: 1.5 | O31: 25.5 | Q31: 44 | R31: 4
C32: 2017012230 | D32: 朱训昊 | E32: =SUM(F32:W32) -> 67 | H32: 2 | K32: 16 | L32: 5 | Q32: 44

Sheet 20170100
A1: 2019年下学期20170100班公益学时公布表
A2: 班级 | B2: 总学时 | C2: 参与人员 | E2: 个人总学时 | F2: 以院系或团委、学生会、学指为单位开展的公益活动 | G2: 以团支部为单位开展的公益活动 | H2: 小红帽组织开展的公益活动 | M2: 私人型公益活动
C3: 学号 | D3: 姓名 | H3: 捐书 | I3: 4.4七彩课堂 | J3: 4.11七彩课堂 | K3: 杏花林学士服志愿者 | L3: 6.8海洋公益慢跑 | M3: 献血 | N3: 花园街道垃圾分类 | O3: 爱心长跑 | P3: 校医院志愿者 | Q3: 图书馆查财务 | R3: 启航志愿者 | S3: 东北五校双选会志愿者 | T3: 海航器志愿者 | U3: 高招会志愿者 | V3: 星光行动 | W3: 2019新生导航员 | X3: 校史馆志愿者 | Y3: 点亮蓝灯志愿活动 | Z3: 开心宝贝
A4: 20170100 | B4: =SUM(E4:E32) -> 391 | C4: 2017011119 | D4: 吕茜 | E4: =SUM(F4:AC4) -> 3 | I4: 3
C5: 2017011129 | D5: 张晖涛 | E5: =SUM(F5:AC5) -> 7 | Y5: 3 | Z5: 4
C6: 2017011208 | D6: 韩世林 | E6: =SUM(F6:AC6) -> 44 | T6: 44
C7: 2017011216 | D7: 绳册 | E7: =SUM(F7:AC7) -> 3 | I7: 3
C8: 2017011225 | D8: 杨禹 | E8: =SUM(F8:AC8) -> 14 | X8: 14
C9: 2017011322 | D9: 王梓丞 | E9: =SUM(F9:AC9) -> 25.5 | K9: 1.5 | M9: 2 | R9: 18 | U9: 4
C10: 2017011323 | D10: 辛子豪 | E10: =SUM(F10:AC10) -> 24 | H10: 2 | M10: 2 | P10: 20
C11: 2017011328 | D11: 张益迪 | E11: =SUM(F11:AC11) -> 2 | N11: 2
C12: 2017011427 | D12: 张心雨 | E12: =SUM(F12:AC12) -> 0
C13: 2017011506 | D13: 韩宇峰 | E13: =SUM(F13:AC13) -> 0
C14: 2017011517 | D14: 彭帷杰 | E14: =SUM(F14:AC14) -> 6 | J14: 3 | O14: 3
C15: 2017011523 | D15: 王文昊 | E15: =SUM(F15:AC15) -> 19 | H15: 2 | O15: 3 | S15: 8 | W15: 6
C16: 2017011603 | D16: 单磊 | E16: =SUM(F16:AC16) -> 49.5 | K16: 1.5 | Q16: 4 | T16: 44
C17: 2017011607 | D17: 李好纯 | E17: =SUM(F17:AC17) -> 2 | H17: 2
C18: 2017011617 | D18: 王长宏 | E18: =SUM(F18:AC18) -> 0
C19: 2017011618 | D19: 王臣 | E19: =SUM(F19:AC19) -> 59 | H19: 2 | L19: 2 | O19: 3 | S19: 8 | T19: 44
C20: 2017011620 | D20: 王湛 | E20: =SUM(F20:AC20) -> 0
C21: 2017011626 | D21: 袁霆志 | E21: =SUM(F21:AC21) -> 2 | H21: 2
C22: 2017011628 | D22: 张力文 | E22: =SUM(F22:AC22) -> 0
C23: 2017011721 | D23: 王宝旭 | E23: =SUM(F23:AC23) -> 0
C24: 2017011722 | D24: 徐一帆 | E24: =SUM(F24:AC24) -> 0
C25: 2017011728 | D25: 赵春晖 | E25: =SUM(F25:AC25) -> 0
C26: 2017011805 | D26: 霍炜 | E26: =SUM(F26:AC26) -> 13 | H26: 2 | I26: 3 | V26: 8
C27: 2017011829 | D27: 郑顺鑫 | E27: =SUM(F27:AC27) -> 54 | H27: 2 | S27: 8 | T27: 44
C28: 2017011918 | D28: 王梓璇 | E28: =SUM(F28:AC28) -> 20 | P28: 20
C29: 2017011929 | D29: 祝成伟 | E29: =SUM(F29:AC29) -> 0
C30: 2017071713 | D30: 刘昊康 | E30: =SUM(F30:AC30) -> 0
C31: 2017080914 | D31: 刘晔恒 | E31: =SUM(F31:AC31) -> 0
C32: 2017071513 | D32: 郎硕 | E32: =SUM(F32:AC32) -> 44 | T32: 44

Sheet 20180100
A1: 2019年下学期20180100班公益学时公布表
A2: 班级 | B2: 总学时 | C2: 参与人员 | E2: 个人总学时 | F2: 以院系或团委、学生会、学指为单位开展的公益活动 | G2: 以团支部为单位开展的公益活动 | N2: 小红帽组织开展的公益活动 | R2: 私人型公益活动
C3: 学号 | D3: 姓名 | G3: 5.19班助一 | H3: 5.12班助一 | I3: 3.17班助一 | J3: 4.21班助一 | K3: 3.24班助一 | L3: 5.26班助一 | M3: 4.5烈士陵园祭扫活动 | N3: 3.9学雷锋社区 | O3: 杏花林学士服志愿者 | P3: 6.8海洋公益慢跑 | Q3: 市一院志愿者 | R3: 筑梦行动家教 | S3: 海航器志愿者 | T3: 2019新生导航员 | U3: 爱心长跑 | V3: 7月3日船海楼整理材料
A4: 20180100 | B4: =SUM(E4:E32) -> 214.5 | C4: 2018010118 | D4: 陶春晖 | E4: =SUM(F4:Y4) -> 48 | N4: 3 | S4: 44 | V4: 1
C5: 2018010121 | D5: 王宁 | E5: =SUM(F5:Y5) -> 15 | H5: 3 | P5: 2 | Q5: 10
C6: 2018010224 | D6: 杨轩宇 | E6: =SUM(F6:Y6) -> 0
C7: 2018010228 | D7: 朱军鹏 | E7: =SUM(F7:Y7) -> 4 | P7: 4
C8: 2018010302 | D8: 范新升 | E8: =SUM(F8:Y8) -> 29 | P8: 4 | R8: 25
C9: 2018010401 | D9: 陈柏廷 | E9: =SUM(F9:Y9) -> 2 | P9: 2
C10: 2018010415 | D10: 缪帅 | E10: =SUM(F10:Y10) -> 9 | G10: 3 | K10: 3 | U10: 3
C11: 2018010422 | D11: 王海霄 | E11: =SUM(F11:Y11) -> 19 | I11: 3 | R11: 16
C12: 2018010503 | D12: 陈龙宇 | E12: =SUM(F12:Y12) -> 3 | K12: 3
C13: 2018010505 | D13: 崔宗宽 | E13: =SUM(F13:Y13) -> 0
C14: 2018010602 | D14: 邓琪 | E14: =SUM(F14:Y14) -> 2 | P14: 2
C15: 2018010616 | D15: 闫纪冰 | E15: =SUM(F15:Y15) -> 0
C16: 2018010627 | D16: 朱世鹏 | E16: =SUM(F16:Y16) -> 1.5 | O16: 1.5
C17: 2018010926 | D17: 张照飞 | E17: =SUM(F17:Y17) -> 0
C18: 2018011001 | D18: 曹彪 | E18: =SUM(F18:Y18) -> 0
C19: 2018011014 | D19: 屈晨星 | E19: =SUM(F19:Y19) -> 0
C20: 2018011017 | D20: 唐天润 | E20: =SUM(F20:Y20) -> 1.5 | O20: 1.5
C21: 2018011025 | D21: 张江 | E21: =SUM(F21:Y21) -> 0
C22: 2018011026 | D22: 张云逸 | E22: =SUM(F22:Y22) -> 0
C23: 2018011101 | D23: 曹泽睿 | E23: =SUM(F23:Y23) -> 3 | H23: 3
C24: 2018011103 | D24: 代桐炎 | E24: =SUM(F24:Y24) -> 8 | H24: 3 | J24: 3 | P24: 2
C25: 2018011201 | D25: 李开研 | E25: =SUM(F25:Y25) -> 6 | J25: 3 | L25: 3
C26: 2018020505 | D26: 瞿毅 | E26: =SUM(F26:Y26) -> 0
C27: 2018021802 | D27: 董珏宇 | E27: =SUM(F27:Y27) -> 21 | J27: 3 | K27: 3 | L27: 3 | Q27: 12
C28: 2018041121 | D28: 张德顺 | E28: =SUM(F28:Y28) -> 0
C29: 2018041403 | D29: 郝江旭 | E29: =SUM(F29:Y29) -> 22 | I29: 3 | R29: 16 | U29: 3
C30: 2018074118 | D30: 王亦晗 | E30: =SUM(F30:Y30) -> 9 | G30: 3 | T30: 6
C31: 2018151125 | D31: 辛明非 | E31: =SUM(F31:Y31) -> 0
C32: 2017011429 | D32: 赵斌 | E32: =SUM(F32:Y32) -> 11.5 | O32: 1.5 | T32: 6 | U32: 3 | V32: 1

Sheet 20180101
A1: 2019年下学期20180101班公益学时公布表
A2: 班级 | B2: 总学时 | C2: 参与人员 | E2: 个人总学时 | F2: 以院系或团委、学生会、学指为单位开展的公益活动 | G2: 以团支部为单位开展的公益活动 | H2: 小红帽组织开展的公益活动 | L2: 私人型公益活动
C3: 学号 | D3: 姓名 | H3: 3.9学雷锋社区 | I3: 4.5烈士陵园祭扫 | J3: 杏花林学士服志愿者 | K3: 6.8海洋公益慢跑 | L3: 花园街道垃圾分类 | M3: 5.1718国际会议志愿者 | N3: 5.11船海楼志愿者 | O3: 小雨滴志愿者 | P3: 足球赛志愿者 | Q3: 图书馆志愿者 | R3: 虹桥中学参观 | S3: 筑梦行动 | T3: 爱心长跑 | U3: 宿迁市图书馆志愿者 | V3: 海航器志愿者 | W3: 2019年新生导航员 | X3: 2019年迎新工作人员
A4: 20180101 | B4: =SUM(E4:E30) -> 216.5 | C4: 2018010101 | D4: 艾之淏 | E4: =SUM(F4:AH4) -> 3 | P4: 3
C5: 2018010102 | D5: 陈科宇 | E5: =SUM(F5:AH5) -> 60 | Q5: 20 | U5: 40
C6: 2018010103 | D6: 陈兴强 | E6: =SUM(F6:AH6) -> 3 | R6: 3
C7: 2018010104 | D7: 崔曈 | E7: =SUM(F7:AH7) -> 8 | K7: 2 | W7: 6
C8: 2018010105 | D8: 崔昕邈 | E8: =SUM(F8:AH8) -> 8 | K8: 2 | X8: 6
C9: 2018010106 | D9: 杜昊翰 | E9: =SUM(F9:AH9) -> 15.5 | J9: 1.5 | M9: 8 | N9: 3 | P9: 3
C10: 2018010107 | D10: 郭适源 | E10: =SUM(F10:AH10) -> 44.5 | J10: 1.5 | N10: 3 | V10: 40
C11: 2018010108 | D11: 韩莹冰 | E11: =SUM(F11:AH11) -> 0
C12: 2018010109 | D12: 洪安东 | E12: =SUM(F12:AH12) -> 0
C13: 2018010110 | D13: 胡佳 | E13: =SUM(F13:AH13) -> 9.5 | J13: 1.5 | K13: 2 | W13: 6
C14: 2018010111 | D14: 兰飞翔 | E14: =SUM(F14:AH14) -> 2 | K14: 2
C15: 2018010112 | D15: 刘付康 | E15: =SUM(F15:AH15) -> 0
C16: 2018010113 | D16: 刘宇 | E16: =SUM(F16:AH16) -> 2 | K16: 2
C17: 2018010114 | D17: 马平川 | E17: =SUM(F17:AH17) -> 1.5 | J17: 1.5
C18: 2018010115 | D18: 蒙润 | E18: =SUM(F18:AH18) -> 0
C19: 2018010116 | D19: 孟欣欣 | E19: =SUM(F19:AH19) -> 7 | L19: 2 | O19: 2 | P19: 3
C20: 2018010117 | D20: 宋健祎 | E20: =SUM(F20:AH20) -> 16 | S20: 16
C21: 2018010119 | D21: 王宝源 | E21: =SUM(F21:AH21) -> 3.5 | J21: 1.5 | K21: 2
C22: 2018010120 | D22: 王鹤翔 | E22: =SUM(F22:AH22) -> 0
C23: 2018010122 | D23: 吴寒 | E23: =SUM(F23:AH23) -> 5 | L23: 2 | T23: 3
C24: 2018010123 | D24: 吴梦 | E24: =SUM(F24:AH24) -> 0
C25: 2018010124 | D25: 吴仲卿 | E25: =SUM(F25:AH25) -> 0
C26: 2018010125 | D26: 徐浩然 | E26: =SUM(F26:AH26) -> 3 | H26: 3
C27: 2018010126 | D27: 战禧扬 | E27: =SUM(F27:AH27) -> 0
C28: 2018010127 | D28: 张灵琦 | E28: =SUM(F28:AH28) -> 22 | H28: 3 | I28: 3 | S28: 16
C29: 2018010128 | D29: 张洧 | E29: =SUM(F29:AH29) -> 0
C30: 2018010129 | D30: 张云飞 | E30: =SUM(F30:AH30) -> 3 | P30: 3

Sheet 20180102
A1: 2019年下学期20180102班公益学时公布表
A2: 班级 | B2: 总学时 | C2: 参与人员 | E2: 个人总学时 | F2: 以院系或团委、学生会、学指为单位开展的公益活动 | G2: 以团支部为单位开展的公益活动 | L2: 小红帽组织开展的公益活动 | O2: 私人型公益活动
C3: 学号 | D3: 姓名 | G3: 4.21红平小区志愿家教 | H3: 5.15红平小区志愿家教 | I3: 6.16红平小区志愿家教 | J3: 6.23红平小区志愿家教 | K3: 7.6红平小区志愿家教 | L3: 4.5烈士陵园祭扫 | M3: 杏花林学士服志愿者 | N3: 6.8海洋公益慢跑 | O3: 5.11船海楼志愿者 | P3: 筑梦行动志愿者 | Q3: 毕胜敬老 | R3: 2019年新生导航员 | S3: 海航器志愿者 | T3: 2019年迎新工作人员 | U3: 红平小区家教 | V3: 守护星星
A4: 20180102 | B4: =SUM(E4:E31) -> 529 | C4: 2018010201 | D4: 陈奕铭 | E4: =SUM(F4:AG4) -> 0
C5: 2018010202 | D5: 程力 | E5: =SUM(F5:AG5) -> 5 | Q5: 5
C6: 2018010203 | D6: 董源 | E6: =SUM(F6:AG6) -> 16 | I6: 2 | T6: 6 | V6: 8
C7: 2018010204 | D7: 高相阳 | E7: =SUM(F7:AG7) -> 4 | I7: 2 | N7: 2
C8: 2018010205 | D8: 勾鉴明 | E8: =SUM(F8:AG8) -> 8 | V8: 8
C9: 2018010206 | D9: 郝友铨 | E9: =SUM(F9:AG9) -> 4.5 | H9: 2 | U9: 2.5
C10: 2018010207 | D10: 侯继昌 | E10: =SUM(F10:AG10) -> 44 | S10: 44
C11: 2018010208 | D11: 康桢耀 | E11: =SUM(F11:AG11) -> 44 | S11: 44
C12: 2018010209 | D12: 李家兴 | E12: =SUM(F12:AG12) -> 59 | H12: 2 | K12: 2 | S12: 44 | T12: 6 | U12: 5
C13: 2018010210 | D13: 李品男 | E13: =SUM(F13:AG13) -> 0
C14: 2018010211 | D14: 李宪毅 | E14: =SUM(F14:AG14) -> 4 | V14: 4
C15: 2018010212 | D15: 刘若彤 | E15: =SUM(F15:AG15) -> 47.5 | M15: 1.5 | N15: 2 | S15: 44
C16: 2018010213 | D16: 刘世杰 | E16: =SUM(F16:AG16) -> 11 | G16: 3 | V16: 8
C17: 2018010214 | D17: 刘文泽 | E17: =SUM(F17:AG17) -> 12.5 | J17: 2 | U17: 2.5 | V17: 8
C18: 2018010215 | D18: 刘雨昂 | E18: =SUM(F18:AG18) -> 0
C19: 2018010216 | D19: 刘章 | E19: =SUM(F19:AG19) -> 12 | V19: 12
C20: 2018010217 | D20: 吕萌 | E20: =SUM(F20:AG20) -> 16.5 | J20: 2 | U20: 2.5 | V20: 12
C21: 2018010218 | D21: 潘高乐 | E21: =SUM(F21:AG21) -> 4 | V21: 4
C22: 2018010219 | D22: 庞帅 | E22: =SUM(F22:AG22) -> 56 | S22: 44 | V22: 12
C23: 2018010220 | D23: 裴少聪 | E23: =SUM(F23:AG23) -> 20 | V23: 20
C24: 2018010221 | D24: 石浩辰 | E24: =SUM(F24:AG24) -> 20 | P24: 16 | V24: 4
C25: 2018010222 | D25: 王文婷 | E25: =SUM(F25:AG25) -> 27 | N25: 2 | O25: 3 | P25: 16 | R25: 6
C26: 2018010223 | D26: 王岩 | E26: =SUM(F26:AG26) -> 37.5 | G26: 3 | K26: 2 | Q26: 30 | U26: 2.5
C27: 2018010225 | D27: 尹家乐 | E27: =SUM(F27:AG27) -> 3 | L27: 3
C28: 2018010226 | D28: 于逍 | E28: =SUM(F28:AG28) -> 20.5 | M28: 1.5 | N28: 2 | P28: 17
C29: 2018010227 | D29: 张桐 | E29: =SUM(F29:AG29) -> 0
C30: 2018010229 | D30: 张宗羽 | E30: =SUM(F30:AG30) -> 3 | L30: 3
C31: 2017011226 | D31: 张国桢 | E31: =SUM(F31:AG31) -> 50 | N31: 2 | S31: 44 | V31: 4

Sheet 20180103
A1: 2019年下学期20180103班公益学时公布表
A2: 班级 | B2: 总学时 | C2: 参与人员 | E2: 个人总学时 | F2: 以院系或团委、学生会、学指为单位开展的公益活动 | G2: 以团支部为单位开展的公益活动 | J2: 小红帽组织开展的公益活动 | O2: 私人型公益活动
C3: 学号 | D3: 姓名 | G3: 汇流班助一 | H3: 6.23帮扶高中生 | I3: 6.23敬老院 | J3: 3.9学雷锋社区 | K3: 3.10学雷锋敬老院 | L3: 4.5烈士陵园祭扫 | M3: 杏花林学士服志愿者 | N3: 6.8海洋公益慢跑 | O3: 高招会志愿者 | P3: 筑梦行动 | Q3: 2019年新生导航员 | R3: 2019年迎新工作人员 | S3: 迎新接站 | T3: 海航器志愿者 | U3: 高招会志愿者 | V3: 支教高中生 | W3: 7月3日船海楼整理材料
A4: 20180103 | B4: =SUM(E4:E30) -> 572.5 | C4: 2018010301 | D4: 安炎炯 | E4: =SUM(F4:AE4) -> 10 | G4: 4 | I4: 3 | V4: 3
C5: 2018010303 | D5: 高兵兵 | E5: =SUM(F5:AE5) -> 9 | G5: 4 | I5: 3 | N5: 2
C6: 2018010304 | D6: 高源 | E6: =SUM(F6:AE6) -> 87 | G6: 8 | N6: 2 | O6: 4 | S6: 25 | T6: 44 | U6: 4
C7: 2018010305 | D7: 谷慧群 | E7: =SUM(F7:AE7) -> 64 | G7: 8 | Q7: 6 | R7: 6 | T7: 44
C8: 2018010306 | D8: 黄博远 | E8: =SUM(F8:AE8) -> 53 | G8: 4 | I8: 3 | N8: 2 | T8: 44
C9: 2018010307 | D9: 康若森 | E9: =SUM(F9:AE9) -> 2 | N9: 2
C10: 2018010308 | D10: 李东海 | E10: =SUM(F10:AE10) -> 5 | I10: 3 | N10: 2
C11: 2018010309 | D11: 刘顺 | E11: =SUM(F11:AE11) -> 6 | G11: 4 | N11: 2
C12: 2018010310 | D12: 马静雯 | E12: =SUM(F12:AE12) -> 46 | N12: 2 | T12: 44
C13: 2018010311 | D13: 王关宁 | E13: =SUM(F13:AE13) -> 0
C14: 2018010312 | D14: 王冠翔 | E14: =SUM(F14:AE14) -> 8 | G14: 8
C15: 2018010313 | D15: 王帅行 | E15: =SUM(F15:AE15) -> 7.5 | J15: 3 | L15: 3 | M15: 1.5
C16: 2018010314 | D16: 王锡源 | E16: =SUM(F16:AE16) -> 5.5 | K16: 3 | M16: 1.5 | W16: 1
C17: 2018010315 | D17: 文奇鑫 | E17: =SUM(F17:AE17) -> 9 | G17: 4 | I17: 3 | N17: 2
C18: 2018010316 | D18: 徐润泽 | E18: =SUM(F18:AE18) -> 12 | H18: 3 | I18: 3 | R18: 6
C19: 2018010317 | D19: 杨景淇 | E19: =SUM(F19:AE19) -> 2 | N19: 2
C20: 2018010318 | D20: 杨桐奇 | E20: =SUM(F20:AE20) -> 44 | T20: 44
C21: 2018010319 | D21: 杨雪松 | E21: =SUM(F21:AE21) -> 9 | I21: 3 | R21: 6
C22: 2018010320 | D22: 杨艳艳 | E22: =SUM(F22:AE22) -> 74 | I22: 3 | L22: 3 | N22: 2 | P22: 16 | R22: 6 | T22: 44
C23: 2018010321 | D23: 杨泽宇 | E23: =SUM(F23:AE23) -> 53.5 | H23: 3 | I23: 3 | M23: 1.5 | N23: 2 | T23: 44
C24: 2018010322 | D24: 于沐源 | E24: =SUM(F24:AE24) -> 0
C25: 2018010323 | D25: 曾嘉濠 | E25: =SUM(F25:AE25) -> 0
C26: 2018010324 | D26: 曾鹏 | E26: =SUM(F26:AE26) -> 0
C27: 2018010325 | D27: 张浩然 | E27: =SUM(F27:AE27) -> 19 | G27: 8 | I27: 3 | N27: 2 | Q27: 6
C28: 2018010326 | D28: 张开源 | E28: =SUM(F28:AE28) -> 0
C29: 2018010327 | D29: 周鑫 | E29: =SUM(F29:AE29) -> 47 | I29: 3 | T29: 44
C30: 2018010328 | D30: 朱子健 | E30: =SUM(F30:AE30) -> 0

Sheet 20180104
A1: 2019年下学期20180104班公益学时公布表
A2: 班级 | B2: 总学时 | C2: 参与人员 | E2: 个人总学时 | F2: 以院系或团委、学生会、学指为单位开展的公益活动 | G2: 以团支部为单位开展的公益活动 | P2: 小红帽组织开展的公益活动 | U2: 私人型公益活动
C3: 学号 | D3: 姓名 | G3: 5.4班助一 | H3: 4.27班助一 | I3: 4.7班助一 | J3: 4.14班助一 | K3: 3.31班助一 | L3: 5.26班助一 | M3: 6.9班助一 | N3: 6.23班助一 | O3: 6.16班助一 | P3: 3.9学雷锋社区 | Q3: 爱心长跑 | R3: 4.5烈士陵园祭扫 | S3: 杏花林学士服志愿者 | T3: 6.8海洋公益慢跑 | U3: 校运动会志愿者 | V3: 海洋馆值班 | W3: 市医院志愿者 | X3: 筑梦行动 | Y3: 海航器志愿者 | Z3: 2019年新生导航员
A4: 20180104 | B4: =SUM(E4:E29) -> 524 | C4: 2018010402 | D4: 豆利军 | E4: =SUM(F4:AI4) -> 3 | K4: 3
C5: 2018010403 | D5: 段雲木 | E5: =SUM(F5:AI5) -> 49 | K5: 3 | T5: 2 | Y5: 44
C6: 2018010404 | D6: 冯硕 | E6: =SUM(F6:AI6) -> 3 | K6: 3
C7: 2018010405 | D7: 高进 | E7: =SUM(F7:AI7) -> 3 | I7: 3
C8: 2018010406 | D8: 弓梦蕊 | E8: =SUM(F8:AI8) -> 64 | X8: 20 | Y8: 44
C9: 2018010407 | D9: 荆宝迪 | E9: =SUM(F9:AI9) -> 3 | I9: 3
C10: 2018010408 | D10: 李勃含 | E10: =SUM(F10:AI10) -> 5 | I10: 3 | T10: 2
C11: 2018010409 | D11: 李舒畅 | E11: =SUM(F11:AI11) -> 71 | H11: 3 | I11: 3 | J11: 3 | K11: 3 | M11: 3 | O11: 3 | Q11: 3 | Y11: 44 | Z11: 6
C12: 2018010410 | D12: 李岩洲 | E12: =SUM(F12:AI12) -> 3 | J12: 3
C13: 2018010411 | D13: 梁立思 | E13: =SUM(F13:AI13) -> 3 | J13: 3
C14: 2018010412 | D14: 刘思源 | E14: =SUM(F14:AI14) -> 3 | G14: 3
C15: 2018010413 | D15: 刘琰 | E15: =SUM(F15:AI15) -> 3 | J15: 3
C16: 2018010414 | D16: 刘悦多 | E16: =SUM(F16:AI16) -> 11 | H16: 3 | P16: 3 | R16: 3 | T16: 2
C17: 2018010416 | D17: 任建新 | E17: =SUM(F17:AI17) -> 16 | G17: 3 | M17: 3 | U17: 10
C18: 2018010417 | D18: 沈兴志 | E18: =SUM(F18:AI18) -> 58 | H18: 3 | L18: 3 | M18: 3 | Q18: 3 | T18: 2 | Y18: 44
C19: 2018010418 | D19: 石健 | E19: =SUM(F19:AI19) -> 59 | G19: 3 | H19: 3 | L19: 3 | M19: 3 | N19: 3 | Y19: 44
C20: 2018010419 | D20: 孙伟 | E20: =SUM(F20:AI20) -> 2 | T20: 2
C21: 2018010420 | D21: 汪品逸 | E21: =SUM(F21:AI21) -> 51 | L21: 3 | T21: 4 | Y21: 44
C22: 2018010421 | D22: 王丹迪 | E22: =SUM(F22:AI22) -> 6 | G22: 3 | Q22: 3
C23: 2018010423 | D23: 王睿 | E23: =SUM(F23:AI23) -> 70 | L23: 3 | P23: 3 | V23: 4 | X23: 16 | Y23: 44
C24: 2018010424 | D24: 杨柏伦 | E24: =SUM(F24:AI24) -> 6 | N24: 3 | O24: 3
C25: 2018010425 | D25: 杨英狄 | E25: =SUM(F25:AI25) -> 3 | O25: 3
C26: 2018010426 | D26: 章晨 | E26: =SUM(F26:AI26) -> 3 | O26: 3
C27: 2018010427 | D27: 赵欣洋 | E27: =SUM(F27:AI27) -> 3 | N27: 3
C28: 2018010428 | D28: 赵哲晟 | E28: =SUM(F28:AI28) -> 7.5 | N28: 3 | P28: 3 | S28: 1.5
C29: 2017011430 | D29: 赵轶男 | E29: =SUM(F29:AI29) -> 15.5 | S29: 1.5 | V29: 4 | W29: 10

Sheet 20180105
A1: 2019年下学期20180105班公益学时公布表
A2: 班级 | B2: 总学时 | C2: 参与人员 | E2: 个人总学时 | F2: 以院系或团委、学生会、学指为单位开展的公益活动 | G2: 以团支部为单位开展的公益活动 | K2: 小红帽组织开展的公益活动 | M2: 私人型公益活动
C3: 学号 | D3: 姓名 | G3: 4.21红平小区家教志愿服务 | H3: 6.23班助一 | I3: 4.27红平小区家教志愿服务 | J3: 4.16红平小区家教志愿服务 | K3: 3.10学雷锋敬老院 | L3: 6.8海洋公益慢跑 | M3: 爱心长跑 | N3: 海航器志愿者 | O3: 2019年新生导航员
A4: 20180105 | B4: =SUM(E4:E29) -> 307 | C4: 2018010501 | D4: 安洺萱 | E4: =SUM(F4:AA4) -> 8 | J4: 3 | L4: 2 | M4: 3
C5: 2018010502 | D5: 陈付龙 | E5: =SUM(F5:AA5) -> 0
C6: 2018010504 | D6: 陈彦存 | E6: =SUM(F6:AA6) -> 3 | M6: 3
C7: 2018010506 | D7: 何星 | E7: =SUM(F7:AA7) -> 0
C8: 2018010507 | D8: 胡碧千 | E8: =SUM(F8:AA8) -> 0
C9: 2018010508 | D9: 姜云鹏 | E9: =SUM(F9:AA9) -> 49 | L9: 2 | M9: 3 | N9: 44
C10: 2018010509 | D10: 李琦 | E10: =SUM(F10:AA10) -> 2 | L10: 2
C11: 2018010510 | D11: 刘宇航 | E11: =SUM(F11:AA11) -> 44 | N11: 44
C12: 2018010511 | D12: 刘湛 | E12: =SUM(F12:AA12) -> 0
C13: 2018010512 | D13: 刘镇维 | E13: =SUM(F13:AA13) -> 2 | L13: 2
C14: 2018010513 | D14: 罗兆鹏 | E14: =SUM(F14:AA14) -> 44 | N14: 44
C15: 2018010514 | D15: 彭啶一 | E15: =SUM(F15:AA15) -> 6 | G15: 3 | J15: 3
C16: 2018010515 | D16: 朴相坤 | E16: =SUM(F16:AA16) -> 3 | G16: 3
C17: 2018010516 | D17: 亓豪 | E17: =SUM(F17:AA17) -> 10 | I17: 3 | K17: 3 | L17: 4
C18: 2018010517 | D18: 石龙 | E18: =SUM(F18:AA18) -> 5 | I18: 3 | L18: 2
C19: 2018010518 | D19: 王佳兴 | E19: =SUM(F19:AA19) -> 3 | I19: 3
C20: 2018010519 | D20: 王蕊 | E20: =SUM(F20:AA20) -> 56 | J20: 3 | M20: 3 | N20: 44 | O20: 6
C21: 2018010520 | D21: 王文言 | E21: =SUM(F21:AA21) -> 5 | H21: 3 | L21: 2
C22: 2018010521 | D22: 熊汝茁 | E22: =SUM(F22:AA22) -> 0
C23: 2018010522 | D23: 张海天 | E23: =SUM(F23:AA23) -> 53 | I23: 3 | N23: 44 | O23: 6
C24: 2018010523 | D24: 张玉松 | E24: =SUM(F24:AA24) -> 0
C25: 2018010524 | D25: 张志函 | E25: =SUM(F25:AA25) -> 0
C26: 2018010525 | D26: 赵轲 | E26: =SUM(F26:AA26) -> 3 | H26: 3
C27: 2018010526 | D27: 赵明露 | E27: =SUM(F27:AA27) -> 3 | I27: 3
C28: 2018010527 | D28: 赵懿昕 | E28: =SUM(F28:AA28) -> 0
C29: 2018010528 | D29: 朱沛瀚 | E29: =SUM(F29:AA29) -> 8 | H29: 3 | L29: 2 | M29: 3

Sheet 20180106
A1: 2019年下学期20180106班公益学时公布表
A2: 班级 | B2: 总学时 | C2: 参与人员 | E2: 个人总学时 | F2: 以院系或团委、学生会、学指为单位开展的公益活动 | G2: 以团支部为单位开展的公益活动 | T2: 小红帽组织开展的公益活动 | V2: 私人型公益活动
C3: 学号 | D3: 姓名 | G3: 4.5清明扫墓 | H3: 5.19看望郭大爷 | I3: 4.21看望郭大爷 | J3: 5.4看望郭大爷 | K3: 4.27看望郭大爷 | L3: 3.31看望郭大爷 | M3: 3.16看望郭大爷 | N3: 3.24看望郭大爷 | O3: 5.24看望郭大爷 | P3: 6.9看望郭大爷 | Q3: 6.16看望郭大爷 | R3: 6.23看望郭大爷 | S3: 6.1看望郭大爷 | T3: 杏花林学士服志愿者 | U3: 6.8海洋公益慢跑 | V3: 6.4船海楼档案整理 | W3: 爱心长跑 | X3: 校青协归还工具 | Y3: 暑期社会实践 | Z3: 图书馆志愿 | AA3: 海洋馆志愿者 | AB3: 打扫海洋馆 | AC3: 3.5宣讲会 | AD3: 海航器志愿者 | AE3: 筑梦行动 | AF3: 福利院 | AG3: 守护星星 | AH3: 校医院长期志愿者 | AI3: 2019年新生导航员 | AJ3: 2019年迎新工作人员 | AK3: 迎新校园秩序维护
A4: 20180106 | B4: =SUM(E4:E28) -> 891 | C4: 2018010601 | D4: 代昕伯 | E4: =SUM(F4:AW4) -> 2 | G4: 2
C5: 2018010603 | D5: 郭璐能 | E5: =SUM(F5:AW5) -> 10 | G5: 2 | M5: 2 | P5: 2 | Q5: 2 | U5: 2
C6: 2018010604 | D6: 郝祥森 | E6: =SUM(F6:AW6) -> 0
C7: 2018010605 | D7: 胡世 | E7: =SUM(F7:AW7) -> 0
C8: 2018010606 | D8: 胡守军 | E8: =SUM(F8:AW8) -> 2 | G8: 2
C9: 2018010607 | D9: 李貌 | E9: =SUM(F9:AW9) -> 57 | G9: 2 | H9: 2 | I9: 2 | J9: 2 | N9: 2 | O9: 2 | P9: 2 | R9: 3 | AD9: 40
C10: 2018010608 | D10: 刘威 | E10: =SUM(F10:AW10) -> 12 | G10: 2 | I10: 2 | O10: 2 | P10: 2 | U10: 4
C11: 2018010609 | D11: 马致遥 | E11: =SUM(F11:AW11) -> 9 | G11: 2 | I11: 2 | R11: 3 | U11: 2
C12: 2018010610 | D12: 沈令泽 | E12: =SUM(F12:AW12) -> 0
C13: 2018010611 | D13: 孙浩迪 | E13: =SUM(F13:AW13) -> 54 | G13: 2 | I13: 2 | Q13: 2 | AD13: 44 | AG13: 4
C14: 2018010612 | D14: 童巨辉 | E14: =SUM(F14:AW14) -> 6 | G14: 2 | O14: 2 | U14: 2
C15: 2018010613 | D15: 王向鲁 | E15: =SUM(F15:AW15) -> 108.5 | G15: 2 | H15: 2 | I15: 2 | J15: 2 | L15: 2 | N15: 2 | O15: 2 | P15: 2 | Q15: 2 | R15: 3 | S15: 2 | T15: 1.5 | U15: 2 | Z15: 36 | AB15: 2 | AD15: 44
C16: 2018010614 | D16: 王兴家 | E16: =SUM(F16:AW16) -> 18 | G16: 2 | H16: 2 | K16: 2 | N16: 2 | S16: 2 | U16: 2 | AJ16: 6
C17: 2018010615 | D17: 徐鹏 | E17: =SUM(F17:AW17) -> 107 | G17: 2 | L17: 2 | P17: 2 | U17: 2 | V17: 3 | X17: 3 | AA17: 22 | AB17: 2 | AD17: 44 | AK17: 25
C18: 2018010617 | D18: 闫跃洋 | E18: =SUM(F18:AW18) -> 61 | G18: 2 | M18: 2 | N18: 2 | U18: 2 | V18: 3 | AB18: 2 | AD18: 44 | AG18: 4
C19: 2018010618 | D19: 阎佳成 | E19: =SUM(F19:AW19) -> 57 | G19: 2 | K19: 2 | L19: 2 | M19: 2 | U19: 2 | X19: 3 | AD19: 44
C20: 2018010619 | D20: 杨宏丽 | E20: =SUM(F20:AW20) -> 24 | G20: 2 | AE20: 16 | AI20: 6
C21: 2018010620 | D21: 杨云飞 | E21: =SUM(F21:AW21) -> 6 | G21: 2 | Q21: 2 | U21: 2
C22: 2018010621 | D22: 于威 | E22: =SUM(F22:AW22) -> 70.5 | G22: 2 | T22: 1.5 | U22: 2 | W22: 3 | AD22: 40 | AH22: 16 | AI22: 6
C23: 2018010622 | D23: 臧世泽 | E23: =SUM(F23:AW23) -> 50 | G23: 2 | K23: 2 | N23: 2 | AD23: 44
C24: 2018010623 | D24: 张搏洋 | E24: =SUM(F24:AW24) -> 0
C25: 2018010624 | D25: 张国斐 | E25: =SUM(F25:AW25) -> 35 | K25: 2 | U25: 2 | W25: 3 | Y25: 22 | AC25: 6
C26: 2018010625 | D26: 赵永波 | E26: =SUM(F26:AW26) -> 17 | G26: 2 | K26: 2 | L26: 2 | M26: 2 | U26: 2 | X26: 3 | AG26: 4
C27: 2018010626 | D27: 赵子鸣 | E27: =SUM(F27:AW27) -> 133 | G27: 2 | K27: 2 | M27: 2 | U27: 2 | W27: 3 | AD27: 44 | AF27: 64 | AG27: 8 | AI27: 6
C28: 2018010628 | D28: 朱奕蘅 | E28: =SUM(F28:AW28) -> 52 | G28: 2 | L28: 2 | AD28: 44 | AG28: 4

Sheet 20180107
A1: 2019年下学期20180107班公益学时公布表
A2: 班级 | B2: 总学时 | C2: 参与人员 | E2: 个人总学时 | F2: 以院系或团委、学生会、学指为单位开展的公益活动 | G2: 以团支部为单位开展的公益活动 | V2: 小红帽组织开展的公益活动 | Y2: 私人型公益活动
C3: 学号 | D3: 姓名 | G3: 暑期社会实践三下乡 | H3: 5.19班助一 | I3: 5.4班助一 | J3: 4.27班助一 | K3: 4.20班助一 | L3: 4.5班助一 | M3: 3.31班助一 | N3: 3.24班助一 | O3: 3.17班助一 | P3: 3.9班助一 | Q3: 5.26班助一 | R3: 6.2班助一 | S3: 6.16班助一 | T3: 6.23班助一 | U3: 6.8班助一 | V3: 3.12育红小学 | W3: 杏花林学士服志愿者 | X3: 海洋公益慢跑 | Y3: 筑梦行动 | Z3: 6.4船海楼档案整理 | AA3: 爱心长跑 | AB3: 爱心超市书籍管理 | AC3: 守护星星 | AD3: 5.18船海楼档案整理 | AE3: 2019年新生导航员 | AF3: 海航器志愿者 | AG3: 2019年迎新工作人员 | AH3: 暑期支教 | AI3: 海航器赛后物资回收
A4: 20180107 | B4: =SUM(E4:E31) -> 1181.5 | C4: 2018010701 | D4: 白英利 | E4: =SUM(G4:AU4) -> 82 | P4: 3 | X4: 4 | Y4: 20 | AA4: 3 | AC4: 8 | AF4: 44
C5: 2018010702 | D5: 蔡雨阳 | E5: =SUM(G5:AU5) -> 38.5 | I5: 3 | P5: 3 | R5: 3 | W5: 1.5 | X5: 4 | Y5: 24
C6: 2018010703 | D6: 陈盼召 | E6: =SUM(G6:AU6) -> 47.5 | J6: 3 | M6: 3 | P6: 3 | Q6: 3 | W6: 1.5 | X6: 4 | Y6: 27 | AA6: 3
C7: 2018010704 | D7: 程闯 | E7: =SUM(G7:AU7) -> 21 | P7: 3 | X7: 2 | Y7: 16
C8: 2018010705 | D8: 程蔚 | E8: =SUM(G8:AU8) -> 46 | J8: 3 | L8: 3 | Y8: 40
C9: 2018010706 | D9: 段传智 | E9: =SUM(G9:AU9) -> 84 | G9: 15 | K9: 3 | O9: 3 | U9: 3 | X9: 4 | Z9: 3 | AD9: 3 | AF9: 44 | AG9: 6
C10: 2018010707 | D10: 范国梁 | E10: =SUM(G10:AU10) -> 31 | G10: 15 | K10: 3 | O10: 3 | U10: 3 | V10: 3 | X10: 4
C11: 2018010708 | D11: 范文彬 | E11: =SUM(G11:AU11) -> 60 | K11: 3 | O11: 3 | U11: 3 | X11: 4 | AD11: 3 | AF11: 44
C12: 2018010709 | D12: 冯睿 | E12: =SUM(G12:AU12) -> 60 | K12: 3 | O12: 3 | X12: 4 | AE12: 6 | AF12: 44
C13: 2018010710 | D13: 高宏宇 | E13: =SUM(G13:AU13) -> 79 | J13: 3 | K13: 3 | O13: 3 | U13: 3 | X13: 4 | Y13: 16 | Z13: 3 | AF13: 44
C14: 2018010711 | D14: 高世泽 | E14: =SUM(G14:AU14) -> 0
C15: 2018010712 | D15: 高云峰 | E15: =SUM(G15:AU15) -> 0
C16: 2018010713 | D16: 贾达洋 | E16: =SUM(G16:AU16) -> 22 | I16: 3 | J16: 3 | Y16: 16
C17: 2018010714 | D17: 黎钰 | E17: =SUM(G17:AU17) -> 57.5 | I17: 3 | L17: 3 | W17: 1.5 | AE17: 6 | AF17: 44
C18: 2018010715 | D18: 李洺燃 | E18: =SUM(G18:AU18) -> 0
C19: 2018010716 | D19: 林传旭 | E19: =SUM(G19:AU19) -> 57 | H19: 3 | N19: 3 | T19: 3 | X19: 4 | AF19: 44
C20: 2018010717 | D20: 刘玥君 | E20: =SUM(G20:AU20) -> 54 | I20: 3 | J20: 3 | N20: 3 | Q20: 3 | AE20: 6 | AH20: 36
C21: 2018010718 | D21: 毛同跃 | E21: =SUM(G21:AU21) -> 3 | T21: 3
C22: 2018010719 | D22: 梅宇轩 | E22: =SUM(G22:AU22) -> 6 | N22: 3 | T22: 3
C23: 2018010720 | D23: 庞俣周 | E23: =SUM(G23:AU23) -> 76 | J23: 3 | X23: 4 | Y23: 25 | AF23: 44
C24: 2018010721 | D24: 屈小东 | E24: =SUM(G24:AU24) -> 0
C25: 2018010722 | D25: 全海林 | E25: =SUM(G25:AU25) -> 72 | G25: 15 | H25: 3 | J25: 3 | S25: 3 | X25: 4 | AF25: 44
C26: 2018010723 | D26: 孙泽宇 | E26: =SUM(G26:AU26) -> 31 | G26: 15 | H26: 3 | J26: 3 | N26: 3 | S26: 3 | X26: 4
C27: 2018010724 | D27: 谢旭 | E27: =SUM(G27:AU27) -> 72 | G27: 15 | H27: 3 | J27: 3 | M27: 3 | S27: 3 | AA27: 3 | AB27: 2 | AF27: 40
C28: 2018010725 | D28: 赵海儒 | E28: =SUM(G28:AU28) -> 50 | M28: 3 | S28: 3 | AF28: 44
C29: 2018010726 | D29: 郑宇飞 | E29: =SUM(G29:AU29) -> 6 | M29: 3 | Q29: 3
C30: 2018010727 | D30: 周泽宇 | E30: =SUM(G30:AU30) -> 66 | L30: 3 | R30: 3 | T30: 3 | X30: 4 | Z30: 3 | AD30: 3 | AF30: 44 | AI30: 3
C31: 2018010728 | D31: 朱力 | E31: =SUM(G31:AU31) -> 60 | L31: 3 | Q31: 3 | R31: 3 | X31: 4 | Z31: 3 | AF31: 44

Sheet 20180108
A1: 2019年下学期20180108班公益学时公布表
A2: 班级 | B2: 总学时 | C2: 参与人员 | E2: 个人总学时 | F2: 以院系或团委、学生会、学指为单位开展的公益活动 | H2: 以团支部为单位开展的公益活动 | R2: 小红帽组织开展的公益活动 | X2: 私人型公益活动
C3: 学号 | G3: 暑期社会实践三下乡 | H3: 5.19班助一 | I3: 4.27班助一 | J3: 4.21班助一 | K3: 4.6班助一 | L3: 4.14班助一 | M3: 3.30班助一 | N3: 3.24班助一 | O3: 5.26班助一 | P3: 6.23班助一 | Q3: 6.16班助一 | R3: 3.9学雷锋社区 | S3: 3.13育红小学 | T3: 捐书 | U3: 杏花林学士服志愿者 | V3: 6.8海洋公益慢跑 | W3: 4.5烈士陵园祭扫 | X3: 筑梦行动 | Y3: 爱心长跑 | Z3: 大连站暑运 | AA3: 6.4船海楼档案整理 | AB3: 2019年新生导航员 | AC3: 海航器志愿者 | AD3: 高招会志愿者 | AE3: 黔东南成基金-亚运足球梦想夏令营 | AF3: 海航器赛后物资回收
A4: 20180108 | B4: =SUM(E4:E31) -> 847.5 | C4: 2018010801 | D4: 毕意翔 | E4: =SUM(F4:AN4) -> 60 | K4: 3 | V4: 4 | AA4: 3 | AC4: 44 | AF4: 6
C5: 2018010802 | D5: 邓玉萱 | E5: =SUM(F5:AN5) -> 68 | V5: 2 | X5: 27 | Y5: 3 | AE5: 36
C6: 2018010803 | D6: 杜子鹏 | E6: =SUM(F6:AN6) -> 5 | Q6: 3 | V6: 2
C7: 2018010804 | D7: 范明江 | E7: =SUM(F7:AN7) -> 14 | H7: 3 | I7: 3 | K7: 3 | P7: 3 | V7: 2
C8: 2018010805 | D8: 丰圣锦 | E8: =SUM(F8:AN8) -> 5 | N8: 3 | V8: 2
C9: 2018010806 | D9: 盖赫凯 | E9: =SUM(F9:AN9) -> 59.5 | G9: 8 | J9: 3 | R9: 3 | U9: 1.5 | AC9: 44
C10: 2018010807 | D10: 龚文波 | E10: =SUM(F10:AN10) -> 16 | K10: 3 | O10: 3 | P10: 3 | T10: 2 | V10: 2 | W10: 3
C11: 2018010808 | D11: 韩泠西 | E11: =SUM(F11:AN11) -> 55 | K11: 3 | M11: 3 | V11: 2 | Y11: 3 | AC11: 44
C12: 2018010809 | D12: 洪宇 | E12: =SUM(F12:AN12) -> 149.5 | G12: 8 | P12: 3 | Q12: 3 | S12: 3 | U12: 1.5 | V12: 4 | W12: 3 | Z12: 80 | AC12: 44
C13: 2018010810 | D13: 侯祥雨 | E13: =SUM(F13:AN13) -> 62 | G13: 8 | H13: 3 | O13: 3 | V13: 4 | AC13: 44
C14: 2018010811 | D14: 黄国清 | E14: =SUM(F14:AN14) -> 56 | L14: 3 | AA14: 3 | AB14: 6 | AC14: 44
C15: 2018010812 | D15: 阚洪伟 | E15: =SUM(F15:AN15) -> 0
C16: 2018010813 | D16: 孔令润 | E16: =SUM(F16:AN16) -> 3 | J16: 3
C17: 2018010814 | D17: 李浩瀚 | E17: =SUM(F17:AN17) -> 0
C18: 2018010815 | D18: 刘芳 | E18: =SUM(F18:AN18) -> 7.5 | L18: 3 | U18: 1.5 | Y18: 3
C19: 2018010816 | D19: 龙潋予 | E19: =SUM(F19:AN19) -> 9 | L19: 3 | N19: 3 | O19: 3
C20: 2018010817 | D20: 路明 | E20: =SUM(F20:AN20) -> 48 | V20: 4 | AC20: 44
C21: 2018010818 | D21: 马祥益 | E21: =SUM(F21:AN21) -> 10 | J21: 3 | K21: 3 | T21: 2 | V21: 2
C22: 2018010819 | D22: 庞博 | E22: =SUM(F22:AN22) -> 44 | AC22: 44
C23: 2018010820 | D23: 邵军 | E23: =SUM(F23:AN23) -> 47 | I23: 3 | AC23: 44
C24: 2018010821 | D24: 沈炯尔 | E24: =SUM(F24:AN24) -> 6 | M24: 3 | N24: 3
C25: 2018010822 | D25: 宋世阳 | E25: =SUM(F25:AN25) -> 53 | H25: 3 | V25: 2 | AC25: 44 | AD25: 4
C26: 2018010823 | D26: 孙永佳 | E26: =SUM(F26:AN26) -> 0
C27: 2018010824 | D27: 王昆峰 | E27: =SUM(F27:AN27) -> 0
C28: 2018010825 | D28: 颜俊涛 | E28: =SUM(F28:AN28) -> 3 | M28: 3
C29: 2018010826 | D29: 张元哲 | E29: =SUM(F29:AN29) -> 12 | I29: 3 | J29: 3 | L29: 3 | Q29: 3
C30: 2018010827 | D30: 赵然 | E30: =SUM(F30:AN30) -> 47 | N30: 3 | AC30: 44
C31: 2018010828 | D31: 职明洋 | E31: =SUM(F31:AN31) -> 8 | H31: 3 | M31: 3 | V31: 2

Sheet 20180109
A1: 2019年下学期20180109班公益学时公布表
A2: 班级 | B2: 总学时 | C2: 参与人员 | E2: 个人总学时 | F2: 以院系或团委、学生会、学指为单位开展的公益活动 | G2: 以团支部为单位开展的公益活动 | H2: 小红帽组织开展的公益活动 | J2: 私人型公益活动
C3: 学号 | D3: 姓名 | G3: 打扫军工操场 | H3: 杏花林学士服志愿者 | I3: 6.8海洋公益慢跑 | J3: 5.18船海楼志愿者 | K3: 市医院长期志愿者 | L3: 5.1718国际会议志愿者 | M3: 5.11船海楼志愿者 | N3: 6.4船海楼档案整理 | O3: 爱心长跑 | P3: 海航器志愿者 | Q3: 2019年新生导航员 | R3: 2019年迎新工作人员
A4: 20180109 | B4: =SUM(E4:E30) -> 558.5 | C4: 2018010901 | D4: 曹洋 | E4: =SUM(F4:AB4) -> 1 | G4: 1
C5: 2018010902 | D5: 陈书宇 | E5: =SUM(F5:AB5) -> 49 | G5: 1 | I5: 4 | P5: 44
C6: 2018010903 | D6: 陈樱颖 | E6: =SUM(F6:AB6) -> 10 | G6: 1 | O6: 3 | R6: 6
C7: 2018010904 | D7: 高翔宇 | E7: =SUM(F7:AB7) -> 5 | G7: 1 | M7: 4
C8: 2018010905 | D8: 贺家鑫 | E8: =SUM(F8:AB8) -> 7 | G8: 1 | K8: 6
C9: 2018010906 | D9: 李祥弘 | E9: =SUM(F9:AB9) -> 7 | I9: 4 | J9: 3
C10: 2018010907 | D10: 刘铭睿 | E10: =SUM(F10:AB10) -> 16 | K10: 12 | M10: 4
C11: 2018010908 | D11: 吕鹏程 | E11: =SUM(F11:AB11) -> 11 | G11: 1 | I11: 2 | L11: 8
C12: 2018010909 | D12: 马骋 | E12: =SUM(F12:AB12) -> 1 | G12: 1
C13: 2018010910 | D13: 马浩博 | E13: =SUM(F13:AB13) -> 48 | G13: 1 | N13: 3 | P13: 44
C14: 2018010911 | D14: 莫芷骅 | E14: =SUM(F14:AB14) -> 0
C15: 2018010912 | D15: 钮睿 | E15: =SUM(F15:AB15) -> 1 | G15: 1
C16: 2018010913 | D16: 钱浩然 | E16: =SUM(F16:AB16) -> 1 | G16: 1
C17: 2018010914 | D17: 魏天泽 | E17: =SUM(F17:AB17) -> 49 | G17: 1 | I17: 4 | P17: 44
C18: 2018010915 | D18: 吴桐 | E18: =SUM(F18:AB18) -> 45 | G18: 1 | P18: 44
C19: 2018010916 | D19: 向智涵 | E19: =SUM(F19:AB19) -> 4 | I19: 4
C20: 2018010917 | D20: 肖同乐 | E20: =SUM(F20:AB20) -> 2 | I20: 2
C21: 2018010918 | D21: 许宁 | E21: =SUM(F21:AB21) -> 10 | G21: 1 | I21: 2 | J21: 3 | M21: 4
C22: 2018010919 | D22: 闫可霏 | E22: =SUM(F22:AB22) -> 45 | G22: 1 | P22: 44
C23: 2018010920 | D23: 杨柳 | E23: =SUM(F23:AB23) -> 58 | G23: 1 | I23: 4 | O23: 3 | P23: 44 | Q23: 6
C24: 2018010921 | D24: 宇文林 | E24: =SUM(F24:AB24) -> 3 | G24: 1 | I24: 2
C25: 2018010922 | D25: 张艮 | E25: =SUM(F25:AB25) -> 62.5 | G25: 1 | H25: 1.5 | I25: 4 | P25: 44 | Q25: 6 | R25: 6
C26: 2018010923 | D26: 张鹤 | E26: =SUM(F26:AB26) -> 0
C27: 2018010924 | D27: 张秦川 | E27: =SUM(F27:AB27) -> 0
C28: 2018010925 | D28: 张宇航 | E28: =SUM(F28:AB28) -> 5 | G28: 1 | I28: 4
C29: 2018010927 | D29: 赵鹏 | E29: =SUM(F29:AB29) -> 49 | G29: 1 | I29: 4 | P29: 44
C30: 2018010928 | D30: 赵庆龙 | E30: =SUM(F30:AB30) -> 69 | G30: 1 | I30: 4 | L30: 8 | P30: 44 | Q30: 6 | R30: 6

Sheet 20180110
A1: 2019年下学期20180110班公益学时公布表
A2: 班级 | B2: 总学时 | C2: 参与人员 | E2: 个人总学时 | F2: 以院系或团委、学生会、学指为单位开展的公益活动 | G2: 以团支部为单位开展的公益活动 | I2: 小红帽组织开展的公益活动 | K2: 私人型公益活动
C3: 学号 | D3: 姓名 | G3: 5.18班助一 | H3: 4.14班助一 | I3: 杏花林学士服志愿者 | J3: 6.8海洋公益慢跑 | K3: 4.27中小学生趣味科学实验志愿者 | L3: 5.11船海楼志愿者 | M3: 6.9爱心长跑 | N3: 杏花林志愿者 | O3: 小雨滴志愿者 | P3: 汇流·班助 | Q3: 筑梦志愿者 | R3: 海航器志愿者 | S3: 2019年新生导航员 | T3: 毕胜敬老 | U3: 校青协迎新 | V3: 2019年迎新工作人员 | W3: 暑期支教
A4: 20180110 | B4: =SUM(E4:E26) -> 592 | C4: 2018011002 | D4: 邓钧宇 | E4: =SUM(F4:AE4) -> 14 | H4: 3 | J4: 2 | M4: 3 | V4: 6
C5: 2018011003 | D5: 房佳瑶 | E5: =SUM(F5:AE5) -> 0
C6: 2018011004 | D6: 高强 | E6: =SUM(F6:AE6) -> 0
C7: 2018011005 | D7: 郜宏博 | E7: =SUM(F7:AE7) -> 3 | G7: 3
C8: 2018011006 | D8: 李云天 | E8: =SUM(F8:AE8) -> 10 | G8: 3 | J8: 4 | L8: 3
C9: 2018011007 | D9: 林路 | E9: =SUM(F9:AE9) -> 65 | J9: 2 | K9: 3 | R9: 44 | S9: 6 | T9: 10
C10: 2018011008 | D10: 林忠宇 | E10: =SUM(F10:AE10) -> 22 | Q10: 16 | V10: 6
C11: 2018011009 | D11: 刘聪先 | E11: =SUM(F11:AE11) -> 6 | N11: 6
C12: 2018011010 | D12: 刘旭 | E12: =SUM(F12:AE12) -> 6 | V12: 6
C13: 2018011011 | D13: 刘宇浩 | E13: =SUM(F13:AE13) -> 21 | J13: 4 | M13: 3 | N13: 2 | S13: 6 | V13: 6
C14: 2018011012 | D14: 罗刚 | E14: =SUM(F14:AE14) -> 6 | J14: 2 | N14: 4
C15: 2018011013 | D15: 罗亚 | E15: =SUM(F15:AE15) -> 65 | H15: 3 | J15: 2 | R15: 44 | U15: 10 | V15: 6
C16: 2018011015 | D16: 苏伯原 | E16: =SUM(F16:AE16) -> 6 | V16: 6
C17: 2018011016 | D17: 孙拓 | E17: =SUM(F17:AE17) -> 8 | J17: 2 | S17: 6
C18: 2018011018 | D18: 王思斌 | E18: =SUM(F18:AE18) -> 2 | J18: 2
C19: 2018011019 | D19: 王振阳 | E19: =SUM(F19:AE19) -> 46 | J19: 2 | R19: 44
C20: 2018011020 | D20: 颜淼 | E20: =SUM(F20:AE20) -> 71 | G20: 3 | H20: 3 | J20: 2 | K20: 3 | R20: 44 | U20: 10 | V20: 6
C21: 2018011021 | D21: 杨浩杰 | E21: =SUM(F21:AE21) -> 2 | J21: 2
C22: 2018011022 | D22: 尧仕杰 | E22: =SUM(F22:AE22) -> 118 | H22: 3 | J22: 2 | M22: 3 | P22: 20 | S22: 6 | W22: 84
C23: 2018011023 | D23: 张聪 | E23: =SUM(F23:AE23) -> 3.5 | I23: 1.5 | J23: 2
C24: 2018011024 | D24: 张浩 | E24: =SUM(F24:AE24) -> 24.5 | I24: 1.5 | J24: 2 | K24: 3 | U24: 18
C25: 2018011027 | D25: 赵东岳 | E25: =SUM(F25:AE25) -> 91 | G25: 3 | M25: 3 | O25: 35 | R25: 44 | S25: 6
C26: 2018011028 | D26: 仲腾飞 | E26: =SUM(F26:AE26) -> 2 | J26: 2

Sheet 20180111
A1: 2019年下学期20180111班公益学时公布表
A2: 班级 | B2: 总学时 | C2: 参与人员 | E2: 个人总学时 | F2: 以院系或团委、学生会、学指为单位开展的公益活动 | H2: 以团支部为单位开展的公益活动 | J2: 小红帽组织开展的公益活动 | K2: 私人型公益活动
C3: 学号 | D3: 姓名 | G3: 暑期社会实践活动三下乡 | H3: 3.9班助一 | I3: 3.16班助一 | J3: 6.8海洋公益慢跑 | K3: 5.1718国际会议志愿者 | L3: 校运动会志愿者 | M3: 6.4船海楼档案整理 | N3: 2019年新生导航员 | O3: 海航器志愿者 | P3: 2019年迎新工作人员 | Q3: 高招会志愿者 | R3: 海航器赛后物资回收
A4: 20180111 | B4: =SUM(E4:E29) -> 596 | C4: 2018011102 | D4: 陈旭龙 | E4: =SUM(F4:Y4) -> 51 | H4: 3 | O4: 44 | Q4: 4
C5: 2018011104 | D5: 邓宇飞 | E5: =SUM(F5:Y5) -> 63 | G5: 10 | H5: 3 | M5: 3 | O5: 44 | R5: 3
C6: 2018011105 | D6: 冯子轩 | E6: =SUM(F6:Y6) -> 3 | H6: 3
C7: 2018011106 | D7: 付清阳 | E7: =SUM(F7:Y7) -> 56 | N7: 6 | O7: 44 | P7: 6
C8: 2018011107 | D8: 傅禹舜 | E8: =SUM(F8:Y8) -> 49 | H8: 3 | J8: 2 | O8: 44
C9: 2018011108 | D9: 黄胜辉 | E9: =SUM(F9:Y9) -> 2 | J9: 2
C10: 2018011109 | D10: 李航 | E10: =SUM(F10:Y10) -> 49 | I10: 3 | J10: 2 | O10: 44
C11: 2018011110 | D11: 李庆勇 | E11: =SUM(F11:Y11) -> 49 | I11: 3 | J11: 2 | O11: 44
C12: 2018011111 | D12: 李想 | E12: =SUM(F12:Y12) -> 51 | I12: 3 | J12: 4 | O12: 44
C13: 2018011112 | D13: 凌小君 | E13: =SUM(F13:Y13) -> 54 | J13: 2 | K13: 8 | O13: 44
C14: 2018011113 | D14: 钱坤 | E14: =SUM(F14:Y14) -> 11 | I14: 3 | J14: 2 | N14: 6
C15: 2018011114 | D15: 阮少卿 | E15: =SUM(F15:Y15) -> 2 | J15: 2
C16: 2018011115 | D16: 覃鑫朕 | E16: =SUM(F16:Y16) -> 2 | J16: 2
C17: 2018011116 | D17: 王晨轶 | E17: =SUM(F17:Y17) -> 0
C18: 2018011117 | D18: 王洪耀 | E18: =SUM(F18:Y18) -> 48 | J18: 2 | N18: 6 | O18: 40
C19: 2018011118 | D19: 王琪 | E19: =SUM(F19:Y19) -> 0
C20: 2018011119 | D20: 王一非 | E20: =SUM(F20:Y20) -> 0
C21: 2018011120 | D21: 谢永志 | E21: =SUM(F21:Y21) -> 8 | J21: 2 | P21: 6
C22: 2018011121 | D22: 徐庆丰 | E22: =SUM(F22:Y22) -> 2 | J22: 2
C23: 2018011122 | D23: 易鹏 | E23: =SUM(F23:Y23) -> 0
C24: 2018011123 | D24: 喻睿 | E24: =SUM(F24:Y24) -> 40 | O24: 40
C25: 2018011124 | D25: 张千 | E25: =SUM(F25:Y25) -> 56 | G25: 10 | J25: 2 | O25: 44
C26: 2018011125 | D26: 张玉欣 | E26: =SUM(F26:Y26) -> 0
C27: 2018011126 | D27: 赵振兴 | E27: =SUM(F27:Y27) -> 0
C28: 2018011127 | D28: 郑凯文 | E28: =SUM(F28:Y28) -> 0
C29: 2018011128 | D29: 周嘉伟 | E29: =SUM(F29:Y29) -> 0

Sheet 20180112
A1: 2019年下学期20180112班公益学时公布表
A2: 班级 | B2: 总学时 | C2: 参与人员 | E2: 个人总学时 | F2: 以院系或团委、学生会、学指为单位开展的公益活动 | G2: 以团支部为单位开展的公益活动 | H2: 小红帽组织开展的公益活动 | L2: 私人型公益活动
C3: 学号 | D3: 姓名 | H3: 3.9学雷锋社区 | I3: 3.10学雷锋敬老院 | J3: 4.5烈士陵园祭扫 | K3: 6.8海洋公益慢跑 | L3: 筑梦行动家教 | M3: 运动会志愿者 | N3: 汇流班助一志愿者 | O3: 海航器志愿者 | P3: 2019年新生导航员
A4: 20180112 | B4: =SUM(E4:E30) -> 437 | C4: 2018011201 | D4: 陈纪龙 | E4: =SUM(F4:AB4) -> 80 | K4: 2 | N4: 8 | O4: 64 | P4: 6
C5: 2018011202 | D5: 陈玮任 | E5: =SUM(F5:AB5) -> 78 | N5: 8 | O5: 64 | P5: 6
C6: 2018011203 | D6: 陈欣硕 | E6: =SUM(F6:AB6) -> 4 | N6: 4
C7: 2018011204 | D7: 杜钰清 | E7: =SUM(F7:AB7) -> 0
C8: 2018011205 | D8: 郭佳奇 | E8: =SUM(F8:AB8) -> 18 | K8: 2 | M8: 10 | P8: 6
C9: 2018011206 | D9: 解昕宇 | E9: =SUM(F9:AB9) -> 0
C10: 2018011207 | D10: 阚笑男 | E10: =SUM(F10:AB10) -> 29 | H10: 3 | L10: 16 | M10: 10
C11: 2018011208 | D11: 李翱 | E11: =SUM(F11:AB11) -> 46 | K11: 2 | O11: 44
C12: 2018011209 | D12: 李东寒 | E12: =SUM(F12:AB12) -> 44 | O12: 44
C13: 2018011211 | D13: 李瑞武 | E13: =SUM(F13:AB13) -> 6 | H13: 3 | J13: 3
C14: 2018011212 | D14: 凌蒙 | E14: =SUM(F14:AB14) -> 2 | K14: 2
C15: 2018011213 | D15: 刘志强 | E15: =SUM(F15:AB15) -> 0
C16: 2018011214 | D16: 马吉斌 | E16: =SUM(F16:AB16) -> 0
C17: 2018011215 | D17: 邱云聪 | E17: =SUM(F17:AB17) -> 2 | K17: 2
C18: 2018011216 | D18: 王俊龙 | E18: =SUM(F18:AB18) -> 0
C19: 2018011217 | D19: 王秦卫 | E19: =SUM(F19:AB19) -> 2 | K19: 2
C20: 2018011218 | D20: 魏雪 | E20: =SUM(F20:AB20) -> 0
C21: 2018011219 | D21: 夏云鹤 | E21: =SUM(F21:AB21) -> 0
C22: 2018011220 | D22: 肖杨珉 | E22: =SUM(F22:AB22) -> 8 | N22: 8
C23: 2018011221 | D23: 徐景全 | E23: =SUM(F23:AB23) -> 58 | N23: 8 | O23: 44 | P23: 6
C24: 2018011222 | D24: 闫玉宁 | E24: =SUM(F24:AB24) -> 0
C25: 2018011223 | D25: 张辰玺 | E25: =SUM(F25:AB25) -> 0
C26: 2018011224 | D26: 张家华 | E26: =SUM(F26:AB26) -> 56 | K26: 2 | N26: 4 | O26: 44 | P26: 6
C27: 2018011225 | D27: 张江轲 | E27: =SUM(F27:AB27) -> 0
C28: 2018011226 | D28: 张力麒 | E28: =SUM(F28:AB28) -> 0
C29: 2018011227 | D29: 张启昭 | E29: =SUM(F29:AB29) -> 2 | K29: 2
C30: 2018011228 | D30: 赵伟之 | E30: =SUM(F30:AB30) -> 2 | K30: 2
